BEGIN:VCALENDAR
PRODID:-//gdesolutions.com//MV Framework 1.0.0.1607 Calendar//EN
VERSION:2.0
METHOD:PUBLISH
CALSCALE:GREGORIAN
BEGIN:VEVENT
UID:g7a6b@games.golnetwork.com
LOCATION:Cherry Beach East 2
CREATED:20150706T150409Z
DTSTART:20150717T010000Z
DTEND:20150717T020000Z
DTSTAMP:20260420T145454Z
SUMMARY:Sweet Muffins vs. Samba
DESCRIPTION:Samba vs. Sweet MuffinsMore info: #53
X-ALT-DESC;FMTTYPE=text/html:<!DOCTYPE HTML PUBLIC "-//W3C//DTD HTML 3.2//E
	N">\n<HTML>\n<HEAD>\n<TITLE></TITLE>\n</HEAD>\n<BODY>\n<h3>Samba vs. Sweet 
	Muffins</h3>More info: <a href="https://www.golnetwork.com/game/v/71623/">#
	53</a>\n\n</BODY>\n</HTML>
STATUS:CONFIRMED
CLASS:PUBLIC
URL:https://www.golnetwork.com/game/v/71623/
X-MICROSOFT-CDO-BUSYSTATUS:BUSY
X-MICROSOFT-CDO-IMPORTANCE:1
END:VEVENT
BEGIN:VEVENT
UID:g7a6h@games.golnetwork.com
LOCATION:Cherry Beach East 1
CREATED:20150706T150409Z
DTSTART:20150717T020000Z
DTEND:20150717T030000Z
DTSTAMP:20260420T145454Z
SUMMARY: AtlÃ©tico EspaÃ±ol  vs. BC FC
DESCRIPTION:BC FC vs.  AtlÃ©tico EspaÃ±ol More info: #55
X-ALT-DESC;FMTTYPE=text/html:<!DOCTYPE HTML PUBLIC "-//W3C//DTD HTML 3.2//E
	N">\n<HTML>\n<HEAD>\n<TITLE></TITLE>\n</HEAD>\n<BODY>\n<h3>BC FC vs.  AtlÃ©
	tico EspaÃ±ol </h3>More info: <a href="https://www.golnetwork.com/game/v/71
	626/">#55</a>\n\n</BODY>\n</HTML>
STATUS:CONFIRMED
CLASS:PUBLIC
URL:https://www.golnetwork.com/game/v/71626/
X-MICROSOFT-CDO-BUSYSTATUS:BUSY
X-MICROSOFT-CDO-IMPORTANCE:1
END:VEVENT
BEGIN:VEVENT
UID:g7a6d@games.golnetwork.com
LOCATION:Cherry Beach East 2
CREATED:20150706T150409Z
DTSTART:20150717T020000Z
DTEND:20150717T030000Z
DTSTAMP:20260420T145454Z
SUMMARY:Hangover FC vs. The Hot Shots
DESCRIPTION:The Hot Shots vs. Hangover FCMore info: #56
X-ALT-DESC;FMTTYPE=text/html:<!DOCTYPE HTML PUBLIC "-//W3C//DTD HTML 3.2//E
	N">\n<HTML>\n<HEAD>\n<TITLE></TITLE>\n</HEAD>\n<BODY>\n<h3>The Hot Shots vs
	. Hangover FC</h3>More info: <a href="https://www.golnetwork.com/game/v/716
	24/">#56</a>\n\n</BODY>\n</HTML>
STATUS:CONFIRMED
CLASS:PUBLIC
URL:https://www.golnetwork.com/game/v/71624/
X-MICROSOFT-CDO-BUSYSTATUS:BUSY
X-MICROSOFT-CDO-IMPORTANCE:1
END:VEVENT
BEGIN:VEVENT
UID:g7a6f@games.golnetwork.com
LOCATION:Cherry Beach East 2
CREATED:20150706T150409Z
DTSTART:20150717T030000Z
DTEND:20150717T040000Z
DTSTAMP:20260420T145454Z
SUMMARY:Arse-nil vs. The Cheatin Refs
DESCRIPTION:The Cheatin Refs vs. Arse-nilMore info: #59
X-ALT-DESC;FMTTYPE=text/html:<!DOCTYPE HTML PUBLIC "-//W3C//DTD HTML 3.2//E
	N">\n<HTML>\n<HEAD>\n<TITLE></TITLE>\n</HEAD>\n<BODY>\n<h3>The Cheatin Refs
	 vs. Arse-nil</h3>More info: <a href="https://www.golnetwork.com/game/v/716
	25/">#59</a>\n\n</BODY>\n</HTML>
STATUS:CONFIRMED
CLASS:PUBLIC
URL:https://www.golnetwork.com/game/v/71625/
X-MICROSOFT-CDO-BUSYSTATUS:BUSY
X-MICROSOFT-CDO-IMPORTANCE:1
END:VEVENT
BEGIN:VEVENT
UID:g7a6n@games.golnetwork.com
LOCATION:Cherry Beach East 2
CREATED:20150706T150409Z
DTSTART:20150724T010000Z
DTEND:20150724T020000Z
DTSTAMP:20260420T145454Z
SUMMARY: AtlÃ©tico EspaÃ±ol  vs. The Hot Shots
DESCRIPTION:The Hot Shots vs.  AtlÃ©tico EspaÃ±ol More info: #103
X-ALT-DESC;FMTTYPE=text/html:<!DOCTYPE HTML PUBLIC "-//W3C//DTD HTML 3.2//E
	N">\n<HTML>\n<HEAD>\n<TITLE></TITLE>\n</HEAD>\n<BODY>\n<h3>The Hot Shots vs
	.  AtlÃ©tico EspaÃ±ol </h3>More info: <a href="https://www.golnetwork.com/g
	ame/v/71629/">#103</a>\n\n</BODY>\n</HTML>
STATUS:CONFIRMED
CLASS:PUBLIC
URL:https://www.golnetwork.com/game/v/71629/
X-MICROSOFT-CDO-BUSYSTATUS:BUSY
X-MICROSOFT-CDO-IMPORTANCE:1
END:VEVENT
BEGIN:VEVENT
UID:g7a6j@games.golnetwork.com
LOCATION:Cherry Beach East 1
CREATED:20150706T150409Z
DTSTART:20150724T020000Z
DTEND:20150724T030000Z
DTSTAMP:20260420T145454Z
SUMMARY:Hangover FC vs. Sweet Muffins
DESCRIPTION:Sweet Muffins vs. Hangover FCMore info: #105
X-ALT-DESC;FMTTYPE=text/html:<!DOCTYPE HTML PUBLIC "-//W3C//DTD HTML 3.2//E
	N">\n<HTML>\n<HEAD>\n<TITLE></TITLE>\n</HEAD>\n<BODY>\n<h3>Sweet Muffins vs
	. Hangover FC</h3>More info: <a href="https://www.golnetwork.com/game/v/716
	27/">#105</a>\n\n</BODY>\n</HTML>
STATUS:CONFIRMED
CLASS:PUBLIC
URL:https://www.golnetwork.com/game/v/71627/
X-MICROSOFT-CDO-BUSYSTATUS:BUSY
X-MICROSOFT-CDO-IMPORTANCE:1
END:VEVENT
BEGIN:VEVENT
UID:g7a6l@games.golnetwork.com
LOCATION:Cherry Beach East 2
CREATED:20150706T150409Z
DTSTART:20150724T020000Z
DTEND:20150724T030000Z
DTSTAMP:20260420T145454Z
SUMMARY:Arse-nil vs. Samba
DESCRIPTION:Samba vs. Arse-nilMore info: #106
X-ALT-DESC;FMTTYPE=text/html:<!DOCTYPE HTML PUBLIC "-//W3C//DTD HTML 3.2//E
	N">\n<HTML>\n<HEAD>\n<TITLE></TITLE>\n</HEAD>\n<BODY>\n<h3>Samba vs. Arse-n
	il</h3>More info: <a href="https://www.golnetwork.com/game/v/71628/">#106</
	a>\n\n</BODY>\n</HTML>
STATUS:CONFIRMED
CLASS:PUBLIC
URL:https://www.golnetwork.com/game/v/71628/
X-MICROSOFT-CDO-BUSYSTATUS:BUSY
X-MICROSOFT-CDO-IMPORTANCE:1
END:VEVENT
BEGIN:VEVENT
UID:g7a6p@games.golnetwork.com
LOCATION:Cherry Beach East 2
CREATED:20150706T150409Z
DTSTART:20150724T030000Z
DTEND:20150724T040000Z
DTSTAMP:20260420T145454Z
SUMMARY:BC FC vs. The Cheatin Refs
DESCRIPTION:The Cheatin Refs vs. BC FCMore info: #109
X-ALT-DESC;FMTTYPE=text/html:<!DOCTYPE HTML PUBLIC "-//W3C//DTD HTML 3.2//E
	N">\n<HTML>\n<HEAD>\n<TITLE></TITLE>\n</HEAD>\n<BODY>\n<h3>The Cheatin Refs
	 vs. BC FC</h3>More info: <a href="https://www.golnetwork.com/game/v/71630/
	">#109</a>\n\n</BODY>\n</HTML>
STATUS:CONFIRMED
CLASS:PUBLIC
URL:https://www.golnetwork.com/game/v/71630/
X-MICROSOFT-CDO-BUSYSTATUS:BUSY
X-MICROSOFT-CDO-IMPORTANCE:1
END:VEVENT
BEGIN:VEVENT
UID:g7a70@games.golnetwork.com
LOCATION:Cherry Beach East 2
CREATED:20150706T150409Z
DTSTART:20150731T010000Z
DTEND:20150731T020000Z
DTSTAMP:20260420T145454Z
SUMMARY:Sweet Muffins vs. Arse-nil
DESCRIPTION:Arse-nil vs. Sweet MuffinsMore info: #146
X-ALT-DESC;FMTTYPE=text/html:<!DOCTYPE HTML PUBLIC "-//W3C//DTD HTML 3.2//E
	N">\n<HTML>\n<HEAD>\n<TITLE></TITLE>\n</HEAD>\n<BODY>\n<h3>Arse-nil vs. Swe
	et Muffins</h3>More info: <a href="https://www.golnetwork.com/game/v/71631/
	">#146</a>\n\n</BODY>\n</HTML>
STATUS:CONFIRMED
CLASS:PUBLIC
URL:https://www.golnetwork.com/game/v/71631/
X-MICROSOFT-CDO-BUSYSTATUS:BUSY
X-MICROSOFT-CDO-IMPORTANCE:1
END:VEVENT
BEGIN:VEVENT
UID:g7a72@games.golnetwork.com
LOCATION:Cherry Beach East 1
CREATED:20150706T150409Z
DTSTART:20150731T020000Z
DTEND:20150731T030000Z
DTSTAMP:20260420T145454Z
SUMMARY: AtlÃ©tico EspaÃ±ol  vs. Hangover FC
DESCRIPTION:Hangover FC vs.  AtlÃ©tico EspaÃ±ol More info: #148
X-ALT-DESC;FMTTYPE=text/html:<!DOCTYPE HTML PUBLIC "-//W3C//DTD HTML 3.2//E
	N">\n<HTML>\n<HEAD>\n<TITLE></TITLE>\n</HEAD>\n<BODY>\n<h3>Hangover FC vs. 
	 AtlÃ©tico EspaÃ±ol </h3>More info: <a href="https://www.golnetwork.com/gam
	e/v/71632/">#148</a>\n\n</BODY>\n</HTML>
STATUS:CONFIRMED
CLASS:PUBLIC
URL:https://www.golnetwork.com/game/v/71632/
X-MICROSOFT-CDO-BUSYSTATUS:BUSY
X-MICROSOFT-CDO-IMPORTANCE:1
END:VEVENT
BEGIN:VEVENT
UID:g7a74@games.golnetwork.com
LOCATION:Cherry Beach East 2
CREATED:20150706T150409Z
DTSTART:20150731T020000Z
DTEND:20150731T030000Z
DTSTAMP:20260420T145454Z
SUMMARY:BC FC vs. Samba
DESCRIPTION:Samba vs. BC FCMore info: #149
X-ALT-DESC;FMTTYPE=text/html:<!DOCTYPE HTML PUBLIC "-//W3C//DTD HTML 3.2//E
	N">\n<HTML>\n<HEAD>\n<TITLE></TITLE>\n</HEAD>\n<BODY>\n<h3>Samba vs. BC FC<
	/h3>More info: <a href="https://www.golnetwork.com/game/v/71633/">#149</a>\
	n\n</BODY>\n</HTML>
STATUS:CONFIRMED
CLASS:PUBLIC
URL:https://www.golnetwork.com/game/v/71633/
X-MICROSOFT-CDO-BUSYSTATUS:BUSY
X-MICROSOFT-CDO-IMPORTANCE:1
END:VEVENT
BEGIN:VEVENT
UID:g7a76@games.golnetwork.com
LOCATION:Cherry Beach East 2
CREATED:20150706T150409Z
DTSTART:20150731T030000Z
DTEND:20150731T040000Z
DTSTAMP:20260420T145454Z
SUMMARY:The Cheatin Refs vs. The Hot Shots
DESCRIPTION:The Hot Shots vs. The Cheatin RefsMore info: #152
X-ALT-DESC;FMTTYPE=text/html:<!DOCTYPE HTML PUBLIC "-//W3C//DTD HTML 3.2//E
	N">\n<HTML>\n<HEAD>\n<TITLE></TITLE>\n</HEAD>\n<BODY>\n<h3>The Hot Shots vs
	. The Cheatin Refs</h3>More info: <a href="https://www.golnetwork.com/game/
	v/71634/">#152</a>\n\n</BODY>\n</HTML>
STATUS:CONFIRMED
CLASS:PUBLIC
URL:https://www.golnetwork.com/game/v/71634/
X-MICROSOFT-CDO-BUSYSTATUS:BUSY
X-MICROSOFT-CDO-IMPORTANCE:1
END:VEVENT
BEGIN:VEVENT
UID:g7a7a@games.golnetwork.com
LOCATION:Cherry Beach East 2
CREATED:20150706T150409Z
DTSTART:20150807T010000Z
DTEND:20150807T020000Z
DTSTAMP:20260420T145454Z
SUMMARY:BC FC vs. Arse-nil
DESCRIPTION:Arse-nil vs. BC FCMore info: #172
X-ALT-DESC;FMTTYPE=text/html:<!DOCTYPE HTML PUBLIC "-//W3C//DTD HTML 3.2//E
	N">\n<HTML>\n<HEAD>\n<TITLE></TITLE>\n</HEAD>\n<BODY>\n<h3>Arse-nil vs. BC 
	FC</h3>More info: <a href="https://www.golnetwork.com/game/v/71636/">#172</
	a>\n\n</BODY>\n</HTML>
STATUS:CONFIRMED
CLASS:PUBLIC
URL:https://www.golnetwork.com/game/v/71636/
X-MICROSOFT-CDO-BUSYSTATUS:BUSY
X-MICROSOFT-CDO-IMPORTANCE:1
END:VEVENT
BEGIN:VEVENT
UID:g7a78@games.golnetwork.com
LOCATION:Cherry Beach East 1
CREATED:20150706T150409Z
DTSTART:20150807T020000Z
DTEND:20150807T030000Z
DTSTAMP:20260420T145454Z
SUMMARY: AtlÃ©tico EspaÃ±ol  vs. Sweet Muffins
DESCRIPTION:Sweet Muffins vs.  AtlÃ©tico EspaÃ±ol More info: #174
X-ALT-DESC;FMTTYPE=text/html:<!DOCTYPE HTML PUBLIC "-//W3C//DTD HTML 3.2//E
	N">\n<HTML>\n<HEAD>\n<TITLE></TITLE>\n</HEAD>\n<BODY>\n<h3>Sweet Muffins vs
	.  AtlÃ©tico EspaÃ±ol </h3>More info: <a href="https://www.golnetwork.com/g
	ame/v/71635/">#174</a>\n\n</BODY>\n</HTML>
STATUS:CONFIRMED
CLASS:PUBLIC
URL:https://www.golnetwork.com/game/v/71635/
X-MICROSOFT-CDO-BUSYSTATUS:BUSY
X-MICROSOFT-CDO-IMPORTANCE:1
END:VEVENT
BEGIN:VEVENT
UID:g7a7e@games.golnetwork.com
LOCATION:Cherry Beach East 2
CREATED:20150706T150409Z
DTSTART:20150807T020000Z
DTEND:20150807T030000Z
DTSTAMP:20260420T145454Z
SUMMARY:The Hot Shots vs. Samba
DESCRIPTION:Samba vs. The Hot ShotsMore info: #175
X-ALT-DESC;FMTTYPE=text/html:<!DOCTYPE HTML PUBLIC "-//W3C//DTD HTML 3.2//E
	N">\n<HTML>\n<HEAD>\n<TITLE></TITLE>\n</HEAD>\n<BODY>\n<h3>Samba vs. The Ho
	t Shots</h3>More info: <a href="https://www.golnetwork.com/game/v/71638/">#
	175</a>\n\n</BODY>\n</HTML>
STATUS:CONFIRMED
CLASS:PUBLIC
URL:https://www.golnetwork.com/game/v/71638/
X-MICROSOFT-CDO-BUSYSTATUS:BUSY
X-MICROSOFT-CDO-IMPORTANCE:1
END:VEVENT
BEGIN:VEVENT
UID:g7a7c@games.golnetwork.com
LOCATION:Cherry Beach East 2
CREATED:20150706T150409Z
DTSTART:20150807T030000Z
DTEND:20150807T040000Z
DTSTAMP:20260420T145454Z
SUMMARY:The Cheatin Refs vs. Hangover FC
DESCRIPTION:Hangover FC vs. The Cheatin RefsMore info: #178
X-ALT-DESC;FMTTYPE=text/html:<!DOCTYPE HTML PUBLIC "-//W3C//DTD HTML 3.2//E
	N">\n<HTML>\n<HEAD>\n<TITLE></TITLE>\n</HEAD>\n<BODY>\n<h3>Hangover FC vs. 
	The Cheatin Refs</h3>More info: <a href="https://www.golnetwork.com/game/v/
	71637/">#178</a>\n\n</BODY>\n</HTML>
STATUS:CONFIRMED
CLASS:PUBLIC
URL:https://www.golnetwork.com/game/v/71637/
X-MICROSOFT-CDO-BUSYSTATUS:BUSY
X-MICROSOFT-CDO-IMPORTANCE:1
END:VEVENT
BEGIN:VEVENT
UID:g7a7m@games.golnetwork.com
LOCATION:Cherry Beach East 2
CREATED:20150706T150409Z
DTSTART:20150814T010000Z
DTEND:20150814T020000Z
DTSTAMP:20260420T145454Z
SUMMARY:Samba vs. Hangover FC
DESCRIPTION:Hangover FC vs. SambaMore info: #226
X-ALT-DESC;FMTTYPE=text/html:<!DOCTYPE HTML PUBLIC "-//W3C//DTD HTML 3.2//E
	N">\n<HTML>\n<HEAD>\n<TITLE></TITLE>\n</HEAD>\n<BODY>\n<h3>Hangover FC vs. 
	Samba</h3>More info: <a href="https://www.golnetwork.com/game/v/71642/">#22
	6</a>\n\n</BODY>\n</HTML>
STATUS:CONFIRMED
CLASS:PUBLIC
URL:https://www.golnetwork.com/game/v/71642/
X-MICROSOFT-CDO-BUSYSTATUS:BUSY
X-MICROSOFT-CDO-IMPORTANCE:1
END:VEVENT
BEGIN:VEVENT
UID:g7a7k@games.golnetwork.com
LOCATION:Cherry Beach East 1
CREATED:20150706T150409Z
DTSTART:20150814T020000Z
DTEND:20150814T030000Z
DTSTAMP:20260420T145454Z
SUMMARY:The Hot Shots vs. Arse-nil
DESCRIPTION:Arse-nil vs. The Hot ShotsMore info: #228
X-ALT-DESC;FMTTYPE=text/html:<!DOCTYPE HTML PUBLIC "-//W3C//DTD HTML 3.2//E
	N">\n<HTML>\n<HEAD>\n<TITLE></TITLE>\n</HEAD>\n<BODY>\n<h3>Arse-nil vs. The
	 Hot Shots</h3>More info: <a href="https://www.golnetwork.com/game/v/71641/
	">#228</a>\n\n</BODY>\n</HTML>
STATUS:CONFIRMED
CLASS:PUBLIC
URL:https://www.golnetwork.com/game/v/71641/
X-MICROSOFT-CDO-BUSYSTATUS:BUSY
X-MICROSOFT-CDO-IMPORTANCE:1
END:VEVENT
BEGIN:VEVENT
UID:g7a7g@games.golnetwork.com
LOCATION:Cherry Beach East 2
CREATED:20150706T150409Z
DTSTART:20150814T020000Z
DTEND:20150814T030000Z
DTSTAMP:20260420T145454Z
SUMMARY:Sweet Muffins vs. BC FC
DESCRIPTION:BC FC vs. Sweet MuffinsMore info: #229
X-ALT-DESC;FMTTYPE=text/html:<!DOCTYPE HTML PUBLIC "-//W3C//DTD HTML 3.2//E
	N">\n<HTML>\n<HEAD>\n<TITLE></TITLE>\n</HEAD>\n<BODY>\n<h3>BC FC vs. Sweet 
	Muffins</h3>More info: <a href="https://www.golnetwork.com/game/v/71639/">#
	229</a>\n\n</BODY>\n</HTML>
STATUS:CONFIRMED
CLASS:PUBLIC
URL:https://www.golnetwork.com/game/v/71639/
X-MICROSOFT-CDO-BUSYSTATUS:BUSY
X-MICROSOFT-CDO-IMPORTANCE:1
END:VEVENT
BEGIN:VEVENT
UID:g7a7i@games.golnetwork.com
LOCATION:Cherry Beach East 2
CREATED:20150706T150409Z
DTSTART:20150814T030000Z
DTEND:20150814T040000Z
DTSTAMP:20260420T145454Z
SUMMARY:The Cheatin Refs vs.  AtlÃ©tico EspaÃ±ol 
DESCRIPTION: AtlÃ©tico EspaÃ±ol  vs. The Cheatin RefsMore info: #232
X-ALT-DESC;FMTTYPE=text/html:<!DOCTYPE HTML PUBLIC "-//W3C//DTD HTML 3.2//E
	N">\n<HTML>\n<HEAD>\n<TITLE></TITLE>\n</HEAD>\n<BODY>\n<h3> AtlÃ©tico EspaÃ
	±ol  vs. The Cheatin Refs</h3>More info: <a href="https://www.golnetwork.co
	m/game/v/71640/">#232</a>\n\n</BODY>\n</HTML>
STATUS:CONFIRMED
CLASS:PUBLIC
URL:https://www.golnetwork.com/game/v/71640/
X-MICROSOFT-CDO-BUSYSTATUS:BUSY
X-MICROSOFT-CDO-IMPORTANCE:1
END:VEVENT
BEGIN:VEVENT
UID:g7a83@games.golnetwork.com
LOCATION:Cherry Beach East 2
CREATED:20150706T150409Z
DTSTART:20150821T010000Z
DTEND:20150821T020000Z
DTSTAMP:20260420T145454Z
SUMMARY:Hangover FC vs. Arse-nil
DESCRIPTION:Arse-nil vs. Hangover FCMore info: #280
X-ALT-DESC;FMTTYPE=text/html:<!DOCTYPE HTML PUBLIC "-//W3C//DTD HTML 3.2//E
	N">\n<HTML>\n<HEAD>\n<TITLE></TITLE>\n</HEAD>\n<BODY>\n<h3>Arse-nil vs. Han
	gover FC</h3>More info: <a href="https://www.golnetwork.com/game/v/71646/">
	#280</a>\n\n</BODY>\n</HTML>
STATUS:CONFIRMED
CLASS:PUBLIC
URL:https://www.golnetwork.com/game/v/71646/
X-MICROSOFT-CDO-BUSYSTATUS:BUSY
X-MICROSOFT-CDO-IMPORTANCE:1
END:VEVENT
BEGIN:VEVENT
UID:g7a7q@games.golnetwork.com
LOCATION:Cherry Beach East 1
CREATED:20150706T150409Z
DTSTART:20150821T020000Z
DTEND:20150821T030000Z
DTSTAMP:20260420T145454Z
SUMMARY:The Hot Shots vs. BC FC
DESCRIPTION:BC FC vs. The Hot ShotsMore info: #282
X-ALT-DESC;FMTTYPE=text/html:<!DOCTYPE HTML PUBLIC "-//W3C//DTD HTML 3.2//E
	N">\n<HTML>\n<HEAD>\n<TITLE></TITLE>\n</HEAD>\n<BODY>\n<h3>BC FC vs. The Ho
	t Shots</h3>More info: <a href="https://www.golnetwork.com/game/v/71644/">#
	282</a>\n\n</BODY>\n</HTML>
STATUS:CONFIRMED
CLASS:PUBLIC
URL:https://www.golnetwork.com/game/v/71644/
X-MICROSOFT-CDO-BUSYSTATUS:BUSY
X-MICROSOFT-CDO-IMPORTANCE:1
END:VEVENT
BEGIN:VEVENT
UID:g7a81@games.golnetwork.com
LOCATION:Cherry Beach East 2
CREATED:20150706T150409Z
DTSTART:20150821T020000Z
DTEND:20150821T030000Z
DTSTAMP:20260420T145454Z
SUMMARY:Samba vs.  AtlÃ©tico EspaÃ±ol 
DESCRIPTION: AtlÃ©tico EspaÃ±ol  vs. SambaMore info: #283
X-ALT-DESC;FMTTYPE=text/html:<!DOCTYPE HTML PUBLIC "-//W3C//DTD HTML 3.2//E
	N">\n<HTML>\n<HEAD>\n<TITLE></TITLE>\n</HEAD>\n<BODY>\n<h3> AtlÃ©tico EspaÃ
	±ol  vs. Samba</h3>More info: <a href="https://www.golnetwork.com/game/v/71
	645/">#283</a>\n\n</BODY>\n</HTML>
STATUS:CONFIRMED
CLASS:PUBLIC
URL:https://www.golnetwork.com/game/v/71645/
X-MICROSOFT-CDO-BUSYSTATUS:BUSY
X-MICROSOFT-CDO-IMPORTANCE:1
END:VEVENT
BEGIN:VEVENT
UID:g7a7o@games.golnetwork.com
LOCATION:Cherry Beach East 2
CREATED:20150706T150409Z
DTSTART:20150821T030000Z
DTEND:20150821T040000Z
DTSTAMP:20260420T145454Z
SUMMARY:The Cheatin Refs vs. Sweet Muffins
DESCRIPTION:Sweet Muffins vs. The Cheatin RefsMore info: #286
X-ALT-DESC;FMTTYPE=text/html:<!DOCTYPE HTML PUBLIC "-//W3C//DTD HTML 3.2//E
	N">\n<HTML>\n<HEAD>\n<TITLE></TITLE>\n</HEAD>\n<BODY>\n<h3>Sweet Muffins vs
	. The Cheatin Refs</h3>More info: <a href="https://www.golnetwork.com/game/
	v/71643/">#286</a>\n\n</BODY>\n</HTML>
STATUS:CONFIRMED
CLASS:PUBLIC
URL:https://www.golnetwork.com/game/v/71643/
X-MICROSOFT-CDO-BUSYSTATUS:BUSY
X-MICROSOFT-CDO-IMPORTANCE:1
END:VEVENT
BEGIN:VEVENT
UID:g7a89@games.golnetwork.com
LOCATION:Cherry Beach East 2
CREATED:20150706T150409Z
DTSTART:20150828T010000Z
DTEND:20150828T020000Z
DTSTAMP:20260420T145454Z
SUMMARY:Hangover FC vs. BC FC
DESCRIPTION:BC FC vs. Hangover FCMore info: #328
X-ALT-DESC;FMTTYPE=text/html:<!DOCTYPE HTML PUBLIC "-//W3C//DTD HTML 3.2//E
	N">\n<HTML>\n<HEAD>\n<TITLE></TITLE>\n</HEAD>\n<BODY>\n<h3>BC FC vs. Hangov
	er FC</h3>More info: <a href="https://www.golnetwork.com/game/v/71649/">#32
	8</a>\n\n</BODY>\n</HTML>
STATUS:CONFIRMED
CLASS:PUBLIC
URL:https://www.golnetwork.com/game/v/71649/
X-MICROSOFT-CDO-BUSYSTATUS:BUSY
X-MICROSOFT-CDO-IMPORTANCE:1
END:VEVENT
BEGIN:VEVENT
UID:g7a85@games.golnetwork.com
LOCATION:Cherry Beach East 1
CREATED:20150706T150409Z
DTSTART:20150828T020000Z
DTEND:20150828T030000Z
DTSTAMP:20260420T145454Z
SUMMARY:Sweet Muffins vs. The Hot Shots
DESCRIPTION:The Hot Shots vs. Sweet MuffinsMore info: #330
X-ALT-DESC;FMTTYPE=text/html:<!DOCTYPE HTML PUBLIC "-//W3C//DTD HTML 3.2//E
	N">\n<HTML>\n<HEAD>\n<TITLE></TITLE>\n</HEAD>\n<BODY>\n<h3>The Hot Shots vs
	. Sweet Muffins</h3>More info: <a href="https://www.golnetwork.com/game/v/7
	1647/">#330</a>\n\n</BODY>\n</HTML>
STATUS:CONFIRMED
CLASS:PUBLIC
URL:https://www.golnetwork.com/game/v/71647/
X-MICROSOFT-CDO-BUSYSTATUS:BUSY
X-MICROSOFT-CDO-IMPORTANCE:1
END:VEVENT
BEGIN:VEVENT
UID:g7a8b@games.golnetwork.com
LOCATION:Cherry Beach East 2
CREATED:20150706T150409Z
DTSTART:20150828T020000Z
DTEND:20150828T030000Z
DTSTAMP:20260420T145454Z
SUMMARY:Arse-nil vs.  AtlÃ©tico EspaÃ±ol 
DESCRIPTION: AtlÃ©tico EspaÃ±ol  vs. Arse-nilMore info: #331
X-ALT-DESC;FMTTYPE=text/html:<!DOCTYPE HTML PUBLIC "-//W3C//DTD HTML 3.2//E
	N">\n<HTML>\n<HEAD>\n<TITLE></TITLE>\n</HEAD>\n<BODY>\n<h3> AtlÃ©tico EspaÃ
	±ol  vs. Arse-nil</h3>More info: <a href="https://www.golnetwork.com/game/v
	/71650/">#331</a>\n\n</BODY>\n</HTML>
STATUS:CONFIRMED
CLASS:PUBLIC
URL:https://www.golnetwork.com/game/v/71650/
X-MICROSOFT-CDO-BUSYSTATUS:BUSY
X-MICROSOFT-CDO-IMPORTANCE:1
END:VEVENT
BEGIN:VEVENT
UID:g7a87@games.golnetwork.com
LOCATION:Cherry Beach East 2
CREATED:20150706T150409Z
DTSTART:20150828T030000Z
DTEND:20150828T040000Z
DTSTAMP:20260420T145454Z
SUMMARY:Samba vs. The Cheatin Refs
DESCRIPTION:The Cheatin Refs vs. SambaMore info: #334
X-ALT-DESC;FMTTYPE=text/html:<!DOCTYPE HTML PUBLIC "-//W3C//DTD HTML 3.2//E
	N">\n<HTML>\n<HEAD>\n<TITLE></TITLE>\n</HEAD>\n<BODY>\n<h3>The Cheatin Refs
	 vs. Samba</h3>More info: <a href="https://www.golnetwork.com/game/v/71648/
	">#334</a>\n\n</BODY>\n</HTML>
STATUS:CONFIRMED
CLASS:PUBLIC
URL:https://www.golnetwork.com/game/v/71648/
X-MICROSOFT-CDO-BUSYSTATUS:BUSY
X-MICROSOFT-CDO-IMPORTANCE:1
END:VEVENT
BEGIN:VEVENT
UID:g79o2@games.golnetwork.com
LOCATION:Cherry Beach East 2
CREATED:20150702T200637Z
DTSTART:20150904T020000Z
DTEND:20150904T030000Z
DTSTAMP:20260420T145454Z
SUMMARY:The Hot Shots vs. Samba
DESCRIPTION:Samba vs. The Hot ShotsMore info: #381
X-ALT-DESC;FMTTYPE=text/html:<!DOCTYPE HTML PUBLIC "-//W3C//DTD HTML 3.2//E
	N">\n<HTML>\n<HEAD>\n<TITLE></TITLE>\n</HEAD>\n<BODY>\n<h3>Samba vs. The Ho
	t Shots</h3>More info: <a href="https://www.golnetwork.com/game/v/71497/">#
	381</a>\n\n</BODY>\n</HTML>
STATUS:CONFIRMED
CLASS:PUBLIC
URL:https://www.golnetwork.com/game/v/71497/
X-MICROSOFT-CDO-BUSYSTATUS:BUSY
X-MICROSOFT-CDO-IMPORTANCE:1
END:VEVENT
BEGIN:VEVENT
UID:g79o6@games.golnetwork.com
LOCATION:Cherry Beach West 3
CREATED:20150702T200637Z
DTSTART:20150904T030000Z
DTEND:20150904T040000Z
DTSTAMP:20260420T145454Z
SUMMARY:BC FC vs.  AtlÃ©tico EspaÃ±ol 
DESCRIPTION: AtlÃ©tico EspaÃ±ol  vs. BC FCMore info: #383
X-ALT-DESC;FMTTYPE=text/html:<!DOCTYPE HTML PUBLIC "-//W3C//DTD HTML 3.2//E
	N">\n<HTML>\n<HEAD>\n<TITLE></TITLE>\n</HEAD>\n<BODY>\n<h3> AtlÃ©tico EspaÃ
	±ol  vs. BC FC</h3>More info: <a href="https://www.golnetwork.com/game/v/71
	499/">#383</a>\n\n</BODY>\n</HTML>
STATUS:CONFIRMED
CLASS:PUBLIC
URL:https://www.golnetwork.com/game/v/71499/
X-MICROSOFT-CDO-BUSYSTATUS:BUSY
X-MICROSOFT-CDO-IMPORTANCE:1
END:VEVENT
BEGIN:VEVENT
UID:g79oa@games.golnetwork.com
LOCATION:Cherry Beach East 2
CREATED:20150702T200637Z
DTSTART:20150911T010000Z
DTEND:20150911T020000Z
DTSTAMP:20260420T145454Z
SUMMARY:BC FC vs. Samba
DESCRIPTION:Samba vs. BC FCMore info: #396
X-ALT-DESC;FMTTYPE=text/html:<!DOCTYPE HTML PUBLIC "-//W3C//DTD HTML 3.2//E
	N">\n<HTML>\n<HEAD>\n<TITLE></TITLE>\n</HEAD>\n<BODY>\n<h3>Samba vs. BC FC<
	/h3>More info: <a href="https://www.golnetwork.com/game/v/71501/">#396</a>\
	n\n</BODY>\n</HTML>
STATUS:CONFIRMED
CLASS:PUBLIC
URL:https://www.golnetwork.com/game/v/71501/
X-MICROSOFT-CDO-BUSYSTATUS:BUSY
X-MICROSOFT-CDO-IMPORTANCE:1
END:VEVENT
BEGIN:VEVENT
UID:g79oc@games.golnetwork.com
LOCATION:Cherry Beach East 2
CREATED:20150702T200637Z
DTSTART:20150911T020000Z
DTEND:20150911T030000Z
DTSTAMP:20260420T145454Z
SUMMARY:The Hot Shots vs.  AtlÃ©tico EspaÃ±ol 
DESCRIPTION: AtlÃ©tico EspaÃ±ol  vs. The Hot ShotsMore info: #399
X-ALT-DESC;FMTTYPE=text/html:<!DOCTYPE HTML PUBLIC "-//W3C//DTD HTML 3.2//E
	N">\n<HTML>\n<HEAD>\n<TITLE></TITLE>\n</HEAD>\n<BODY>\n<h3> AtlÃ©tico EspaÃ
	±ol  vs. The Hot Shots</h3>More info: <a href="https://www.golnetwork.com/g
	ame/v/71502/">#399</a>\n\n</BODY>\n</HTML>
STATUS:CONFIRMED
CLASS:PUBLIC
URL:https://www.golnetwork.com/game/v/71502/
X-MICROSOFT-CDO-BUSYSTATUS:BUSY
X-MICROSOFT-CDO-IMPORTANCE:1
END:VEVENT
BEGIN:VEVENT
UID:g79og@games.golnetwork.com
LOCATION:Cherry Beach East 3
CREATED:20150702T200637Z
DTSTART:20150911T030000Z
DTEND:20150911T040000Z
DTSTAMP:20260420T145454Z
SUMMARY:Sweet Muffins vs. Hangover FC
DESCRIPTION:Hangover FC vs. Sweet MuffinsMore info: #403
X-ALT-DESC;FMTTYPE=text/html:<!DOCTYPE HTML PUBLIC "-//W3C//DTD HTML 3.2//E
	N">\n<HTML>\n<HEAD>\n<TITLE></TITLE>\n</HEAD>\n<BODY>\n<h3>Hangover FC vs. 
	Sweet Muffins</h3>More info: <a href="https://www.golnetwork.com/game/v/715
	04/">#403</a>\n\n</BODY>\n</HTML>
STATUS:CONFIRMED
CLASS:PUBLIC
URL:https://www.golnetwork.com/game/v/71504/
X-MICROSOFT-CDO-BUSYSTATUS:BUSY
X-MICROSOFT-CDO-IMPORTANCE:1
END:VEVENT
END:VCALENDAR
