BEGIN:VCALENDAR
PRODID:-//gdesolutions.com//MV Framework 1.0.0.1607 Calendar//EN
VERSION:2.0
METHOD:PUBLISH
CALSCALE:GREGORIAN
BEGIN:VEVENT
UID:g7ahm@games.golnetwork.com
LOCATION:North Toronto CI - Field 2
GEO:43.7098022;-79.3963055
CREATED:20150707T120945Z
DTSTART:20150712T210000Z
DTEND:20150712T215000Z
DTSTAMP:20260421T212404Z
SUMMARY:Beers With the Boys vs. UTU2TMFC
DESCRIPTION:UTU2TMFC vs. Beers With the BoysMore info: #1
X-ALT-DESC;FMTTYPE=text/html:<!DOCTYPE HTML PUBLIC "-//W3C//DTD HTML 3.2//E
	N">\n<HTML>\n<HEAD>\n<TITLE></TITLE>\n</HEAD>\n<BODY>\n<h3>UTU2TMFC vs. Bee
	rs With the Boys</h3>More info: <a href="https://www.golnetwork.com/game/v/
	71777/">#1</a>\n\n</BODY>\n</HTML>
STATUS:CONFIRMED
CLASS:PUBLIC
URL:https://www.golnetwork.com/game/v/71777/
X-MICROSOFT-CDO-BUSYSTATUS:BUSY
X-MICROSOFT-CDO-IMPORTANCE:1
END:VEVENT
BEGIN:VEVENT
UID:g7ahg@games.golnetwork.com
LOCATION:North Toronto CI - Field 3
GEO:43.7098022;-79.3963055
CREATED:20150707T120902Z
DTSTART:20150712T210000Z
DTEND:20150712T215000Z
DTSTAMP:20260421T212404Z
SUMMARY:FTF Tri Clean vs. Illmatic FC
DESCRIPTION:Illmatic FC vs. FTF Tri CleanMore info: #2
X-ALT-DESC;FMTTYPE=text/html:<!DOCTYPE HTML PUBLIC "-//W3C//DTD HTML 3.2//E
	N">\n<HTML>\n<HEAD>\n<TITLE></TITLE>\n</HEAD>\n<BODY>\n<h3>Illmatic FC vs. 
	FTF Tri Clean</h3>More info: <a href="https://www.golnetwork.com/game/v/717
	74/">#2</a>\n\n</BODY>\n</HTML>
STATUS:CONFIRMED
CLASS:PUBLIC
URL:https://www.golnetwork.com/game/v/71774/
X-MICROSOFT-CDO-BUSYSTATUS:BUSY
X-MICROSOFT-CDO-IMPORTANCE:1
END:VEVENT
BEGIN:VEVENT
UID:g7aho@games.golnetwork.com
LOCATION:North Toronto CI - Field 2
GEO:43.7098022;-79.3963055
CREATED:20150707T120959Z
DTSTART:20150712T220000Z
DTEND:20150712T225000Z
DTSTAMP:20260421T212404Z
SUMMARY:Toronto Trillers vs. UTU2TMFC
DESCRIPTION:UTU2TMFC vs. Toronto TrillersMore info: #3
X-ALT-DESC;FMTTYPE=text/html:<!DOCTYPE HTML PUBLIC "-//W3C//DTD HTML 3.2//E
	N">\n<HTML>\n<HEAD>\n<TITLE></TITLE>\n</HEAD>\n<BODY>\n<h3>UTU2TMFC vs. Tor
	onto Trillers</h3>More info: <a href="https://www.golnetwork.com/game/v/717
	78/">#3</a>\n\n</BODY>\n</HTML>
STATUS:CONFIRMED
CLASS:PUBLIC
URL:https://www.golnetwork.com/game/v/71778/
X-MICROSOFT-CDO-BUSYSTATUS:BUSY
X-MICROSOFT-CDO-IMPORTANCE:1
END:VEVENT
BEGIN:VEVENT
UID:g7ahi@games.golnetwork.com
LOCATION:North Toronto CI - Field 3
GEO:43.7098022;-79.3963055
CREATED:20150707T120914Z
DTSTART:20150712T220000Z
DTEND:20150712T225000Z
DTSTAMP:20260421T212404Z
SUMMARY:Beers With the Boys vs. Illmatic FC
DESCRIPTION:Illmatic FC vs. Beers With the BoysMore info: #4
X-ALT-DESC;FMTTYPE=text/html:<!DOCTYPE HTML PUBLIC "-//W3C//DTD HTML 3.2//E
	N">\n<HTML>\n<HEAD>\n<TITLE></TITLE>\n</HEAD>\n<BODY>\n<h3>Illmatic FC vs. 
	Beers With the Boys</h3>More info: <a href="https://www.golnetwork.com/game
	/v/71775/">#4</a>\n\n</BODY>\n</HTML>
STATUS:CONFIRMED
CLASS:PUBLIC
URL:https://www.golnetwork.com/game/v/71775/
X-MICROSOFT-CDO-BUSYSTATUS:BUSY
X-MICROSOFT-CDO-IMPORTANCE:1
END:VEVENT
BEGIN:VEVENT
UID:g7ahq@games.golnetwork.com
LOCATION:North Toronto CI - Field 2
GEO:43.7098022;-79.3963055
CREATED:20150707T121009Z
DTSTART:20150712T230000Z
DTEND:20150712T235000Z
DTSTAMP:20260421T212404Z
SUMMARY:XTSC Shinkickers vs. PwC Legends
DESCRIPTION:PwC Legends vs. XTSC ShinkickersMore info: #5
X-ALT-DESC;FMTTYPE=text/html:<!DOCTYPE HTML PUBLIC "-//W3C//DTD HTML 3.2//E
	N">\n<HTML>\n<HEAD>\n<TITLE></TITLE>\n</HEAD>\n<BODY>\n<h3>PwC Legends vs. 
	XTSC Shinkickers</h3>More info: <a href="https://www.golnetwork.com/game/v/
	71779/">#5</a>\n\n</BODY>\n</HTML>
STATUS:CONFIRMED
CLASS:PUBLIC
URL:https://www.golnetwork.com/game/v/71779/
X-MICROSOFT-CDO-BUSYSTATUS:BUSY
X-MICROSOFT-CDO-IMPORTANCE:1
END:VEVENT
BEGIN:VEVENT
UID:g7ahk@games.golnetwork.com
LOCATION:North Toronto CI - Field 3
GEO:43.7098022;-79.3963055
CREATED:20150707T120929Z
DTSTART:20150712T230000Z
DTEND:20150712T235000Z
DTSTAMP:20260421T212404Z
SUMMARY:Unreal Madrid vs. Toronto Trillers
DESCRIPTION:Toronto Trillers vs. Unreal MadridMore info: #6
X-ALT-DESC;FMTTYPE=text/html:<!DOCTYPE HTML PUBLIC "-//W3C//DTD HTML 3.2//E
	N">\n<HTML>\n<HEAD>\n<TITLE></TITLE>\n</HEAD>\n<BODY>\n<h3>Toronto Trillers
	 vs. Unreal Madrid</h3>More info: <a href="https://www.golnetwork.com/game/
	v/71776/">#6</a>\n\n</BODY>\n</HTML>
STATUS:CONFIRMED
CLASS:PUBLIC
URL:https://www.golnetwork.com/game/v/71776/
X-MICROSOFT-CDO-BUSYSTATUS:BUSY
X-MICROSOFT-CDO-IMPORTANCE:1
END:VEVENT
BEGIN:VEVENT
UID:g7ai9@games.golnetwork.com
LOCATION:North Toronto CI - Field 2
GEO:43.7098022;-79.3963055
CREATED:20150707T121151Z
DTSTART:20150719T200000Z
DTEND:20150719T205000Z
DTSTAMP:20260421T212404Z
SUMMARY:XTSC Shinkickers vs. Unreal Madrid
DESCRIPTION:Unreal Madrid vs. XTSC ShinkickersMore info: #8
X-ALT-DESC;FMTTYPE=text/html:<!DOCTYPE HTML PUBLIC "-//W3C//DTD HTML 3.2//E
	N">\n<HTML>\n<HEAD>\n<TITLE></TITLE>\n</HEAD>\n<BODY>\n<h3>Unreal Madrid vs
	. XTSC Shinkickers</h3>More info: <a href="https://www.golnetwork.com/game/
	v/71784/">#8</a>\n\n</BODY>\n</HTML>
STATUS:CONFIRMED
CLASS:PUBLIC
URL:https://www.golnetwork.com/game/v/71784/
X-MICROSOFT-CDO-BUSYSTATUS:BUSY
X-MICROSOFT-CDO-IMPORTANCE:1
END:VEVENT
BEGIN:VEVENT
UID:g7ai5@games.golnetwork.com
LOCATION:North Toronto CI - Field 2
GEO:43.7098022;-79.3963055
CREATED:20150707T121105Z
DTSTART:20150719T210000Z
DTEND:20150719T215000Z
DTSTAMP:20260421T212404Z
SUMMARY:Unreal Madrid vs. PwC Legends
DESCRIPTION:PwC Legends vs. Unreal MadridMore info: #9
X-ALT-DESC;FMTTYPE=text/html:<!DOCTYPE HTML PUBLIC "-//W3C//DTD HTML 3.2//E
	N">\n<HTML>\n<HEAD>\n<TITLE></TITLE>\n</HEAD>\n<BODY>\n<h3>PwC Legends vs. 
	Unreal Madrid</h3>More info: <a href="https://www.golnetwork.com/game/v/717
	82/">#9</a>\n\n</BODY>\n</HTML>
STATUS:CONFIRMED
CLASS:PUBLIC
URL:https://www.golnetwork.com/game/v/71782/
X-MICROSOFT-CDO-BUSYSTATUS:BUSY
X-MICROSOFT-CDO-IMPORTANCE:1
END:VEVENT
BEGIN:VEVENT
UID:g7aib@games.golnetwork.com
LOCATION:North Toronto CI - Field 3
GEO:43.7098022;-79.3963055
CREATED:20150707T121219Z
DTSTART:20150719T210000Z
DTEND:20150719T215000Z
DTSTAMP:20260421T212404Z
SUMMARY:XTSC Shinkickers vs. FTF Tri Clean
DESCRIPTION:FTF Tri Clean vs. XTSC ShinkickersMore info: #10
X-ALT-DESC;FMTTYPE=text/html:<!DOCTYPE HTML PUBLIC "-//W3C//DTD HTML 3.2//E
	N">\n<HTML>\n<HEAD>\n<TITLE></TITLE>\n</HEAD>\n<BODY>\n<h3>FTF Tri Clean vs
	. XTSC Shinkickers</h3>More info: <a href="https://www.golnetwork.com/game/
	v/71785/">#10</a>\n\n</BODY>\n</HTML>
STATUS:CONFIRMED
CLASS:PUBLIC
URL:https://www.golnetwork.com/game/v/71785/
X-MICROSOFT-CDO-BUSYSTATUS:BUSY
X-MICROSOFT-CDO-IMPORTANCE:1
END:VEVENT
BEGIN:VEVENT
UID:g7ai3@games.golnetwork.com
LOCATION:North Toronto CI - Field 3
GEO:43.7098022;-79.3963055
CREATED:20150707T121048Z
DTSTART:20150719T220000Z
DTEND:20150719T225000Z
DTSTAMP:20260421T212404Z
SUMMARY:PwC Legends vs. FTF Tri Clean
DESCRIPTION:FTF Tri Clean vs. PwC LegendsMore info: #11
X-ALT-DESC;FMTTYPE=text/html:<!DOCTYPE HTML PUBLIC "-//W3C//DTD HTML 3.2//E
	N">\n<HTML>\n<HEAD>\n<TITLE></TITLE>\n</HEAD>\n<BODY>\n<h3>FTF Tri Clean vs
	. PwC Legends</h3>More info: <a href="https://www.golnetwork.com/game/v/717
	81/">#11</a>\n\n</BODY>\n</HTML>
STATUS:CONFIRMED
CLASS:PUBLIC
URL:https://www.golnetwork.com/game/v/71781/
X-MICROSOFT-CDO-BUSYSTATUS:BUSY
X-MICROSOFT-CDO-IMPORTANCE:1
END:VEVENT
BEGIN:VEVENT
UID:g7ai7@games.golnetwork.com
LOCATION:North Toronto CI - Field 2
GEO:43.7098022;-79.3963055
CREATED:20150707T121133Z
DTSTART:20150719T230000Z
DTEND:20150719T235000Z
DTSTAMP:20260421T212404Z
SUMMARY:UTU2TMFC vs. Illmatic FC
DESCRIPTION:Illmatic FC vs. UTU2TMFCMore info: #13
X-ALT-DESC;FMTTYPE=text/html:<!DOCTYPE HTML PUBLIC "-//W3C//DTD HTML 3.2//E
	N">\n<HTML>\n<HEAD>\n<TITLE></TITLE>\n</HEAD>\n<BODY>\n<h3>Illmatic FC vs. 
	UTU2TMFC</h3>More info: <a href="https://www.golnetwork.com/game/v/71783/">
	#13</a>\n\n</BODY>\n</HTML>
STATUS:CONFIRMED
CLASS:PUBLIC
URL:https://www.golnetwork.com/game/v/71783/
X-MICROSOFT-CDO-BUSYSTATUS:BUSY
X-MICROSOFT-CDO-IMPORTANCE:1
END:VEVENT
BEGIN:VEVENT
UID:g7ai1@games.golnetwork.com
LOCATION:North Toronto CI - Field 3
GEO:43.7098022;-79.3963055
CREATED:20150707T121035Z
DTSTART:20150719T230000Z
DTEND:20150719T235000Z
DTSTAMP:20260421T212404Z
SUMMARY:Toronto Trillers vs. Beers With the Boys
DESCRIPTION:Beers With the Boys vs. Toronto TrillersMore info: #14
X-ALT-DESC;FMTTYPE=text/html:<!DOCTYPE HTML PUBLIC "-//W3C//DTD HTML 3.2//E
	N">\n<HTML>\n<HEAD>\n<TITLE></TITLE>\n</HEAD>\n<BODY>\n<h3>Beers With the B
	oys vs. Toronto Trillers</h3>More info: <a href="https://www.golnetwork.com
	/game/v/71780/">#14</a>\n\n</BODY>\n</HTML>
STATUS:CONFIRMED
CLASS:PUBLIC
URL:https://www.golnetwork.com/game/v/71780/
X-MICROSOFT-CDO-BUSYSTATUS:BUSY
X-MICROSOFT-CDO-IMPORTANCE:1
END:VEVENT
BEGIN:VEVENT
UID:g7aij@games.golnetwork.com
LOCATION:North Toronto CI - Field 2
GEO:43.7098022;-79.3963055
CREATED:20150707T121421Z
DTSTART:20150726T210000Z
DTEND:20150726T215000Z
DTSTAMP:20260421T212404Z
SUMMARY:Toronto Trillers vs. Illmatic FC
DESCRIPTION:Illmatic FC vs. Toronto TrillersMore info: #20
X-ALT-DESC;FMTTYPE=text/html:<!DOCTYPE HTML PUBLIC "-//W3C//DTD HTML 3.2//E
	N">\n<HTML>\n<HEAD>\n<TITLE></TITLE>\n</HEAD>\n<BODY>\n<h3>Illmatic FC vs. 
	Toronto Trillers</h3>More info: <a href="https://www.golnetwork.com/game/v/
	71789/">#20</a>\n\n</BODY>\n</HTML>
STATUS:CONFIRMED
CLASS:PUBLIC
URL:https://www.golnetwork.com/game/v/71789/
X-MICROSOFT-CDO-BUSYSTATUS:BUSY
X-MICROSOFT-CDO-IMPORTANCE:1
END:VEVENT
BEGIN:VEVENT
UID:g7aid@games.golnetwork.com
LOCATION:North Toronto CI - Field 3
GEO:43.7098022;-79.3963055
CREATED:20150707T121339Z
DTSTART:20150726T210000Z
DTEND:20150726T215000Z
DTSTAMP:20260421T212404Z
SUMMARY:XTSC Shinkickers vs. Beers With the Boys
DESCRIPTION:Beers With the Boys vs. XTSC ShinkickersMore info: #21
X-ALT-DESC;FMTTYPE=text/html:<!DOCTYPE HTML PUBLIC "-//W3C//DTD HTML 3.2//E
	N">\n<HTML>\n<HEAD>\n<TITLE></TITLE>\n</HEAD>\n<BODY>\n<h3>Beers With the B
	oys vs. XTSC Shinkickers</h3>More info: <a href="https://www.golnetwork.com
	/game/v/71786/">#21</a>\n\n</BODY>\n</HTML>
STATUS:CONFIRMED
CLASS:PUBLIC
URL:https://www.golnetwork.com/game/v/71786/
X-MICROSOFT-CDO-BUSYSTATUS:BUSY
X-MICROSOFT-CDO-IMPORTANCE:1
END:VEVENT
BEGIN:VEVENT
UID:g7ail@games.golnetwork.com
LOCATION:North Toronto CI - Field 2
GEO:43.7098022;-79.3963055
CREATED:20150707T121436Z
DTSTART:20150726T220000Z
DTEND:20150726T225000Z
DTSTAMP:20260421T212404Z
SUMMARY:XTSC Shinkickers vs. Illmatic FC
DESCRIPTION:Illmatic FC vs. XTSC ShinkickersMore info: #22
X-ALT-DESC;FMTTYPE=text/html:<!DOCTYPE HTML PUBLIC "-//W3C//DTD HTML 3.2//E
	N">\n<HTML>\n<HEAD>\n<TITLE></TITLE>\n</HEAD>\n<BODY>\n<h3>Illmatic FC vs. 
	XTSC Shinkickers</h3>More info: <a href="https://www.golnetwork.com/game/v/
	71790/">#22</a>\n\n</BODY>\n</HTML>
STATUS:CONFIRMED
CLASS:PUBLIC
URL:https://www.golnetwork.com/game/v/71790/
X-MICROSOFT-CDO-BUSYSTATUS:BUSY
X-MICROSOFT-CDO-IMPORTANCE:1
END:VEVENT
BEGIN:VEVENT
UID:g7aif@games.golnetwork.com
LOCATION:North Toronto CI - Field 3
GEO:43.7098022;-79.3963055
CREATED:20150707T121350Z
DTSTART:20150726T220000Z
DTEND:20150726T225000Z
DTSTAMP:20260421T212404Z
SUMMARY:Unreal Madrid vs. Beers With the Boys
DESCRIPTION:Beers With the Boys vs. Unreal MadridMore info: #23
X-ALT-DESC;FMTTYPE=text/html:<!DOCTYPE HTML PUBLIC "-//W3C//DTD HTML 3.2//E
	N">\n<HTML>\n<HEAD>\n<TITLE></TITLE>\n</HEAD>\n<BODY>\n<h3>Beers With the B
	oys vs. Unreal Madrid</h3>More info: <a href="https://www.golnetwork.com/ga
	me/v/71787/">#23</a>\n\n</BODY>\n</HTML>
STATUS:CONFIRMED
CLASS:PUBLIC
URL:https://www.golnetwork.com/game/v/71787/
X-MICROSOFT-CDO-BUSYSTATUS:BUSY
X-MICROSOFT-CDO-IMPORTANCE:1
END:VEVENT
BEGIN:VEVENT
UID:g7ain@games.golnetwork.com
LOCATION:North Toronto CI - Field 2
GEO:43.7098022;-79.3963055
CREATED:20150707T121449Z
DTSTART:20150726T230000Z
DTEND:20150726T235000Z
DTSTAMP:20260421T212404Z
SUMMARY:Unreal Madrid vs. FTF Tri Clean
DESCRIPTION:FTF Tri Clean vs. Unreal MadridMore info: #24
X-ALT-DESC;FMTTYPE=text/html:<!DOCTYPE HTML PUBLIC "-//W3C//DTD HTML 3.2//E
	N">\n<HTML>\n<HEAD>\n<TITLE></TITLE>\n</HEAD>\n<BODY>\n<h3>FTF Tri Clean vs
	. Unreal Madrid</h3>More info: <a href="https://www.golnetwork.com/game/v/7
	1791/">#24</a>\n\n</BODY>\n</HTML>
STATUS:CONFIRMED
CLASS:PUBLIC
URL:https://www.golnetwork.com/game/v/71791/
X-MICROSOFT-CDO-BUSYSTATUS:BUSY
X-MICROSOFT-CDO-IMPORTANCE:1
END:VEVENT
BEGIN:VEVENT
UID:g7aih@games.golnetwork.com
LOCATION:North Toronto CI - Field 3
GEO:43.7098022;-79.3963055
CREATED:20150707T121406Z
DTSTART:20150726T230000Z
DTEND:20150726T235000Z
DTSTAMP:20260421T212404Z
SUMMARY:PwC Legends vs. UTU2TMFC
DESCRIPTION:UTU2TMFC vs. PwC LegendsMore info: #25
X-ALT-DESC;FMTTYPE=text/html:<!DOCTYPE HTML PUBLIC "-//W3C//DTD HTML 3.2//E
	N">\n<HTML>\n<HEAD>\n<TITLE></TITLE>\n</HEAD>\n<BODY>\n<h3>UTU2TMFC vs. PwC
	 Legends</h3>More info: <a href="https://www.golnetwork.com/game/v/71788/">
	#25</a>\n\n</BODY>\n</HTML>
STATUS:CONFIRMED
CLASS:PUBLIC
URL:https://www.golnetwork.com/game/v/71788/
X-MICROSOFT-CDO-BUSYSTATUS:BUSY
X-MICROSOFT-CDO-IMPORTANCE:1
END:VEVENT
BEGIN:VEVENT
UID:g7aj4@games.golnetwork.com
LOCATION:North Toronto CI - Field 2
GEO:43.7098022;-79.3963055
CREATED:20150707T121614Z
DTSTART:20150809T200000Z
DTEND:20150809T205000Z
DTSTAMP:20260421T212404Z
SUMMARY:Unreal Madrid vs. Illmatic FC
DESCRIPTION:Illmatic FC vs. Unreal MadridMore info: #28
X-ALT-DESC;FMTTYPE=text/html:<!DOCTYPE HTML PUBLIC "-//W3C//DTD HTML 3.2//E
	N">\n<HTML>\n<HEAD>\n<TITLE></TITLE>\n</HEAD>\n<BODY>\n<h3>Illmatic FC vs. 
	Unreal Madrid</h3>More info: <a href="https://www.golnetwork.com/game/v/717
	95/">#28</a>\n\n</BODY>\n</HTML>
STATUS:CONFIRMED
CLASS:PUBLIC
URL:https://www.golnetwork.com/game/v/71795/
X-MICROSOFT-CDO-BUSYSTATUS:BUSY
X-MICROSOFT-CDO-IMPORTANCE:1
END:VEVENT
BEGIN:VEVENT
UID:g7aj2@games.golnetwork.com
LOCATION:North Toronto CI - Field 2
GEO:43.7098022;-79.3963055
CREATED:20150707T121557Z
DTSTART:20150809T210000Z
DTEND:20150809T215000Z
DTSTAMP:20260421T212404Z
SUMMARY:XTSC Shinkickers vs. UTU2TMFC
DESCRIPTION:UTU2TMFC vs. XTSC ShinkickersMore info: #30
X-ALT-DESC;FMTTYPE=text/html:<!DOCTYPE HTML PUBLIC "-//W3C//DTD HTML 3.2//E
	N">\n<HTML>\n<HEAD>\n<TITLE></TITLE>\n</HEAD>\n<BODY>\n<h3>UTU2TMFC vs. XTS
	C Shinkickers</h3>More info: <a href="https://www.golnetwork.com/game/v/717
	94/">#30</a>\n\n</BODY>\n</HTML>
STATUS:CONFIRMED
CLASS:PUBLIC
URL:https://www.golnetwork.com/game/v/71794/
X-MICROSOFT-CDO-BUSYSTATUS:BUSY
X-MICROSOFT-CDO-IMPORTANCE:1
END:VEVENT
BEGIN:VEVENT
UID:g7aip@games.golnetwork.com
LOCATION:North Toronto CI - Field 3
GEO:43.7098022;-79.3963055
CREATED:20150707T121531Z
DTSTART:20150809T210000Z
DTEND:20150809T215000Z
DTSTAMP:20260421T212404Z
SUMMARY:Toronto Trillers vs. FTF Tri Clean
DESCRIPTION:FTF Tri Clean vs. Toronto TrillersMore info: #31
X-ALT-DESC;FMTTYPE=text/html:<!DOCTYPE HTML PUBLIC "-//W3C//DTD HTML 3.2//E
	N">\n<HTML>\n<HEAD>\n<TITLE></TITLE>\n</HEAD>\n<BODY>\n<h3>FTF Tri Clean vs
	. Toronto Trillers</h3>More info: <a href="https://www.golnetwork.com/game/
	v/71792/">#31</a>\n\n</BODY>\n</HTML>
STATUS:CONFIRMED
CLASS:PUBLIC
URL:https://www.golnetwork.com/game/v/71792/
X-MICROSOFT-CDO-BUSYSTATUS:BUSY
X-MICROSOFT-CDO-IMPORTANCE:1
END:VEVENT
BEGIN:VEVENT
UID:g7aj0@games.golnetwork.com
LOCATION:North Toronto CI - Field 3
GEO:43.7098022;-79.3963055
CREATED:20150707T121543Z
DTSTART:20150809T220000Z
DTEND:20150809T225000Z
DTSTAMP:20260421T212404Z
SUMMARY:PwC Legends vs. Toronto Trillers
DESCRIPTION:Toronto Trillers vs. PwC LegendsMore info: #32
X-ALT-DESC;FMTTYPE=text/html:<!DOCTYPE HTML PUBLIC "-//W3C//DTD HTML 3.2//E
	N">\n<HTML>\n<HEAD>\n<TITLE></TITLE>\n</HEAD>\n<BODY>\n<h3>Toronto Trillers
	 vs. PwC Legends</h3>More info: <a href="https://www.golnetwork.com/game/v/
	71793/">#32</a>\n\n</BODY>\n</HTML>
STATUS:CONFIRMED
CLASS:PUBLIC
URL:https://www.golnetwork.com/game/v/71793/
X-MICROSOFT-CDO-BUSYSTATUS:BUSY
X-MICROSOFT-CDO-IMPORTANCE:1
END:VEVENT
BEGIN:VEVENT
UID:g7aj6@games.golnetwork.com
LOCATION:North Toronto CI - Field 3
GEO:43.7098022;-79.3963055
CREATED:20150707T121627Z
DTSTART:20150809T230000Z
DTEND:20150809T235000Z
DTSTAMP:20260421T212404Z
SUMMARY:PwC Legends vs. Beers With the Boys
DESCRIPTION:Beers With the Boys vs. PwC LegendsMore info: #35
X-ALT-DESC;FMTTYPE=text/html:<!DOCTYPE HTML PUBLIC "-//W3C//DTD HTML 3.2//E
	N">\n<HTML>\n<HEAD>\n<TITLE></TITLE>\n</HEAD>\n<BODY>\n<h3>Beers With the B
	oys vs. PwC Legends</h3>More info: <a href="https://www.golnetwork.com/game
	/v/71796/">#35</a>\n\n</BODY>\n</HTML>
STATUS:CONFIRMED
CLASS:PUBLIC
URL:https://www.golnetwork.com/game/v/71796/
X-MICROSOFT-CDO-BUSYSTATUS:BUSY
X-MICROSOFT-CDO-IMPORTANCE:1
END:VEVENT
BEGIN:VEVENT
UID:g7ajc@games.golnetwork.com
LOCATION:North Toronto CI - Field 3
GEO:43.7098022;-79.3963055
CREATED:20150707T121708Z
DTSTART:20150816T210000Z
DTEND:20150816T215000Z
DTSTAMP:20260421T212404Z
SUMMARY:PwC Legends vs. Illmatic FC
DESCRIPTION:Illmatic FC vs. PwC LegendsMore info: #40
X-ALT-DESC;FMTTYPE=text/html:<!DOCTYPE HTML PUBLIC "-//W3C//DTD HTML 3.2//E
	N">\n<HTML>\n<HEAD>\n<TITLE></TITLE>\n</HEAD>\n<BODY>\n<h3>Illmatic FC vs. 
	PwC Legends</h3>More info: <a href="https://www.golnetwork.com/game/v/71799
	/">#40</a>\n\n</BODY>\n</HTML>
STATUS:CONFIRMED
CLASS:PUBLIC
URL:https://www.golnetwork.com/game/v/71799/
X-MICROSOFT-CDO-BUSYSTATUS:BUSY
X-MICROSOFT-CDO-IMPORTANCE:1
END:VEVENT
BEGIN:VEVENT
UID:g7aj8@games.golnetwork.com
LOCATION:North Toronto CI - Field 2
GEO:43.7098022;-79.3963055
CREATED:20150707T121645Z
DTSTART:20150816T220000Z
DTEND:20150816T225000Z
DTSTAMP:20260421T212404Z
SUMMARY:XTSC Shinkickers vs. Toronto Trillers
DESCRIPTION:Toronto Trillers vs. XTSC ShinkickersMore info: #41
X-ALT-DESC;FMTTYPE=text/html:<!DOCTYPE HTML PUBLIC "-//W3C//DTD HTML 3.2//E
	N">\n<HTML>\n<HEAD>\n<TITLE></TITLE>\n</HEAD>\n<BODY>\n<h3>Toronto Trillers
	 vs. XTSC Shinkickers</h3>More info: <a href="https://www.golnetwork.com/ga
	me/v/71797/">#41</a>\n\n</BODY>\n</HTML>
STATUS:CONFIRMED
CLASS:PUBLIC
URL:https://www.golnetwork.com/game/v/71797/
X-MICROSOFT-CDO-BUSYSTATUS:BUSY
X-MICROSOFT-CDO-IMPORTANCE:1
END:VEVENT
BEGIN:VEVENT
UID:g7aja@games.golnetwork.com
LOCATION:North Toronto CI - Field 3
GEO:43.7098022;-79.3963055
CREATED:20150707T121656Z
DTSTART:20150816T220000Z
DTEND:20150816T225000Z
DTSTAMP:20260421T212404Z
SUMMARY:UTU2TMFC vs. FTF Tri Clean
DESCRIPTION:FTF Tri Clean vs. UTU2TMFCMore info: #42
X-ALT-DESC;FMTTYPE=text/html:<!DOCTYPE HTML PUBLIC "-//W3C//DTD HTML 3.2//E
	N">\n<HTML>\n<HEAD>\n<TITLE></TITLE>\n</HEAD>\n<BODY>\n<h3>FTF Tri Clean vs
	. UTU2TMFC</h3>More info: <a href="https://www.golnetwork.com/game/v/71798/
	">#42</a>\n\n</BODY>\n</HTML>
STATUS:CONFIRMED
CLASS:PUBLIC
URL:https://www.golnetwork.com/game/v/71798/
X-MICROSOFT-CDO-BUSYSTATUS:BUSY
X-MICROSOFT-CDO-IMPORTANCE:1
END:VEVENT
BEGIN:VEVENT
UID:g7ajg@games.golnetwork.com
LOCATION:North Toronto CI - Field 2
GEO:43.7098022;-79.3963055
CREATED:20150707T121738Z
DTSTART:20150816T230000Z
DTEND:20150816T235000Z
DTSTAMP:20260421T212404Z
SUMMARY:Beers With the Boys vs. FTF Tri Clean
DESCRIPTION:FTF Tri Clean vs. Beers With the BoysMore info: #44
X-ALT-DESC;FMTTYPE=text/html:<!DOCTYPE HTML PUBLIC "-//W3C//DTD HTML 3.2//E
	N">\n<HTML>\n<HEAD>\n<TITLE></TITLE>\n</HEAD>\n<BODY>\n<h3>FTF Tri Clean vs
	. Beers With the Boys</h3>More info: <a href="https://www.golnetwork.com/ga
	me/v/71801/">#44</a>\n\n</BODY>\n</HTML>
STATUS:CONFIRMED
CLASS:PUBLIC
URL:https://www.golnetwork.com/game/v/71801/
X-MICROSOFT-CDO-BUSYSTATUS:BUSY
X-MICROSOFT-CDO-IMPORTANCE:1
END:VEVENT
BEGIN:VEVENT
UID:g7aje@games.golnetwork.com
LOCATION:North Toronto CI - Field 3
GEO:43.7098022;-79.3963055
CREATED:20150707T121725Z
DTSTART:20150816T230000Z
DTEND:20150816T235000Z
DTSTAMP:20260421T212404Z
SUMMARY:Unreal Madrid vs. UTU2TMFC
DESCRIPTION:UTU2TMFC vs. Unreal MadridMore info: #45
X-ALT-DESC;FMTTYPE=text/html:<!DOCTYPE HTML PUBLIC "-//W3C//DTD HTML 3.2//E
	N">\n<HTML>\n<HEAD>\n<TITLE></TITLE>\n</HEAD>\n<BODY>\n<h3>UTU2TMFC vs. Unr
	eal Madrid</h3>More info: <a href="https://www.golnetwork.com/game/v/71800/
	">#45</a>\n\n</BODY>\n</HTML>
STATUS:CONFIRMED
CLASS:PUBLIC
URL:https://www.golnetwork.com/game/v/71800/
X-MICROSOFT-CDO-BUSYSTATUS:BUSY
X-MICROSOFT-CDO-IMPORTANCE:1
END:VEVENT
BEGIN:VEVENT
UID:g7ajk@games.golnetwork.com
LOCATION:North Toronto CI - Field 3
GEO:43.7098022;-79.3963055
CREATED:20150707T121801Z
DTSTART:20150823T200000Z
DTEND:20150823T205000Z
DTSTAMP:20260421T212404Z
SUMMARY:XTSC Shinkickers vs. Beers With the Boys
DESCRIPTION:Beers With the Boys vs. XTSC ShinkickersMore info: #50
X-ALT-DESC;FMTTYPE=text/html:<!DOCTYPE HTML PUBLIC "-//W3C//DTD HTML 3.2//E
	N">\n<HTML>\n<HEAD>\n<TITLE></TITLE>\n</HEAD>\n<BODY>\n<h3>Beers With the B
	oys vs. XTSC Shinkickers</h3>More info: <a href="https://www.golnetwork.com
	/game/v/71803/">#50</a>\n\n</BODY>\n</HTML>
STATUS:CONFIRMED
CLASS:PUBLIC
URL:https://www.golnetwork.com/game/v/71803/
X-MICROSOFT-CDO-BUSYSTATUS:BUSY
X-MICROSOFT-CDO-IMPORTANCE:1
END:VEVENT
BEGIN:VEVENT
UID:g7aji@games.golnetwork.com
LOCATION:North Toronto CI - Field 2
GEO:43.7098022;-79.3963055
CREATED:20150707T121756Z
DTSTART:20150823T210000Z
DTEND:20150823T215000Z
DTSTAMP:20260421T212404Z
SUMMARY:PwC Legends vs. UTU2TMFC
DESCRIPTION:UTU2TMFC vs. PwC LegendsMore info: #52
X-ALT-DESC;FMTTYPE=text/html:<!DOCTYPE HTML PUBLIC "-//W3C//DTD HTML 3.2//E
	N">\n<HTML>\n<HEAD>\n<TITLE></TITLE>\n</HEAD>\n<BODY>\n<h3>UTU2TMFC vs. PwC
	 Legends</h3>More info: <a href="https://www.golnetwork.com/game/v/71802/">
	#52</a>\n\n</BODY>\n</HTML>
STATUS:CONFIRMED
CLASS:PUBLIC
URL:https://www.golnetwork.com/game/v/71802/
X-MICROSOFT-CDO-BUSYSTATUS:BUSY
X-MICROSOFT-CDO-IMPORTANCE:1
END:VEVENT
BEGIN:VEVENT
UID:g7ajm@games.golnetwork.com
LOCATION:North Toronto CI - Field 3
GEO:43.7098022;-79.3963055
CREATED:20150707T121807Z
DTSTART:20150830T200000Z
DTEND:20150830T205000Z
DTSTAMP:20260421T212404Z
SUMMARY:Toronto Trillers vs. Unreal Madrid
DESCRIPTION:Unreal Madrid vs. Toronto TrillersMore info: #61
X-ALT-DESC;FMTTYPE=text/html:<!DOCTYPE HTML PUBLIC "-//W3C//DTD HTML 3.2//E
	N">\n<HTML>\n<HEAD>\n<TITLE></TITLE>\n</HEAD>\n<BODY>\n<h3>Unreal Madrid vs
	. Toronto Trillers</h3>More info: <a href="https://www.golnetwork.com/game/
	v/71804/">#61</a>\n\n</BODY>\n</HTML>
STATUS:CONFIRMED
CLASS:PUBLIC
URL:https://www.golnetwork.com/game/v/71804/
X-MICROSOFT-CDO-BUSYSTATUS:BUSY
X-MICROSOFT-CDO-IMPORTANCE:1
END:VEVENT
BEGIN:VEVENT
UID:g7ajo@games.golnetwork.com
LOCATION:North Toronto CI - Field 3
GEO:43.7098022;-79.3963055
CREATED:20150707T121813Z
DTSTART:20150830T220000Z
DTEND:20150830T225000Z
DTSTAMP:20260421T212404Z
SUMMARY:UTU2TMFC vs. Beers With the Boys
DESCRIPTION:Beers With the Boys vs. UTU2TMFCMore info: #64
X-ALT-DESC;FMTTYPE=text/html:<!DOCTYPE HTML PUBLIC "-//W3C//DTD HTML 3.2//E
	N">\n<HTML>\n<HEAD>\n<TITLE></TITLE>\n</HEAD>\n<BODY>\n<h3>Beers With the B
	oys vs. UTU2TMFC</h3>More info: <a href="https://www.golnetwork.com/game/v/
	71805/">#64</a>\n\n</BODY>\n</HTML>
STATUS:CONFIRMED
CLASS:PUBLIC
URL:https://www.golnetwork.com/game/v/71805/
X-MICROSOFT-CDO-BUSYSTATUS:BUSY
X-MICROSOFT-CDO-IMPORTANCE:1
END:VEVENT
BEGIN:VEVENT
UID:g7ajq@games.golnetwork.com
LOCATION:North Toronto CI - Field 3
GEO:43.7098022;-79.3963055
CREATED:20150707T121819Z
DTSTART:20150830T230000Z
DTEND:20150830T235000Z
DTSTAMP:20260421T212404Z
SUMMARY:PwC Legends vs. XTSC Shinkickers
DESCRIPTION:XTSC Shinkickers vs. PwC LegendsMore info: #66
X-ALT-DESC;FMTTYPE=text/html:<!DOCTYPE HTML PUBLIC "-//W3C//DTD HTML 3.2//E
	N">\n<HTML>\n<HEAD>\n<TITLE></TITLE>\n</HEAD>\n<BODY>\n<h3>XTSC Shinkickers
	 vs. PwC Legends</h3>More info: <a href="https://www.golnetwork.com/game/v/
	71806/">#66</a>\n\n</BODY>\n</HTML>
STATUS:CONFIRMED
CLASS:PUBLIC
URL:https://www.golnetwork.com/game/v/71806/
X-MICROSOFT-CDO-BUSYSTATUS:BUSY
X-MICROSOFT-CDO-IMPORTANCE:1
END:VEVENT
END:VCALENDAR
