BEGIN:VCALENDAR
PRODID:-//gdesolutions.com//MV Framework 1.0.0.1607 Calendar//EN
VERSION:2.0
METHOD:PUBLISH
CALSCALE:GREGORIAN
BEGIN:VEVENT
UID:g7ead@games.golnetwork.com
LOCATION:Craig Henry Park - West Mini
GEO:45.3329253;-75.7757098
CREATED:20150722T080643Z
DTSTART:20150726T203000Z
DTEND:20150726T220000Z
DTSTAMP:20260425T025549Z
SUMMARY:The Walruses vs. Shock Tops
DESCRIPTION:Shock Tops vs. The WalrusesMore info: #132
X-ALT-DESC;FMTTYPE=text/html:<!DOCTYPE HTML PUBLIC "-//W3C//DTD HTML 3.2//E
	N">\n<HTML>\n<HEAD>\n<TITLE></TITLE>\n</HEAD>\n<BODY>\n<h3>Shock Tops vs. T
	he Walruses</h3>More info: <a href="https://www.golnetwork.com/game/v/73136
	/">#132</a>\n\n</BODY>\n</HTML>
STATUS:CONFIRMED
CLASS:PUBLIC
URL:https://www.golnetwork.com/game/v/73136/
X-MICROSOFT-CDO-BUSYSTATUS:BUSY
X-MICROSOFT-CDO-IMPORTANCE:1
END:VEVENT
BEGIN:VEVENT
UID:g7ea9@games.golnetwork.com
LOCATION:Craig Henry Park - West 1
GEO:45.3329135;-75.7757053
CREATED:20150722T080539Z
DTSTART:20150726T221500Z
DTEND:20150726T234500Z
DTSTAMP:20260425T025549Z
SUMMARY:Missile-toe vs. Raging Grasshoppers
DESCRIPTION:Raging Grasshoppers vs. Missile-toeMore info: #137
X-ALT-DESC;FMTTYPE=text/html:<!DOCTYPE HTML PUBLIC "-//W3C//DTD HTML 3.2//E
	N">\n<HTML>\n<HEAD>\n<TITLE></TITLE>\n</HEAD>\n<BODY>\n<h3>Raging Grasshopp
	ers vs. Missile-toe</h3>More info: <a href="https://www.golnetwork.com/game
	/v/73134/">#137</a>\n\n</BODY>\n</HTML>
STATUS:CONFIRMED
CLASS:PUBLIC
URL:https://www.golnetwork.com/game/v/73134/
X-MICROSOFT-CDO-BUSYSTATUS:BUSY
X-MICROSOFT-CDO-IMPORTANCE:1
END:VEVENT
BEGIN:VEVENT
UID:g7eab@games.golnetwork.com
LOCATION:Craig Henry Park - West Mini
GEO:45.3329253;-75.7757098
CREATED:20150722T080626Z
DTSTART:20150726T221500Z
DTEND:20150726T234500Z
DTSTAMP:20260425T025549Z
SUMMARY:Wild Ninja Pandas vs. Amigos
DESCRIPTION:Amigos vs. Wild Ninja PandasMore info: #139
X-ALT-DESC;FMTTYPE=text/html:<!DOCTYPE HTML PUBLIC "-//W3C//DTD HTML 3.2//E
	N">\n<HTML>\n<HEAD>\n<TITLE></TITLE>\n</HEAD>\n<BODY>\n<h3>Amigos vs. Wild 
	Ninja Pandas</h3>More info: <a href="https://www.golnetwork.com/game/v/7313
	5/">#139</a>\n\n</BODY>\n</HTML>
STATUS:CONFIRMED
CLASS:PUBLIC
URL:https://www.golnetwork.com/game/v/73135/
X-MICROSOFT-CDO-BUSYSTATUS:BUSY
X-MICROSOFT-CDO-IMPORTANCE:1
END:VEVENT
BEGIN:VEVENT
UID:g7f06@games.golnetwork.com
LOCATION:Craig Henry Park - West 1
GEO:45.3329135;-75.7757053
CREATED:20150731T052429Z
DTSTART:20150809T203000Z
DTEND:20150809T220000Z
DTSTAMP:20260425T025549Z
SUMMARY:The Walruses vs. Amigos
DESCRIPTION:Amigos vs. The WalrusesMore info: #144
X-ALT-DESC;FMTTYPE=text/html:<!DOCTYPE HTML PUBLIC "-//W3C//DTD HTML 3.2//E
	N">\n<HTML>\n<HEAD>\n<TITLE></TITLE>\n</HEAD>\n<BODY>\n<h3>Amigos vs. The W
	alruses</h3>More info: <a href="https://www.golnetwork.com/game/v/73362/">#
	144</a>\n\n</BODY>\n</HTML>
STATUS:CONFIRMED
CLASS:PUBLIC
URL:https://www.golnetwork.com/game/v/73362/
X-MICROSOFT-CDO-BUSYSTATUS:BUSY
X-MICROSOFT-CDO-IMPORTANCE:1
END:VEVENT
BEGIN:VEVENT
UID:g7f08@games.golnetwork.com
LOCATION:Craig Henry Park - West Mini
GEO:45.3329253;-75.7757098
CREATED:20150731T052456Z
DTSTART:20150809T221500Z
DTEND:20150809T234500Z
DTSTAMP:20260425T025549Z
SUMMARY:Missile-toe vs. Shock Tops
DESCRIPTION:Shock Tops vs. Missile-toeMore info: #153
X-ALT-DESC;FMTTYPE=text/html:<!DOCTYPE HTML PUBLIC "-//W3C//DTD HTML 3.2//E
	N">\n<HTML>\n<HEAD>\n<TITLE></TITLE>\n</HEAD>\n<BODY>\n<h3>Shock Tops vs. M
	issile-toe</h3>More info: <a href="https://www.golnetwork.com/game/v/73363/
	">#153</a>\n\n</BODY>\n</HTML>
STATUS:CONFIRMED
CLASS:PUBLIC
URL:https://www.golnetwork.com/game/v/73363/
X-MICROSOFT-CDO-BUSYSTATUS:BUSY
X-MICROSOFT-CDO-IMPORTANCE:1
END:VEVENT
BEGIN:VEVENT
UID:g7fbb@games.golnetwork.com
LOCATION:Craig Henry Park - West 1
GEO:45.3329135;-75.7757053
CREATED:20150810T213823Z
DTSTART:20150816T203000Z
DTEND:20150816T220000Z
DTSTAMP:20260425T025549Z
SUMMARY:The Wildlings vs. Missile-toe
DESCRIPTION:Missile-toe vs. The WildlingsMore info: #156
X-ALT-DESC;FMTTYPE=text/html:<!DOCTYPE HTML PUBLIC "-//W3C//DTD HTML 3.2//E
	N">\n<HTML>\n<HEAD>\n<TITLE></TITLE>\n</HEAD>\n<BODY>\n<h3>Missile-toe vs. 
	The Wildlings</h3>More info: <a href="https://www.golnetwork.com/game/v/735
	13/">#156</a>\n\n</BODY>\n</HTML>
STATUS:CONFIRMED
CLASS:PUBLIC
URL:https://www.golnetwork.com/game/v/73513/
X-MICROSOFT-CDO-BUSYSTATUS:BUSY
X-MICROSOFT-CDO-IMPORTANCE:1
END:VEVENT
BEGIN:VEVENT
UID:g7fb9@games.golnetwork.com
LOCATION:Craig Henry Park - West Mini
GEO:45.3329253;-75.7757098
CREATED:20150810T213802Z
DTSTART:20150816T203000Z
DTEND:20150816T220000Z
DTSTAMP:20260425T025549Z
SUMMARY:Wild Ninja Pandas vs. Shock Tops
DESCRIPTION:Shock Tops vs. Wild Ninja PandasMore info: #158
X-ALT-DESC;FMTTYPE=text/html:<!DOCTYPE HTML PUBLIC "-//W3C//DTD HTML 3.2//E
	N">\n<HTML>\n<HEAD>\n<TITLE></TITLE>\n</HEAD>\n<BODY>\n<h3>Shock Tops vs. W
	ild Ninja Pandas</h3>More info: <a href="https://www.golnetwork.com/game/v/
	73512/">#158</a>\n\n</BODY>\n</HTML>
STATUS:CONFIRMED
CLASS:PUBLIC
URL:https://www.golnetwork.com/game/v/73512/
X-MICROSOFT-CDO-BUSYSTATUS:BUSY
X-MICROSOFT-CDO-IMPORTANCE:1
END:VEVENT
BEGIN:VEVENT
UID:g7fb7@games.golnetwork.com
LOCATION:Craig Henry Park - East Mini
GEO:45.3329135;-75.7757053
CREATED:20150810T213746Z
DTSTART:20150816T221500Z
DTEND:20150816T234500Z
DTSTAMP:20260425T025549Z
SUMMARY:Raging Grasshoppers vs. The Walruses
DESCRIPTION:The Walruses vs. Raging GrasshoppersMore info: #162
X-ALT-DESC;FMTTYPE=text/html:<!DOCTYPE HTML PUBLIC "-//W3C//DTD HTML 3.2//E
	N">\n<HTML>\n<HEAD>\n<TITLE></TITLE>\n</HEAD>\n<BODY>\n<h3>The Walruses vs.
	 Raging Grasshoppers</h3>More info: <a href="https://www.golnetwork.com/gam
	e/v/73511/">#162</a>\n\n</BODY>\n</HTML>
STATUS:CONFIRMED
CLASS:PUBLIC
URL:https://www.golnetwork.com/game/v/73511/
X-MICROSOFT-CDO-BUSYSTATUS:BUSY
X-MICROSOFT-CDO-IMPORTANCE:1
END:VEVENT
END:VCALENDAR
