BEGIN:VCALENDAR
PRODID:-//gdesolutions.com//MV Framework 1.0.0.1607 Calendar//EN
VERSION:2.0
METHOD:PUBLISH
CALSCALE:GREGORIAN
BEGIN:VEVENT
UID:g7gqh@games.golnetwork.com
LOCATION:Soccer Nation Field (Newmarket SoccerCentre)
GEO:44.0379318;-79.4421489
CREATED:20150906T030124Z
DTSTART:20151202T010000Z
DTEND:20151202T015500Z
DTSTAMP:20260425T221230Z
SUMMARY:Grass Kickers vs. Game of Throw-Ins
DESCRIPTION:Game of Throw-Ins vs. Grass KickersMore info: #74
X-ALT-DESC;FMTTYPE=text/html:<!DOCTYPE HTML PUBLIC "-//W3C//DTD HTML 3.2//E
	N">\n<HTML>\n<HEAD>\n<TITLE></TITLE>\n</HEAD>\n<BODY>\n<h3>Game of Throw-In
	s vs. Grass Kickers</h3>More info: <a href="https://www.golnetwork.com/game
	/v/74083/">#74</a>\n\n</BODY>\n</HTML>
STATUS:CONFIRMED
CLASS:PUBLIC
URL:https://www.golnetwork.com/game/v/74083/
X-MICROSOFT-CDO-BUSYSTATUS:BUSY
X-MICROSOFT-CDO-IMPORTANCE:1
END:VEVENT
BEGIN:VEVENT
UID:g7gqd@games.golnetwork.com
LOCATION:Align Healthcare Field (Newmarket SoccerCentre)
GEO:44.0379318;-79.4421489
CREATED:20150906T030124Z
DTSTART:20151202T010000Z
DTEND:20151202T015500Z
DTSTAMP:20260425T221230Z
SUMMARY:GSFC vs. Bayside Tigers
DESCRIPTION:Bayside Tigers vs. GSFCMore info: #75
X-ALT-DESC;FMTTYPE=text/html:<!DOCTYPE HTML PUBLIC "-//W3C//DTD HTML 3.2//E
	N">\n<HTML>\n<HEAD>\n<TITLE></TITLE>\n</HEAD>\n<BODY>\n<h3>Bayside Tigers v
	s. GSFC</h3>More info: <a href="https://www.golnetwork.com/game/v/74081/">#
	75</a>\n\n</BODY>\n</HTML>
STATUS:CONFIRMED
CLASS:PUBLIC
URL:https://www.golnetwork.com/game/v/74081/
X-MICROSOFT-CDO-BUSYSTATUS:BUSY
X-MICROSOFT-CDO-IMPORTANCE:1
END:VEVENT
BEGIN:VEVENT
UID:g7gqf@games.golnetwork.com
LOCATION:Soccer Nation Field (Newmarket SoccerCentre)
GEO:44.0379318;-79.4421489
CREATED:20150906T030124Z
DTSTART:20151202T020000Z
DTEND:20151202T025500Z
DTSTAMP:20260425T221230Z
SUMMARY:Aeros vs. Nasty
DESCRIPTION:Nasty vs. AerosMore info: #76
X-ALT-DESC;FMTTYPE=text/html:<!DOCTYPE HTML PUBLIC "-//W3C//DTD HTML 3.2//E
	N">\n<HTML>\n<HEAD>\n<TITLE></TITLE>\n</HEAD>\n<BODY>\n<h3>Nasty vs. Aeros<
	/h3>More info: <a href="https://www.golnetwork.com/game/v/74082/">#76</a>\n
	\n</BODY>\n</HTML>
STATUS:CONFIRMED
CLASS:PUBLIC
URL:https://www.golnetwork.com/game/v/74082/
X-MICROSOFT-CDO-BUSYSTATUS:BUSY
X-MICROSOFT-CDO-IMPORTANCE:1
END:VEVENT
BEGIN:VEVENT
UID:g7gqb@games.golnetwork.com
LOCATION:Align Healthcare Field (Newmarket SoccerCentre)
GEO:44.0379318;-79.4421489
CREATED:20150906T030124Z
DTSTART:20151202T020000Z
DTEND:20151202T025500Z
DTSTAMP:20260425T221230Z
SUMMARY:Ball Busters vs. Good Times
DESCRIPTION:Good Times vs. Ball BustersMore info: #77
X-ALT-DESC;FMTTYPE=text/html:<!DOCTYPE HTML PUBLIC "-//W3C//DTD HTML 3.2//E
	N">\n<HTML>\n<HEAD>\n<TITLE></TITLE>\n</HEAD>\n<BODY>\n<h3>Good Times vs. B
	all Busters</h3>More info: <a href="https://www.golnetwork.com/game/v/74080
	/">#77</a>\n\n</BODY>\n</HTML>
STATUS:CONFIRMED
CLASS:PUBLIC
URL:https://www.golnetwork.com/game/v/74080/
X-MICROSOFT-CDO-BUSYSTATUS:BUSY
X-MICROSOFT-CDO-IMPORTANCE:1
END:VEVENT
BEGIN:VEVENT
UID:g7gqj@games.golnetwork.com
LOCATION:Soccer Nation Field (Newmarket SoccerCentre)
GEO:44.0379318;-79.4421489
CREATED:20150906T030124Z
DTSTART:20151209T010000Z
DTEND:20151209T015500Z
DTSTAMP:20260425T221230Z
SUMMARY:Game of Throw-Ins vs. SS Balls
DESCRIPTION:SS Balls vs. Game of Throw-InsMore info: #80
X-ALT-DESC;FMTTYPE=text/html:<!DOCTYPE HTML PUBLIC "-//W3C//DTD HTML 3.2//E
	N">\n<HTML>\n<HEAD>\n<TITLE></TITLE>\n</HEAD>\n<BODY>\n<h3>SS Balls vs. Gam
	e of Throw-Ins</h3>More info: <a href="https://www.golnetwork.com/game/v/74
	084/">#80</a>\n\n</BODY>\n</HTML>
STATUS:CONFIRMED
CLASS:PUBLIC
URL:https://www.golnetwork.com/game/v/74084/
X-MICROSOFT-CDO-BUSYSTATUS:BUSY
X-MICROSOFT-CDO-IMPORTANCE:1
END:VEVENT
BEGIN:VEVENT
UID:g7gqn@games.golnetwork.com
LOCATION:Align Healthcare Field (Newmarket SoccerCentre)
GEO:44.0379318;-79.4421489
CREATED:20150906T030124Z
DTSTART:20151209T010000Z
DTEND:20151209T015500Z
DTSTAMP:20260425T221230Z
SUMMARY:Bayside Tigers vs. Valor FC
DESCRIPTION:Valor FC vs. Bayside TigersMore info: #81
X-ALT-DESC;FMTTYPE=text/html:<!DOCTYPE HTML PUBLIC "-//W3C//DTD HTML 3.2//E
	N">\n<HTML>\n<HEAD>\n<TITLE></TITLE>\n</HEAD>\n<BODY>\n<h3>Valor FC vs. Bay
	side Tigers</h3>More info: <a href="https://www.golnetwork.com/game/v/74086
	/">#81</a>\n\n</BODY>\n</HTML>
STATUS:CONFIRMED
CLASS:PUBLIC
URL:https://www.golnetwork.com/game/v/74086/
X-MICROSOFT-CDO-BUSYSTATUS:BUSY
X-MICROSOFT-CDO-IMPORTANCE:1
END:VEVENT
BEGIN:VEVENT
UID:g7gql@games.golnetwork.com
LOCATION:Soccer Nation Field (Newmarket SoccerCentre)
GEO:44.0379318;-79.4421489
CREATED:20150906T030124Z
DTSTART:20151209T020000Z
DTEND:20151209T025500Z
DTSTAMP:20260425T221230Z
SUMMARY:Nasty vs. Teal FC
DESCRIPTION:Teal FC vs. NastyMore info: #82
X-ALT-DESC;FMTTYPE=text/html:<!DOCTYPE HTML PUBLIC "-//W3C//DTD HTML 3.2//E
	N">\n<HTML>\n<HEAD>\n<TITLE></TITLE>\n</HEAD>\n<BODY>\n<h3>Teal FC vs. Nast
	y</h3>More info: <a href="https://www.golnetwork.com/game/v/74085/">#82</a>
	\n\n</BODY>\n</HTML>
STATUS:CONFIRMED
CLASS:PUBLIC
URL:https://www.golnetwork.com/game/v/74085/
X-MICROSOFT-CDO-BUSYSTATUS:BUSY
X-MICROSOFT-CDO-IMPORTANCE:1
END:VEVENT
BEGIN:VEVENT
UID:g7gqp@games.golnetwork.com
LOCATION:Align Healthcare Field (Newmarket SoccerCentre)
GEO:44.0379318;-79.4421489
CREATED:20150906T030124Z
DTSTART:20151209T020000Z
DTEND:20151209T025500Z
DTSTAMP:20260425T221230Z
SUMMARY:Good Times vs. BFC
DESCRIPTION:BFC vs. Good TimesMore info: #83
X-ALT-DESC;FMTTYPE=text/html:<!DOCTYPE HTML PUBLIC "-//W3C//DTD HTML 3.2//E
	N">\n<HTML>\n<HEAD>\n<TITLE></TITLE>\n</HEAD>\n<BODY>\n<h3>BFC vs. Good Tim
	es</h3>More info: <a href="https://www.golnetwork.com/game/v/74087/">#83</a
	>\n\n</BODY>\n</HTML>
STATUS:CONFIRMED
CLASS:PUBLIC
URL:https://www.golnetwork.com/game/v/74087/
X-MICROSOFT-CDO-BUSYSTATUS:BUSY
X-MICROSOFT-CDO-IMPORTANCE:1
END:VEVENT
BEGIN:VEVENT
UID:g7h00@games.golnetwork.com
LOCATION:Soccer Nation Field (Newmarket SoccerCentre)
GEO:44.0379318;-79.4421489
CREATED:20150906T030124Z
DTSTART:20151216T010000Z
DTEND:20151216T015500Z
DTSTAMP:20260425T221230Z
SUMMARY:Teal FC vs. BFC
DESCRIPTION:BFC vs. Teal FCMore info: #86
X-ALT-DESC;FMTTYPE=text/html:<!DOCTYPE HTML PUBLIC "-//W3C//DTD HTML 3.2//E
	N">\n<HTML>\n<HEAD>\n<TITLE></TITLE>\n</HEAD>\n<BODY>\n<h3>BFC vs. Teal FC<
	/h3>More info: <a href="https://www.golnetwork.com/game/v/74088/">#86</a>\n
	\n</BODY>\n</HTML>
STATUS:CONFIRMED
CLASS:PUBLIC
URL:https://www.golnetwork.com/game/v/74088/
X-MICROSOFT-CDO-BUSYSTATUS:BUSY
X-MICROSOFT-CDO-IMPORTANCE:1
END:VEVENT
BEGIN:VEVENT
UID:g7h02@games.golnetwork.com
LOCATION:Align Healthcare Field (Newmarket SoccerCentre)
GEO:44.0379318;-79.4421489
CREATED:20150906T030124Z
DTSTART:20151216T010000Z
DTEND:20151216T015500Z
DTSTAMP:20260425T221230Z
SUMMARY:Game of Throw-Ins vs. Valor FC
DESCRIPTION:Valor FC vs. Game of Throw-InsMore info: #87
X-ALT-DESC;FMTTYPE=text/html:<!DOCTYPE HTML PUBLIC "-//W3C//DTD HTML 3.2//E
	N">\n<HTML>\n<HEAD>\n<TITLE></TITLE>\n</HEAD>\n<BODY>\n<h3>Valor FC vs. Gam
	e of Throw-Ins</h3>More info: <a href="https://www.golnetwork.com/game/v/74
	089/">#87</a>\n\n</BODY>\n</HTML>
STATUS:CONFIRMED
CLASS:PUBLIC
URL:https://www.golnetwork.com/game/v/74089/
X-MICROSOFT-CDO-BUSYSTATUS:BUSY
X-MICROSOFT-CDO-IMPORTANCE:1
END:VEVENT
BEGIN:VEVENT
UID:g7h04@games.golnetwork.com
LOCATION:Soccer Nation Field (Newmarket SoccerCentre)
GEO:44.0379318;-79.4421489
CREATED:20150906T030124Z
DTSTART:20151216T020000Z
DTEND:20151216T025500Z
DTSTAMP:20260425T221230Z
SUMMARY:Valor FC vs. Teal FC
DESCRIPTION:Teal FC vs. Valor FCMore info: #88
X-ALT-DESC;FMTTYPE=text/html:<!DOCTYPE HTML PUBLIC "-//W3C//DTD HTML 3.2//E
	N">\n<HTML>\n<HEAD>\n<TITLE></TITLE>\n</HEAD>\n<BODY>\n<h3>Teal FC vs. Valo
	r FC</h3>More info: <a href="https://www.golnetwork.com/game/v/74090/">#88<
	/a>\n\n</BODY>\n</HTML>
STATUS:CONFIRMED
CLASS:PUBLIC
URL:https://www.golnetwork.com/game/v/74090/
X-MICROSOFT-CDO-BUSYSTATUS:BUSY
X-MICROSOFT-CDO-IMPORTANCE:1
END:VEVENT
END:VCALENDAR
