BEGIN:VCALENDAR
PRODID:-//gdesolutions.com//MV Framework 1.0.0.1607 Calendar//EN
VERSION:2.0
METHOD:PUBLISH
CALSCALE:GREGORIAN
BEGIN:VEVENT
UID:g87fk@games.golnetwork.com
LOCATION:Louis Riel #3
GEO:45.4410208;-75.5715394
CREATED:20151117T193812Z
DTSTART:20151122T190000Z
DTEND:20151122T200000Z
DTSTAMP:20260423T073649Z
SUMMARY:GD United vs. Spartans FC
DESCRIPTION:Spartans FC vs. GD UnitedMore info: #108
X-ALT-DESC;FMTTYPE=text/html:<!DOCTYPE HTML PUBLIC "-//W3C//DTD HTML 3.2//E
	N">\n<HTML>\n<HEAD>\n<TITLE></TITLE>\n</HEAD>\n<BODY>\n<h3>Spartans FC vs. 
	GD United</h3>More info: <a href="https://www.golnetwork.com/game/v/80497/"
	>#108</a>\n\n</BODY>\n</HTML>
STATUS:CONFIRMED
CLASS:PUBLIC
URL:https://www.golnetwork.com/game/v/80497/
X-MICROSOFT-CDO-BUSYSTATUS:BUSY
X-MICROSOFT-CDO-IMPORTANCE:1
END:VEVENT
BEGIN:VEVENT
UID:g87fm@games.golnetwork.com
LOCATION:Louis Riel #3
GEO:45.4410208;-75.5715394
CREATED:20151117T193829Z
DTSTART:20151122T210000Z
DTEND:20151122T220000Z
DTSTAMP:20260423T073649Z
SUMMARY:Athletic Bluerange FC vs. FC Bars-will-owna
DESCRIPTION:FC Bars-will-owna vs. Athletic Bluerange FCMore info: #112
X-ALT-DESC;FMTTYPE=text/html:<!DOCTYPE HTML PUBLIC "-//W3C//DTD HTML 3.2//E
	N">\n<HTML>\n<HEAD>\n<TITLE></TITLE>\n</HEAD>\n<BODY>\n<h3>FC Bars-will-own
	a vs. Athletic Bluerange FC</h3>More info: <a href="https://www.golnetwork.
	com/game/v/80498/">#112</a>\n\n</BODY>\n</HTML>
STATUS:CONFIRMED
CLASS:PUBLIC
URL:https://www.golnetwork.com/game/v/80498/
X-MICROSOFT-CDO-BUSYSTATUS:BUSY
X-MICROSOFT-CDO-IMPORTANCE:1
END:VEVENT
BEGIN:VEVENT
UID:g8877@games.golnetwork.com
LOCATION:Louis Riel #3
GEO:45.4410208;-75.5715394
CREATED:20151123T204755Z
DTSTART:20151129T200000Z
DTEND:20151129T210000Z
DTSTAMP:20260423T073649Z
SUMMARY:Spartans FC vs. Athletic Bluerange FC
DESCRIPTION:Athletic Bluerange FC vs. Spartans FCMore info: #121
X-ALT-DESC;FMTTYPE=text/html:<!DOCTYPE HTML PUBLIC "-//W3C//DTD HTML 3.2//E
	N">\n<HTML>\n<HEAD>\n<TITLE></TITLE>\n</HEAD>\n<BODY>\n<h3>Athletic Blueran
	ge FC vs. Spartans FC</h3>More info: <a href="https://www.golnetwork.com/ga
	me/v/80747/">#121</a>\n\n</BODY>\n</HTML>
STATUS:CONFIRMED
CLASS:PUBLIC
URL:https://www.golnetwork.com/game/v/80747/
X-MICROSOFT-CDO-BUSYSTATUS:BUSY
X-MICROSOFT-CDO-IMPORTANCE:1
END:VEVENT
BEGIN:VEVENT
UID:g8879@games.golnetwork.com
LOCATION:Louis Riel #3
GEO:45.4410208;-75.5715394
CREATED:20151123T204810Z
DTSTART:20151129T210000Z
DTEND:20151129T220000Z
DTSTAMP:20260423T073649Z
SUMMARY:GD United vs. FC Bars-will-owna
DESCRIPTION:FC Bars-will-owna vs. GD UnitedMore info: #123
X-ALT-DESC;FMTTYPE=text/html:<!DOCTYPE HTML PUBLIC "-//W3C//DTD HTML 3.2//E
	N">\n<HTML>\n<HEAD>\n<TITLE></TITLE>\n</HEAD>\n<BODY>\n<h3>FC Bars-will-own
	a vs. GD United</h3>More info: <a href="https://www.golnetwork.com/game/v/8
	0748/">#123</a>\n\n</BODY>\n</HTML>
STATUS:CONFIRMED
CLASS:PUBLIC
URL:https://www.golnetwork.com/game/v/80748/
X-MICROSOFT-CDO-BUSYSTATUS:BUSY
X-MICROSOFT-CDO-IMPORTANCE:1
END:VEVENT
END:VCALENDAR
