BEGIN:VCALENDAR
PRODID:-//gdesolutions.com//MV Framework 1.0.0.1607 Calendar//EN
VERSION:2.0
METHOD:PUBLISH
CALSCALE:GREGORIAN
BEGIN:VEVENT
UID:g86q8@games.golnetwork.com
LOCATION:Louis Riel #3
GEO:45.4410208;-75.5715394
CREATED:20151110T184434Z
DTSTART:20151115T180000Z
DTEND:20151115T190000Z
DTSTAMP:20260420T050413Z
SUMMARY:Redbulls FC vs. Hot Tub Time Machine
DESCRIPTION:Hot Tub Time Machine vs. Redbulls FCMore info: #94
X-ALT-DESC;FMTTYPE=text/html:<!DOCTYPE HTML PUBLIC "-//W3C//DTD HTML 3.2//E
	N">\n<HTML>\n<HEAD>\n<TITLE></TITLE>\n</HEAD>\n<BODY>\n<h3>Hot Tub Time Mac
	hine vs. Redbulls FC</h3>More info: <a href="https://www.golnetwork.com/gam
	e/v/80275/">#94</a>\n\n</BODY>\n</HTML>
STATUS:CONFIRMED
CLASS:PUBLIC
URL:https://www.golnetwork.com/game/v/80275/
X-MICROSOFT-CDO-BUSYSTATUS:BUSY
X-MICROSOFT-CDO-IMPORTANCE:1
END:VEVENT
BEGIN:VEVENT
UID:g86qa@games.golnetwork.com
LOCATION:Louis Riel #2
GEO:45.4410208;-75.5715394
CREATED:20151110T184457Z
DTSTART:20151115T190000Z
DTEND:20151115T200000Z
DTSTAMP:20260420T050413Z
SUMMARY:helpingwithfurniture.org vs. Picante Pelotas
DESCRIPTION:Picante Pelotas vs. helpingwithfurniture.orgMore info: #95
X-ALT-DESC;FMTTYPE=text/html:<!DOCTYPE HTML PUBLIC "-//W3C//DTD HTML 3.2//E
	N">\n<HTML>\n<HEAD>\n<TITLE></TITLE>\n</HEAD>\n<BODY>\n<h3>Picante Pelotas 
	vs. helpingwithfurniture.org</h3>More info: <a href="https://www.golnetwork
	.com/game/v/80276/">#95</a>\n\n</BODY>\n</HTML>
STATUS:CONFIRMED
CLASS:PUBLIC
URL:https://www.golnetwork.com/game/v/80276/
X-MICROSOFT-CDO-BUSYSTATUS:BUSY
X-MICROSOFT-CDO-IMPORTANCE:1
END:VEVENT
BEGIN:VEVENT
UID:g86qc@games.golnetwork.com
LOCATION:Bell Sensplex
GEO:45.2969975;-75.9090323
CREATED:20151110T184515Z
DTSTART:20151116T010000Z
DTEND:20151116T020000Z
DTSTAMP:20260420T050413Z
SUMMARY:Intermediate Individuals vs. Raiders FC
DESCRIPTION:Raiders FC vs. Intermediate IndividualsMore info: #103
X-ALT-DESC;FMTTYPE=text/html:<!DOCTYPE HTML PUBLIC "-//W3C//DTD HTML 3.2//E
	N">\n<HTML>\n<HEAD>\n<TITLE></TITLE>\n</HEAD>\n<BODY>\n<h3>Raiders FC vs. I
	ntermediate Individuals</h3>More info: <a href="https://www.golnetwork.com/
	game/v/80277/">#103</a>\n\n</BODY>\n</HTML>
STATUS:CONFIRMED
CLASS:PUBLIC
URL:https://www.golnetwork.com/game/v/80277/
X-MICROSOFT-CDO-BUSYSTATUS:BUSY
X-MICROSOFT-CDO-IMPORTANCE:1
END:VEVENT
BEGIN:VEVENT
UID:g87g5@games.golnetwork.com
LOCATION:Louis Riel #3
GEO:45.4410208;-75.5715394
CREATED:20151117T194031Z
DTSTART:20151122T180000Z
DTEND:20151122T190000Z
DTSTAMP:20260420T050413Z
SUMMARY:Picante Pelotas vs. Hot Tub Time Machine
DESCRIPTION:Hot Tub Time Machine vs. Picante PelotasMore info: #106
X-ALT-DESC;FMTTYPE=text/html:<!DOCTYPE HTML PUBLIC "-//W3C//DTD HTML 3.2//E
	N">\n<HTML>\n<HEAD>\n<TITLE></TITLE>\n</HEAD>\n<BODY>\n<h3>Hot Tub Time Mac
	hine vs. Picante Pelotas</h3>More info: <a href="https://www.golnetwork.com
	/game/v/80503/">#106</a>\n\n</BODY>\n</HTML>
STATUS:CONFIRMED
CLASS:PUBLIC
URL:https://www.golnetwork.com/game/v/80503/
X-MICROSOFT-CDO-BUSYSTATUS:BUSY
X-MICROSOFT-CDO-IMPORTANCE:1
END:VEVENT
BEGIN:VEVENT
UID:g87g3@games.golnetwork.com
LOCATION:Louis Riel #3
GEO:45.4410208;-75.5715394
CREATED:20151117T194010Z
DTSTART:20151122T200000Z
DTEND:20151122T210000Z
DTSTAMP:20260420T050413Z
SUMMARY:helpingwithfurniture.org vs. Redbulls FC
DESCRIPTION:Redbulls FC vs. helpingwithfurniture.orgMore info: #110
X-ALT-DESC;FMTTYPE=text/html:<!DOCTYPE HTML PUBLIC "-//W3C//DTD HTML 3.2//E
	N">\n<HTML>\n<HEAD>\n<TITLE></TITLE>\n</HEAD>\n<BODY>\n<h3>Redbulls FC vs. 
	helpingwithfurniture.org</h3>More info: <a href="https://www.golnetwork.com
	/game/v/80502/">#110</a>\n\n</BODY>\n</HTML>
STATUS:CONFIRMED
CLASS:PUBLIC
URL:https://www.golnetwork.com/game/v/80502/
X-MICROSOFT-CDO-BUSYSTATUS:BUSY
X-MICROSOFT-CDO-IMPORTANCE:1
END:VEVENT
BEGIN:VEVENT
UID:g87g7@games.golnetwork.com
LOCATION:Bell Sensplex
GEO:45.2969975;-75.9090323
CREATED:20151117T194052Z
DTSTART:20151123T020000Z
DTEND:20151123T030000Z
DTSTAMP:20260420T050413Z
SUMMARY:Amigos vs. Intermediate Individuals
DESCRIPTION:Intermediate Individuals vs. AmigosMore info: #116
X-ALT-DESC;FMTTYPE=text/html:<!DOCTYPE HTML PUBLIC "-//W3C//DTD HTML 3.2//E
	N">\n<HTML>\n<HEAD>\n<TITLE></TITLE>\n</HEAD>\n<BODY>\n<h3>Intermediate Ind
	ividuals vs. Amigos</h3>More info: <a href="https://www.golnetwork.com/game
	/v/80504/">#116</a>\n\n</BODY>\n</HTML>
STATUS:CONFIRMED
CLASS:PUBLIC
URL:https://www.golnetwork.com/game/v/80504/
X-MICROSOFT-CDO-BUSYSTATUS:BUSY
X-MICROSOFT-CDO-IMPORTANCE:1
END:VEVENT
BEGIN:VEVENT
UID:g8880@games.golnetwork.com
LOCATION:Louis Riel #3
GEO:45.4410208;-75.5715394
CREATED:20151123T205159Z
DTSTART:20151129T180000Z
DTEND:20151129T190000Z
DTSTAMP:20260420T050413Z
SUMMARY:Intermediate Individuals vs. Hot Tub Time Machine
DESCRIPTION:Hot Tub Time Machine vs. Intermediate IndividualsMore info: #11
	7
X-ALT-DESC;FMTTYPE=text/html:<!DOCTYPE HTML PUBLIC "-//W3C//DTD HTML 3.2//E
	N">\n<HTML>\n<HEAD>\n<TITLE></TITLE>\n</HEAD>\n<BODY>\n<h3>Hot Tub Time Mac
	hine vs. Intermediate Individuals</h3>More info: <a href="https://www.golne
	twork.com/game/v/80757/">#117</a>\n\n</BODY>\n</HTML>
STATUS:CONFIRMED
CLASS:PUBLIC
URL:https://www.golnetwork.com/game/v/80757/
X-MICROSOFT-CDO-BUSYSTATUS:BUSY
X-MICROSOFT-CDO-IMPORTANCE:1
END:VEVENT
BEGIN:VEVENT
UID:g887j@games.golnetwork.com
LOCATION:Louis Riel #2
GEO:45.4410208;-75.5715394
CREATED:20151123T205012Z
DTSTART:20151129T210000Z
DTEND:20151129T220000Z
DTSTAMP:20260420T050413Z
SUMMARY:Picante Pelotas vs. helpingwithfurniture.org
DESCRIPTION:helpingwithfurniture.org vs. Picante PelotasMore info: #122
X-ALT-DESC;FMTTYPE=text/html:<!DOCTYPE HTML PUBLIC "-//W3C//DTD HTML 3.2//E
	N">\n<HTML>\n<HEAD>\n<TITLE></TITLE>\n</HEAD>\n<BODY>\n<h3>helpingwithfurni
	ture.org vs. Picante Pelotas</h3>More info: <a href="https://www.golnetwork
	.com/game/v/80753/">#122</a>\n\n</BODY>\n</HTML>
STATUS:CONFIRMED
CLASS:PUBLIC
URL:https://www.golnetwork.com/game/v/80753/
X-MICROSOFT-CDO-BUSYSTATUS:BUSY
X-MICROSOFT-CDO-IMPORTANCE:1
END:VEVENT
BEGIN:VEVENT
UID:g887h@games.golnetwork.com
LOCATION:Louis Riel #3
GEO:45.4410208;-75.5715394
CREATED:20151123T204947Z
DTSTART:20151129T220000Z
DTEND:20151129T230000Z
DTSTAMP:20260420T050413Z
SUMMARY:Raiders FC vs. Redbulls FC
DESCRIPTION:Redbulls FC vs. Raiders FCMore info: #124
X-ALT-DESC;FMTTYPE=text/html:<!DOCTYPE HTML PUBLIC "-//W3C//DTD HTML 3.2//E
	N">\n<HTML>\n<HEAD>\n<TITLE></TITLE>\n</HEAD>\n<BODY>\n<h3>Redbulls FC vs. 
	Raiders FC</h3>More info: <a href="https://www.golnetwork.com/game/v/80752/
	">#124</a>\n\n</BODY>\n</HTML>
STATUS:CONFIRMED
CLASS:PUBLIC
URL:https://www.golnetwork.com/game/v/80752/
X-MICROSOFT-CDO-BUSYSTATUS:BUSY
X-MICROSOFT-CDO-IMPORTANCE:1
END:VEVENT
END:VCALENDAR
