BEGIN:VCALENDAR
PRODID:-//gdesolutions.com//MV Framework 1.0.0.1607 Calendar//EN
VERSION:2.0
METHOD:PUBLISH
CALSCALE:GREGORIAN
BEGIN:VEVENT
UID:g7hm6@games.golnetwork.com
LOCATION:Ben Franklin Dome Field 2
GEO:45.3235661;-75.7751222
CREATED:20150908T234453Z
DTSTART:20150913T190000Z
DTEND:20150913T200000Z
DTSTAMP:20260421T042609Z
SUMMARY:Hooleys Hooligans vs. Mambas FC
DESCRIPTION:Mambas FC vs. Hooleys HooligansMore info: #2
X-ALT-DESC;FMTTYPE=text/html:<!DOCTYPE HTML PUBLIC "-//W3C//DTD HTML 3.2//E
	N">\n<HTML>\n<HEAD>\n<TITLE></TITLE>\n</HEAD>\n<BODY>\n<h3>Mambas FC vs. Ho
	oleys Hooligans</h3>More info: <a href="https://www.golnetwork.com/game/v/7
	4388/">#2</a>\n\n</BODY>\n</HTML>
STATUS:CONFIRMED
CLASS:PUBLIC
URL:https://www.golnetwork.com/game/v/74388/
X-MICROSOFT-CDO-BUSYSTATUS:BUSY
X-MICROSOFT-CDO-IMPORTANCE:1
END:VEVENT
BEGIN:VEVENT
UID:g7hma@games.golnetwork.com
LOCATION:Ben Franklin Dome Field 2
GEO:45.3235661;-75.7751222
CREATED:20150908T234453Z
DTSTART:20150913T200000Z
DTEND:20150913T210000Z
DTSTAMP:20260421T042609Z
SUMMARY:Real Ale Madrid vs. Dauntless
DESCRIPTION:Dauntless vs. Real Ale MadridMore info: #4
X-ALT-DESC;FMTTYPE=text/html:<!DOCTYPE HTML PUBLIC "-//W3C//DTD HTML 3.2//E
	N">\n<HTML>\n<HEAD>\n<TITLE></TITLE>\n</HEAD>\n<BODY>\n<h3>Dauntless vs. Re
	al Ale Madrid</h3>More info: <a href="https://www.golnetwork.com/game/v/743
	90/">#4</a>\n\n</BODY>\n</HTML>
STATUS:CONFIRMED
CLASS:PUBLIC
URL:https://www.golnetwork.com/game/v/74390/
X-MICROSOFT-CDO-BUSYSTATUS:BUSY
X-MICROSOFT-CDO-IMPORTANCE:1
END:VEVENT
BEGIN:VEVENT
UID:g7hmc@games.golnetwork.com
LOCATION:Ben Franklin Dome Field 3
GEO:45.10662;-94.578209
CREATED:20150908T234453Z
DTSTART:20150913T200000Z
DTEND:20150913T210000Z
DTSTAMP:20260421T042609Z
SUMMARY:Winded FC vs. The Fighting Mongooses
DESCRIPTION:The Fighting Mongooses vs. Winded FCMore info: #5
X-ALT-DESC;FMTTYPE=text/html:<!DOCTYPE HTML PUBLIC "-//W3C//DTD HTML 3.2//E
	N">\n<HTML>\n<HEAD>\n<TITLE></TITLE>\n</HEAD>\n<BODY>\n<h3>The Fighting Mon
	gooses vs. Winded FC</h3>More info: <a href="https://www.golnetwork.com/gam
	e/v/74391/">#5</a>\n\n</BODY>\n</HTML>
STATUS:CONFIRMED
CLASS:PUBLIC
URL:https://www.golnetwork.com/game/v/74391/
X-MICROSOFT-CDO-BUSYSTATUS:BUSY
X-MICROSOFT-CDO-IMPORTANCE:1
END:VEVENT
BEGIN:VEVENT
UID:g7hmm@games.golnetwork.com
LOCATION:Ben Franklin Dome Field 1
GEO:45.3235661;-75.7751222
CREATED:20150908T234454Z
DTSTART:20150913T220000Z
DTEND:20150913T230000Z
DTSTAMP:20260421T042609Z
SUMMARY:Ottawa Easy Wheels vs. Isotopes
DESCRIPTION:Isotopes vs. Ottawa Easy WheelsMore info: #10
X-ALT-DESC;FMTTYPE=text/html:<!DOCTYPE HTML PUBLIC "-//W3C//DTD HTML 3.2//E
	N">\n<HTML>\n<HEAD>\n<TITLE></TITLE>\n</HEAD>\n<BODY>\n<h3>Isotopes vs. Ott
	awa Easy Wheels</h3>More info: <a href="https://www.golnetwork.com/game/v/7
	4396/">#10</a>\n\n</BODY>\n</HTML>
STATUS:CONFIRMED
CLASS:PUBLIC
URL:https://www.golnetwork.com/game/v/74396/
X-MICROSOFT-CDO-BUSYSTATUS:BUSY
X-MICROSOFT-CDO-IMPORTANCE:1
END:VEVENT
BEGIN:VEVENT
UID:g7hmq@games.golnetwork.com
LOCATION:Louis Riel #2
GEO:45.4410208;-75.5715394
CREATED:20150908T234454Z
DTSTART:20150920T193000Z
DTEND:20150920T203000Z
DTSTAMP:20260421T042609Z
SUMMARY:The Fighting Mongooses vs. Dauntless
DESCRIPTION:Dauntless vs. The Fighting MongoosesMore info: #12
X-ALT-DESC;FMTTYPE=text/html:<!DOCTYPE HTML PUBLIC "-//W3C//DTD HTML 3.2//E
	N">\n<HTML>\n<HEAD>\n<TITLE></TITLE>\n</HEAD>\n<BODY>\n<h3>Dauntless vs. Th
	e Fighting Mongooses</h3>More info: <a href="https://www.golnetwork.com/gam
	e/v/74398/">#12</a>\n\n</BODY>\n</HTML>
STATUS:CONFIRMED
CLASS:PUBLIC
URL:https://www.golnetwork.com/game/v/74398/
X-MICROSOFT-CDO-BUSYSTATUS:BUSY
X-MICROSOFT-CDO-IMPORTANCE:1
END:VEVENT
BEGIN:VEVENT
UID:g7hn9@games.golnetwork.com
LOCATION:Ben Franklin Dome Field 1
GEO:45.3235661;-75.7751222
CREATED:20150908T234454Z
DTSTART:20150920T200000Z
DTEND:20150920T210000Z
DTSTAMP:20260421T042609Z
SUMMARY:Real Ale Madrid vs. Isotopes
DESCRIPTION:Isotopes vs. Real Ale MadridMore info: #17
X-ALT-DESC;FMTTYPE=text/html:<!DOCTYPE HTML PUBLIC "-//W3C//DTD HTML 3.2//E
	N">\n<HTML>\n<HEAD>\n<TITLE></TITLE>\n</HEAD>\n<BODY>\n<h3>Isotopes vs. Rea
	l Ale Madrid</h3>More info: <a href="https://www.golnetwork.com/game/v/7440
	3/">#17</a>\n\n</BODY>\n</HTML>
STATUS:CONFIRMED
CLASS:PUBLIC
URL:https://www.golnetwork.com/game/v/74403/
X-MICROSOFT-CDO-BUSYSTATUS:BUSY
X-MICROSOFT-CDO-IMPORTANCE:1
END:VEVENT
BEGIN:VEVENT
UID:g7hn5@games.golnetwork.com
LOCATION:Louis Riel #1
GEO:45.4410208;-75.5715394
CREATED:20150908T234454Z
DTSTART:20150920T213000Z
DTEND:20150920T223000Z
DTSTAMP:20260421T042609Z
SUMMARY:Amigos vs. Mambas FC
DESCRIPTION:Mambas FC vs. AmigosMore info: #15
X-ALT-DESC;FMTTYPE=text/html:<!DOCTYPE HTML PUBLIC "-//W3C//DTD HTML 3.2//E
	N">\n<HTML>\n<HEAD>\n<TITLE></TITLE>\n</HEAD>\n<BODY>\n<h3>Mambas FC vs. Am
	igos</h3>More info: <a href="https://www.golnetwork.com/game/v/74401/">#15<
	/a>\n\n</BODY>\n</HTML>
STATUS:CONFIRMED
CLASS:PUBLIC
URL:https://www.golnetwork.com/game/v/74401/
X-MICROSOFT-CDO-BUSYSTATUS:BUSY
X-MICROSOFT-CDO-IMPORTANCE:1
END:VEVENT
BEGIN:VEVENT
UID:g7mdo@games.golnetwork.com
LOCATION:Louis Riel #1
GEO:45.4410208;-75.5715394
CREATED:20150922T174252Z
DTSTART:20150927T193000Z
DTEND:20150927T203000Z
DTSTAMP:20260421T042609Z
SUMMARY:helpingwithfurniture.org vs. Hooleys Hooligans
DESCRIPTION:Hooleys Hooligans vs. helpingwithfurniture.orgMore info: #1
X-ALT-DESC;FMTTYPE=text/html:<!DOCTYPE HTML PUBLIC "-//W3C//DTD HTML 3.2//E
	N">\n<HTML>\n<HEAD>\n<TITLE></TITLE>\n</HEAD>\n<BODY>\n<h3>Hooleys Hooligan
	s vs. helpingwithfurniture.org</h3>More info: <a href="https://www.golnetwo
	rk.com/game/v/76098/">#1</a>\n\n</BODY>\n</HTML>
STATUS:CONFIRMED
CLASS:PUBLIC
URL:https://www.golnetwork.com/game/v/76098/
X-MICROSOFT-CDO-BUSYSTATUS:BUSY
X-MICROSOFT-CDO-IMPORTANCE:1
END:VEVENT
BEGIN:VEVENT
UID:g7mdq@games.golnetwork.com
LOCATION:Louis Riel #2
GEO:45.4410208;-75.5715394
CREATED:20150922T174253Z
DTSTART:20150927T193000Z
DTEND:20150927T203000Z
DTSTAMP:20260421T042609Z
SUMMARY:Ottawa Easy Wheels vs. The Fighting Mongooses
DESCRIPTION:The Fighting Mongooses vs. Ottawa Easy WheelsMore info: #2
X-ALT-DESC;FMTTYPE=text/html:<!DOCTYPE HTML PUBLIC "-//W3C//DTD HTML 3.2//E
	N">\n<HTML>\n<HEAD>\n<TITLE></TITLE>\n</HEAD>\n<BODY>\n<h3>The Fighting Mon
	gooses vs. Ottawa Easy Wheels</h3>More info: <a href="https://www.golnetwor
	k.com/game/v/76099/">#2</a>\n\n</BODY>\n</HTML>
STATUS:CONFIRMED
CLASS:PUBLIC
URL:https://www.golnetwork.com/game/v/76099/
X-MICROSOFT-CDO-BUSYSTATUS:BUSY
X-MICROSOFT-CDO-IMPORTANCE:1
END:VEVENT
BEGIN:VEVENT
UID:g7meb@games.golnetwork.com
LOCATION:Louis Riel #2
GEO:45.4410208;-75.5715394
CREATED:20150922T174253Z
DTSTART:20150927T213000Z
DTEND:20150927T223000Z
DTSTAMP:20260421T042609Z
SUMMARY:Mambas FC vs. Dauntless
DESCRIPTION:Dauntless vs. Mambas FCMore info: #8
X-ALT-DESC;FMTTYPE=text/html:<!DOCTYPE HTML PUBLIC "-//W3C//DTD HTML 3.2//E
	N">\n<HTML>\n<HEAD>\n<TITLE></TITLE>\n</HEAD>\n<BODY>\n<h3>Dauntless vs. Ma
	mbas FC</h3>More info: <a href="https://www.golnetwork.com/game/v/76105/">#
	8</a>\n\n</BODY>\n</HTML>
STATUS:CONFIRMED
CLASS:PUBLIC
URL:https://www.golnetwork.com/game/v/76105/
X-MICROSOFT-CDO-BUSYSTATUS:BUSY
X-MICROSOFT-CDO-IMPORTANCE:1
END:VEVENT
BEGIN:VEVENT
UID:g7mej@games.golnetwork.com
LOCATION:Ben Franklin Dome Field 1
GEO:45.3235661;-75.7751222
CREATED:20150922T174254Z
DTSTART:20150927T220000Z
DTEND:20150927T230000Z
DTSTAMP:20260421T042609Z
SUMMARY:Redbulls FC vs. Isotopes
DESCRIPTION:Isotopes vs. Redbulls FCMore info: #12
X-ALT-DESC;FMTTYPE=text/html:<!DOCTYPE HTML PUBLIC "-//W3C//DTD HTML 3.2//E
	N">\n<HTML>\n<HEAD>\n<TITLE></TITLE>\n</HEAD>\n<BODY>\n<h3>Isotopes vs. Red
	bulls FC</h3>More info: <a href="https://www.golnetwork.com/game/v/76109/">
	#12</a>\n\n</BODY>\n</HTML>
STATUS:CONFIRMED
CLASS:PUBLIC
URL:https://www.golnetwork.com/game/v/76109/
X-MICROSOFT-CDO-BUSYSTATUS:BUSY
X-MICROSOFT-CDO-IMPORTANCE:1
END:VEVENT
BEGIN:VEVENT
UID:g7mel@games.golnetwork.com
LOCATION:Louis Riel #2
GEO:45.4410208;-75.5715394
CREATED:20150922T174254Z
DTSTART:20151004T183000Z
DTEND:20151004T193000Z
DTSTAMP:20260421T042609Z
SUMMARY:Hot Tub Time Machine vs. Hooleys Hooligans
DESCRIPTION:Hooleys Hooligans vs. Hot Tub Time MachineMore info: #13
X-ALT-DESC;FMTTYPE=text/html:<!DOCTYPE HTML PUBLIC "-//W3C//DTD HTML 3.2//E
	N">\n<HTML>\n<HEAD>\n<TITLE></TITLE>\n</HEAD>\n<BODY>\n<h3>Hooleys Hooligan
	s vs. Hot Tub Time Machine</h3>More info: <a href="https://www.golnetwork.c
	om/game/v/76110/">#13</a>\n\n</BODY>\n</HTML>
STATUS:CONFIRMED
CLASS:PUBLIC
URL:https://www.golnetwork.com/game/v/76110/
X-MICROSOFT-CDO-BUSYSTATUS:BUSY
X-MICROSOFT-CDO-IMPORTANCE:1
END:VEVENT
BEGIN:VEVENT
UID:g7mf0@games.golnetwork.com
LOCATION:Louis Riel #2
GEO:45.4410208;-75.5715394
CREATED:20150922T174254Z
DTSTART:20151004T203000Z
DTEND:20151004T213000Z
DTSTAMP:20260421T042609Z
SUMMARY:Dauntless vs. Ottawa Easy Wheels
DESCRIPTION:Ottawa Easy Wheels vs. DauntlessMore info: #16
X-ALT-DESC;FMTTYPE=text/html:<!DOCTYPE HTML PUBLIC "-//W3C//DTD HTML 3.2//E
	N">\n<HTML>\n<HEAD>\n<TITLE></TITLE>\n</HEAD>\n<BODY>\n<h3>Ottawa Easy Whee
	ls vs. Dauntless</h3>More info: <a href="https://www.golnetwork.com/game/v/
	76113/">#16</a>\n\n</BODY>\n</HTML>
STATUS:CONFIRMED
CLASS:PUBLIC
URL:https://www.golnetwork.com/game/v/76113/
X-MICROSOFT-CDO-BUSYSTATUS:BUSY
X-MICROSOFT-CDO-IMPORTANCE:1
END:VEVENT
BEGIN:VEVENT
UID:g7mf4@games.golnetwork.com
LOCATION:Louis Riel #2
GEO:45.4410208;-75.5715394
CREATED:20150922T174254Z
DTSTART:20151004T213000Z
DTEND:20151004T223000Z
DTSTAMP:20260421T042609Z
SUMMARY:Real Ale Madrid vs. The Fighting Mongooses
DESCRIPTION:The Fighting Mongooses vs. Real Ale MadridMore info: #18
X-ALT-DESC;FMTTYPE=text/html:<!DOCTYPE HTML PUBLIC "-//W3C//DTD HTML 3.2//E
	N">\n<HTML>\n<HEAD>\n<TITLE></TITLE>\n</HEAD>\n<BODY>\n<h3>The Fighting Mon
	gooses vs. Real Ale Madrid</h3>More info: <a href="https://www.golnetwork.c
	om/game/v/76115/">#18</a>\n\n</BODY>\n</HTML>
STATUS:CONFIRMED
CLASS:PUBLIC
URL:https://www.golnetwork.com/game/v/76115/
X-MICROSOFT-CDO-BUSYSTATUS:BUSY
X-MICROSOFT-CDO-IMPORTANCE:1
END:VEVENT
BEGIN:VEVENT
UID:g7mfa@games.golnetwork.com
LOCATION:Ben Franklin Dome Field 1
GEO:45.3235661;-75.7751222
CREATED:20150922T174254Z
DTSTART:20151004T230000Z
DTEND:20151005T000000Z
DTSTAMP:20260421T042609Z
SUMMARY:The Wildlings vs. Isotopes
DESCRIPTION:Isotopes vs. The WildlingsMore info: #21
X-ALT-DESC;FMTTYPE=text/html:<!DOCTYPE HTML PUBLIC "-//W3C//DTD HTML 3.2//E
	N">\n<HTML>\n<HEAD>\n<TITLE></TITLE>\n</HEAD>\n<BODY>\n<h3>Isotopes vs. The
	 Wildlings</h3>More info: <a href="https://www.golnetwork.com/game/v/76118/
	">#21</a>\n\n</BODY>\n</HTML>
STATUS:CONFIRMED
CLASS:PUBLIC
URL:https://www.golnetwork.com/game/v/76118/
X-MICROSOFT-CDO-BUSYSTATUS:BUSY
X-MICROSOFT-CDO-IMPORTANCE:1
END:VEVENT
BEGIN:VEVENT
UID:g81eb@games.golnetwork.com
LOCATION:Louis Riel #3
GEO:45.4410208;-75.5715394
CREATED:20151014T072651Z
DTSTART:20151018T180000Z
DTEND:20151018T190000Z
DTSTAMP:20260421T042609Z
SUMMARY:Dauntless vs. Dirty Mike & The Boys
DESCRIPTION:Dirty Mike & The Boys vs. DauntlessMore info: #3
X-ALT-DESC;FMTTYPE=text/html:<!DOCTYPE HTML PUBLIC "-//W3C//DTD HTML 3.2//E
	N">\n<HTML>\n<HEAD>\n<TITLE></TITLE>\n</HEAD>\n<BODY>\n<h3>Dirty Mike & The
	 Boys vs. Dauntless</h3>More info: <a href="https://www.golnetwork.com/game
	/v/78292/">#3</a>\n\n</BODY>\n</HTML>
STATUS:CONFIRMED
CLASS:PUBLIC
URL:https://www.golnetwork.com/game/v/78292/
X-MICROSOFT-CDO-BUSYSTATUS:BUSY
X-MICROSOFT-CDO-IMPORTANCE:1
END:VEVENT
BEGIN:VEVENT
UID:g81ef@games.golnetwork.com
LOCATION:Louis Riel #2
GEO:45.4410208;-75.5715394
CREATED:20151014T072651Z
DTSTART:20151018T190000Z
DTEND:20151018T200000Z
DTSTAMP:20260421T042609Z
SUMMARY:Mambas FC vs. The Fighting Mongooses
DESCRIPTION:The Fighting Mongooses vs. Mambas FCMore info: #5
X-ALT-DESC;FMTTYPE=text/html:<!DOCTYPE HTML PUBLIC "-//W3C//DTD HTML 3.2//E
	N">\n<HTML>\n<HEAD>\n<TITLE></TITLE>\n</HEAD>\n<BODY>\n<h3>The Fighting Mon
	gooses vs. Mambas FC</h3>More info: <a href="https://www.golnetwork.com/gam
	e/v/78294/">#5</a>\n\n</BODY>\n</HTML>
STATUS:CONFIRMED
CLASS:PUBLIC
URL:https://www.golnetwork.com/game/v/78294/
X-MICROSOFT-CDO-BUSYSTATUS:BUSY
X-MICROSOFT-CDO-IMPORTANCE:1
END:VEVENT
BEGIN:VEVENT
UID:g81ej@games.golnetwork.com
LOCATION:Louis Riel #2
GEO:45.4410208;-75.5715394
CREATED:20151014T072651Z
DTSTART:20151018T200000Z
DTEND:20151018T210000Z
DTSTAMP:20260421T042609Z
SUMMARY:Ottawa Easy Wheels vs. Real Ale Madrid
DESCRIPTION:Real Ale Madrid vs. Ottawa Easy WheelsMore info: #8
X-ALT-DESC;FMTTYPE=text/html:<!DOCTYPE HTML PUBLIC "-//W3C//DTD HTML 3.2//E
	N">\n<HTML>\n<HEAD>\n<TITLE></TITLE>\n</HEAD>\n<BODY>\n<h3>Real Ale Madrid 
	vs. Ottawa Easy Wheels</h3>More info: <a href="https://www.golnetwork.com/g
	ame/v/78296/">#8</a>\n\n</BODY>\n</HTML>
STATUS:CONFIRMED
CLASS:PUBLIC
URL:https://www.golnetwork.com/game/v/78296/
X-MICROSOFT-CDO-BUSYSTATUS:BUSY
X-MICROSOFT-CDO-IMPORTANCE:1
END:VEVENT
BEGIN:VEVENT
UID:g81fa@games.golnetwork.com
LOCATION:Louis Riel #3
GEO:45.4410208;-75.5715394
CREATED:20151014T072652Z
DTSTART:20151025T180000Z
DTEND:20151025T190000Z
DTSTAMP:20260421T042609Z
SUMMARY:Mambas FC vs. Real Ale Madrid
DESCRIPTION:Real Ale Madrid vs. Mambas FCMore info: #17
X-ALT-DESC;FMTTYPE=text/html:<!DOCTYPE HTML PUBLIC "-//W3C//DTD HTML 3.2//E
	N">\n<HTML>\n<HEAD>\n<TITLE></TITLE>\n</HEAD>\n<BODY>\n<h3>Real Ale Madrid 
	vs. Mambas FC</h3>More info: <a href="https://www.golnetwork.com/game/v/783
	05/">#17</a>\n\n</BODY>\n</HTML>
STATUS:CONFIRMED
CLASS:PUBLIC
URL:https://www.golnetwork.com/game/v/78305/
X-MICROSOFT-CDO-BUSYSTATUS:BUSY
X-MICROSOFT-CDO-IMPORTANCE:1
END:VEVENT
BEGIN:VEVENT
UID:g81fe@games.golnetwork.com
LOCATION:Louis Riel #3
GEO:45.4410208;-75.5715394
CREATED:20151014T072653Z
DTSTART:20151025T190000Z
DTEND:20151025T200000Z
DTSTAMP:20260421T042609Z
SUMMARY:The Fighting Mongooses vs. Dirty Mike & The Boys
DESCRIPTION:Dirty Mike & The Boys vs. The Fighting MongoosesMore info: #19
X-ALT-DESC;FMTTYPE=text/html:<!DOCTYPE HTML PUBLIC "-//W3C//DTD HTML 3.2//E
	N">\n<HTML>\n<HEAD>\n<TITLE></TITLE>\n</HEAD>\n<BODY>\n<h3>Dirty Mike & The
	 Boys vs. The Fighting Mongooses</h3>More info: <a href="https://www.golnet
	work.com/game/v/78307/">#19</a>\n\n</BODY>\n</HTML>
STATUS:CONFIRMED
CLASS:PUBLIC
URL:https://www.golnetwork.com/game/v/78307/
X-MICROSOFT-CDO-BUSYSTATUS:BUSY
X-MICROSOFT-CDO-IMPORTANCE:1
END:VEVENT
BEGIN:VEVENT
UID:g81f6@games.golnetwork.com
LOCATION:Louis Riel #2
GEO:45.4410208;-75.5715394
CREATED:20151014T072652Z
DTSTART:20151025T200000Z
DTEND:20151025T210000Z
DTSTAMP:20260421T042609Z
SUMMARY:helpingwithfurniture.org vs. Dauntless
DESCRIPTION:Dauntless vs. helpingwithfurniture.orgMore info: #15
X-ALT-DESC;FMTTYPE=text/html:<!DOCTYPE HTML PUBLIC "-//W3C//DTD HTML 3.2//E
	N">\n<HTML>\n<HEAD>\n<TITLE></TITLE>\n</HEAD>\n<BODY>\n<h3>Dauntless vs. he
	lpingwithfurniture.org</h3>More info: <a href="https://www.golnetwork.com/g
	ame/v/78303/">#15</a>\n\n</BODY>\n</HTML>
STATUS:CONFIRMED
CLASS:PUBLIC
URL:https://www.golnetwork.com/game/v/78303/
X-MICROSOFT-CDO-BUSYSTATUS:BUSY
X-MICROSOFT-CDO-IMPORTANCE:1
END:VEVENT
BEGIN:VEVENT
UID:g81fq@games.golnetwork.com
LOCATION:Ben Franklin Dome Field 1
GEO:45.3235661;-75.7751222
CREATED:20151014T072653Z
DTSTART:20151026T010000Z
DTEND:20151026T020000Z
DTSTAMP:20260421T042609Z
SUMMARY:Redbulls FC vs. Ottawa Easy Wheels
DESCRIPTION:Ottawa Easy Wheels vs. Redbulls FCMore info: #26
X-ALT-DESC;FMTTYPE=text/html:<!DOCTYPE HTML PUBLIC "-//W3C//DTD HTML 3.2//E
	N">\n<HTML>\n<HEAD>\n<TITLE></TITLE>\n</HEAD>\n<BODY>\n<h3>Ottawa Easy Whee
	ls vs. Redbulls FC</h3>More info: <a href="https://www.golnetwork.com/game/
	v/78313/">#26</a>\n\n</BODY>\n</HTML>
STATUS:CONFIRMED
CLASS:PUBLIC
URL:https://www.golnetwork.com/game/v/78313/
X-MICROSOFT-CDO-BUSYSTATUS:BUSY
X-MICROSOFT-CDO-IMPORTANCE:1
END:VEVENT
BEGIN:VEVENT
UID:g81g7@games.golnetwork.com
LOCATION:Louis Riel #3
GEO:45.4410208;-75.5715394
CREATED:20151014T072654Z
DTSTART:20151101T200000Z
DTEND:20151101T210000Z
DTSTAMP:20260421T042609Z
SUMMARY:Mambas FC vs. Dirty Mike & The Boys
DESCRIPTION:Dirty Mike & The Boys vs. Mambas FCMore info: #30
X-ALT-DESC;FMTTYPE=text/html:<!DOCTYPE HTML PUBLIC "-//W3C//DTD HTML 3.2//E
	N">\n<HTML>\n<HEAD>\n<TITLE></TITLE>\n</HEAD>\n<BODY>\n<h3>Dirty Mike & The
	 Boys vs. Mambas FC</h3>More info: <a href="https://www.golnetwork.com/game
	/v/78317/">#30</a>\n\n</BODY>\n</HTML>
STATUS:CONFIRMED
CLASS:PUBLIC
URL:https://www.golnetwork.com/game/v/78317/
X-MICROSOFT-CDO-BUSYSTATUS:BUSY
X-MICROSOFT-CDO-IMPORTANCE:1
END:VEVENT
BEGIN:VEVENT
UID:g81gf@games.golnetwork.com
LOCATION:Louis Riel #2
GEO:45.4410208;-75.5715394
CREATED:20151014T072654Z
DTSTART:20151101T210000Z
DTEND:20151101T220000Z
DTSTAMP:20260421T042609Z
SUMMARY:Dauntless vs. Real Ale Madrid
DESCRIPTION:Real Ale Madrid vs. DauntlessMore info: #34
X-ALT-DESC;FMTTYPE=text/html:<!DOCTYPE HTML PUBLIC "-//W3C//DTD HTML 3.2//E
	N">\n<HTML>\n<HEAD>\n<TITLE></TITLE>\n</HEAD>\n<BODY>\n<h3>Real Ale Madrid 
	vs. Dauntless</h3>More info: <a href="https://www.golnetwork.com/game/v/783
	21/">#34</a>\n\n</BODY>\n</HTML>
STATUS:CONFIRMED
CLASS:PUBLIC
URL:https://www.golnetwork.com/game/v/78321/
X-MICROSOFT-CDO-BUSYSTATUS:BUSY
X-MICROSOFT-CDO-IMPORTANCE:1
END:VEVENT
BEGIN:VEVENT
UID:g81gd@games.golnetwork.com
LOCATION:Louis Riel #3
GEO:45.4410208;-75.5715394
CREATED:20151014T072654Z
DTSTART:20151101T220000Z
DTEND:20151101T230000Z
DTSTAMP:20260421T042609Z
SUMMARY:Ottawa Easy Wheels vs. The Fighting Mongooses
DESCRIPTION:The Fighting Mongooses vs. Ottawa Easy WheelsMore info: #33
X-ALT-DESC;FMTTYPE=text/html:<!DOCTYPE HTML PUBLIC "-//W3C//DTD HTML 3.2//E
	N">\n<HTML>\n<HEAD>\n<TITLE></TITLE>\n</HEAD>\n<BODY>\n<h3>The Fighting Mon
	gooses vs. Ottawa Easy Wheels</h3>More info: <a href="https://www.golnetwor
	k.com/game/v/78320/">#33</a>\n\n</BODY>\n</HTML>
STATUS:CONFIRMED
CLASS:PUBLIC
URL:https://www.golnetwork.com/game/v/78320/
X-MICROSOFT-CDO-BUSYSTATUS:BUSY
X-MICROSOFT-CDO-IMPORTANCE:1
END:VEVENT
BEGIN:VEVENT
UID:g86d5@games.golnetwork.com
LOCATION:Louis Riel #3
GEO:45.4410208;-75.5715394
CREATED:20151104T065012Z
DTSTART:20151108T190000Z
DTEND:20151108T200000Z
DTSTAMP:20260421T042609Z
SUMMARY:Picante Pelotas vs. Mambas FC
DESCRIPTION:Mambas FC vs. Picante PelotasMore info: #3
X-ALT-DESC;FMTTYPE=text/html:<!DOCTYPE HTML PUBLIC "-//W3C//DTD HTML 3.2//E
	N">\n<HTML>\n<HEAD>\n<TITLE></TITLE>\n</HEAD>\n<BODY>\n<h3>Mambas FC vs. Pi
	cante Pelotas</h3>More info: <a href="https://www.golnetwork.com/game/v/800
	98/">#3</a>\n\n</BODY>\n</HTML>
STATUS:CONFIRMED
CLASS:PUBLIC
URL:https://www.golnetwork.com/game/v/80098/
X-MICROSOFT-CDO-BUSYSTATUS:BUSY
X-MICROSOFT-CDO-IMPORTANCE:1
END:VEVENT
BEGIN:VEVENT
UID:g86f9@games.golnetwork.com
LOCATION:Louis Riel #2
GEO:45.4410208;-75.5715394
CREATED:20151104T195238Z
DTSTART:20151108T200000Z
DTEND:20151108T210000Z
DTSTAMP:20260421T042609Z
SUMMARY:The Fighting Mongooses vs. Mambas FC
DESCRIPTION:Mambas FC vs. The Fighting MongoosesMore info: #84
X-ALT-DESC;FMTTYPE=text/html:<!DOCTYPE HTML PUBLIC "-//W3C//DTD HTML 3.2//E
	N">\n<HTML>\n<HEAD>\n<TITLE></TITLE>\n</HEAD>\n<BODY>\n<h3>Mambas FC vs. Th
	e Fighting Mongooses</h3>More info: <a href="https://www.golnetwork.com/gam
	e/v/80127/">#84</a>\n\n</BODY>\n</HTML>
STATUS:CONFIRMED
CLASS:PUBLIC
URL:https://www.golnetwork.com/game/v/80127/
X-MICROSOFT-CDO-BUSYSTATUS:BUSY
X-MICROSOFT-CDO-IMPORTANCE:1
END:VEVENT
BEGIN:VEVENT
UID:g86df@games.golnetwork.com
LOCATION:Louis Riel #3
GEO:45.4410208;-75.5715394
CREATED:20151104T065012Z
DTSTART:20151108T220000Z
DTEND:20151108T230000Z
DTSTAMP:20260421T042609Z
SUMMARY:Dauntless vs. Dirty Mike & The Boys
DESCRIPTION:Dirty Mike & The Boys vs. DauntlessMore info: #8
X-ALT-DESC;FMTTYPE=text/html:<!DOCTYPE HTML PUBLIC "-//W3C//DTD HTML 3.2//E
	N">\n<HTML>\n<HEAD>\n<TITLE></TITLE>\n</HEAD>\n<BODY>\n<h3>Dirty Mike & The
	 Boys vs. Dauntless</h3>More info: <a href="https://www.golnetwork.com/game
	/v/80103/">#8</a>\n\n</BODY>\n</HTML>
STATUS:CONFIRMED
CLASS:PUBLIC
URL:https://www.golnetwork.com/game/v/80103/
X-MICROSOFT-CDO-BUSYSTATUS:BUSY
X-MICROSOFT-CDO-IMPORTANCE:1
END:VEVENT
BEGIN:VEVENT
UID:g86fb@games.golnetwork.com
LOCATION:Bell Sensplex
GEO:45.2969975;-75.9090323
CREATED:20151104T195306Z
DTSTART:20151109T010000Z
DTEND:20151109T020000Z
DTSTAMP:20260421T042609Z
SUMMARY:Spartans FC vs. Real Ale Madrid
DESCRIPTION:Real Ale Madrid vs. Spartans FCMore info: #90
X-ALT-DESC;FMTTYPE=text/html:<!DOCTYPE HTML PUBLIC "-//W3C//DTD HTML 3.2//E
	N">\n<HTML>\n<HEAD>\n<TITLE></TITLE>\n</HEAD>\n<BODY>\n<h3>Real Ale Madrid 
	vs. Spartans FC</h3>More info: <a href="https://www.golnetwork.com/game/v/8
	0128/">#90</a>\n\n</BODY>\n</HTML>
STATUS:CONFIRMED
CLASS:PUBLIC
URL:https://www.golnetwork.com/game/v/80128/
X-MICROSOFT-CDO-BUSYSTATUS:BUSY
X-MICROSOFT-CDO-IMPORTANCE:1
END:VEVENT
BEGIN:VEVENT
UID:g88cq@games.golnetwork.com
LOCATION:Bell Sensplex
GEO:45.2969975;-75.9090323
CREATED:20151126T200620Z
DTSTART:20151130T010000Z
DTEND:20151130T020000Z
DTSTAMP:20260421T042609Z
SUMMARY:Amigos vs. Mambas FC
DESCRIPTION:Mambas FC vs. AmigosMore info: #126
X-ALT-DESC;FMTTYPE=text/html:<!DOCTYPE HTML PUBLIC "-//W3C//DTD HTML 3.2//E
	N">\n<HTML>\n<HEAD>\n<TITLE></TITLE>\n</HEAD>\n<BODY>\n<h3>Mambas FC vs. Am
	igos</h3>More info: <a href="https://www.golnetwork.com/game/v/80824/">#126
	</a>\n\n</BODY>\n</HTML>
STATUS:CONFIRMED
CLASS:PUBLIC
URL:https://www.golnetwork.com/game/v/80824/
X-MICROSOFT-CDO-BUSYSTATUS:BUSY
X-MICROSOFT-CDO-IMPORTANCE:1
END:VEVENT
END:VCALENDAR
