BEGIN:VCALENDAR
PRODID:-//gdesolutions.com//MV Framework 1.0.0.1607 Calendar//EN
VERSION:2.0
METHOD:PUBLISH
CALSCALE:GREGORIAN
BEGIN:VEVENT
UID:g815m@games.golnetwork.com
LOCATION:Bialik - Court #1
GEO:45.4792109;-73.6584172
CREATED:20151008T194658Z
DTSTART:20160310T001500Z
DTEND:20160310T011500Z
DTSTAMP:20260423T073655Z
SUMMARY:COLA vs. SHADOWITZ
DESCRIPTION:SHADOWITZ vs. COLAMore info: #97
X-ALT-DESC;FMTTYPE=text/html:<!DOCTYPE HTML PUBLIC "-//W3C//DTD HTML 3.2//E
	N">\n<HTML>\n<HEAD>\n<TITLE></TITLE>\n</HEAD>\n<BODY>\n<h3>SHADOWITZ vs. CO
	LA</h3>More info: <a href="https://www.golnetwork.com/game/v/78176/">#97</a
	>\n\n</BODY>\n</HTML>
STATUS:CONFIRMED
CLASS:PUBLIC
URL:https://www.golnetwork.com/game/v/78176/
X-MICROSOFT-CDO-BUSYSTATUS:BUSY
X-MICROSOFT-CDO-IMPORTANCE:1
END:VEVENT
BEGIN:VEVENT
UID:g815o@games.golnetwork.com
LOCATION:Bialik - Court #1
GEO:45.4792109;-73.6584172
CREATED:20151008T194658Z
DTSTART:20160310T013000Z
DTEND:20160310T023000Z
DTSTAMP:20260423T073655Z
SUMMARY:HAKAK vs. ROTHSTEIN
DESCRIPTION:ROTHSTEIN vs. HAKAKMore info: #100
X-ALT-DESC;FMTTYPE=text/html:<!DOCTYPE HTML PUBLIC "-//W3C//DTD HTML 3.2//E
	N">\n<HTML>\n<HEAD>\n<TITLE></TITLE>\n</HEAD>\n<BODY>\n<h3>ROTHSTEIN vs. HA
	KAK</h3>More info: <a href="https://www.golnetwork.com/game/v/78177/">#100<
	/a>\n\n</BODY>\n</HTML>
STATUS:CONFIRMED
CLASS:PUBLIC
URL:https://www.golnetwork.com/game/v/78177/
X-MICROSOFT-CDO-BUSYSTATUS:BUSY
X-MICROSOFT-CDO-IMPORTANCE:1
END:VEVENT
BEGIN:VEVENT
UID:g816b@games.golnetwork.com
LOCATION:Bialik - Court #1
GEO:45.4792109;-73.6584172
CREATED:20151008T194658Z
DTSTART:20160324T003000Z
DTEND:20160324T013000Z
DTSTAMP:20260423T073655Z
SUMMARY:ROTHSTEIN vs. COLA
DESCRIPTION:COLA vs. ROTHSTEINMore info: #106
X-ALT-DESC;FMTTYPE=text/html:<!DOCTYPE HTML PUBLIC "-//W3C//DTD HTML 3.2//E
	N">\n<HTML>\n<HEAD>\n<TITLE></TITLE>\n</HEAD>\n<BODY>\n<h3>COLA vs. ROTHSTE
	IN</h3>More info: <a href="https://www.golnetwork.com/game/v/78184/">#106</
	a>\n\n</BODY>\n</HTML>
STATUS:CONFIRMED
CLASS:PUBLIC
URL:https://www.golnetwork.com/game/v/78184/
X-MICROSOFT-CDO-BUSYSTATUS:BUSY
X-MICROSOFT-CDO-IMPORTANCE:1
END:VEVENT
END:VCALENDAR
