BEGIN:VCALENDAR
PRODID:-//gdesolutions.com//MV Framework 1.0.0.1607 Calendar//EN
VERSION:2.0
METHOD:PUBLISH
CALSCALE:GREGORIAN
BEGIN:VEVENT
UID:g85de@games.golnetwork.com
LOCATION:Forbes Field
GEO:45.10662;-94.578209
CREATED:20151025T234859Z
DTSTART:20151026T220000Z
DTEND:20151026T224400Z
DTSTAMP:20260420T144322Z
SUMMARY:Clark-en-Ciel vs. El Zamalek SC
DESCRIPTION:El Zamalek SC vs. Clark-en-CielMore info: #226
X-ALT-DESC;FMTTYPE=text/html:<!DOCTYPE HTML PUBLIC "-//W3C//DTD HTML 3.2//E
	N">\n<HTML>\n<HEAD>\n<TITLE></TITLE>\n</HEAD>\n<BODY>\n<h3>El Zamalek SC vs
	. Clark-en-Ciel</h3>More info: <a href="https://www.golnetwork.com/game/v/7
	9738/">#226</a>\n\n</BODY>\n</HTML>
STATUS:CONFIRMED
CLASS:PUBLIC
URL:https://www.golnetwork.com/game/v/79738/
X-MICROSOFT-CDO-BUSYSTATUS:BUSY
X-MICROSOFT-CDO-IMPORTANCE:1
END:VEVENT
BEGIN:VEVENT
UID:g85da@games.golnetwork.com
LOCATION:Forbes Field
GEO:45.10662;-94.578209
CREATED:20151025T234859Z
DTSTART:20151026T230000Z
DTEND:20151026T234400Z
DTSTAMP:20260420T144322Z
SUMMARY:2 Goals 1 Cup (OPA) (5v5) vs. MBA - Mediocre But Arrogant (OPB)
DESCRIPTION:MBA - Mediocre But Arrogant (OPB) vs. 2 Goals 1 Cup (OPA) (5v5)
	More info: #227
X-ALT-DESC;FMTTYPE=text/html:<!DOCTYPE HTML PUBLIC "-//W3C//DTD HTML 3.2//E
	N">\n<HTML>\n<HEAD>\n<TITLE></TITLE>\n</HEAD>\n<BODY>\n<h3>MBA - Mediocre B
	ut Arrogant (OPB) vs. 2 Goals 1 Cup (OPA) (5v5)</h3>More info: <a href="htt
	ps://www.golnetwork.com/game/v/79736/">#227</a>\n\n</BODY>\n</HTML>
STATUS:CONFIRMED
CLASS:PUBLIC
URL:https://www.golnetwork.com/game/v/79736/
X-MICROSOFT-CDO-BUSYSTATUS:BUSY
X-MICROSOFT-CDO-IMPORTANCE:1
END:VEVENT
BEGIN:VEVENT
UID:g85d2@games.golnetwork.com
LOCATION:Forbes Field
GEO:45.10662;-94.578209
CREATED:20151025T234859Z
DTSTART:20151027T000000Z
DTEND:20151027T004400Z
DTSTAMP:20260420T144322Z
SUMMARY:Super Friends FC vs. Tinder FC
DESCRIPTION:Tinder FC vs. Super Friends FCMore info: #228
X-ALT-DESC;FMTTYPE=text/html:<!DOCTYPE HTML PUBLIC "-//W3C//DTD HTML 3.2//E
	N">\n<HTML>\n<HEAD>\n<TITLE></TITLE>\n</HEAD>\n<BODY>\n<h3>Tinder FC vs. Su
	per Friends FC</h3>More info: <a href="https://www.golnetwork.com/game/v/79
	732/">#228</a>\n\n</BODY>\n</HTML>
STATUS:CONFIRMED
CLASS:PUBLIC
URL:https://www.golnetwork.com/game/v/79732/
X-MICROSOFT-CDO-BUSYSTATUS:BUSY
X-MICROSOFT-CDO-IMPORTANCE:1
END:VEVENT
BEGIN:VEVENT
UID:g85cn@games.golnetwork.com
LOCATION:Forbes Field
GEO:45.10662;-94.578209
CREATED:20151025T234859Z
DTSTART:20151027T010000Z
DTEND:20151027T014400Z
DTSTAMP:20260420T144322Z
SUMMARY:McGill Spartans vs. Tickle-Tackle
DESCRIPTION:Tickle-Tackle vs. McGill SpartansMore info: #229
X-ALT-DESC;FMTTYPE=text/html:<!DOCTYPE HTML PUBLIC "-//W3C//DTD HTML 3.2//E
	N">\n<HTML>\n<HEAD>\n<TITLE></TITLE>\n</HEAD>\n<BODY>\n<h3>Tickle-Tackle vs
	. McGill Spartans</h3>More info: <a href="https://www.golnetwork.com/game/v
	/79729/">#229</a>\n\n</BODY>\n</HTML>
STATUS:CONFIRMED
CLASS:PUBLIC
URL:https://www.golnetwork.com/game/v/79729/
X-MICROSOFT-CDO-BUSYSTATUS:BUSY
X-MICROSOFT-CDO-IMPORTANCE:1
END:VEVENT
BEGIN:VEVENT
UID:g85cj@games.golnetwork.com
LOCATION:Forbes Field
GEO:45.10662;-94.578209
CREATED:20151025T234859Z
DTSTART:20151027T210000Z
DTEND:20151027T214400Z
DTSTAMP:20260420T144322Z
SUMMARY:Shock Waves United vs. Man Like Chester
DESCRIPTION:Man Like Chester vs. Shock Waves UnitedMore info: #230
X-ALT-DESC;FMTTYPE=text/html:<!DOCTYPE HTML PUBLIC "-//W3C//DTD HTML 3.2//E
	N">\n<HTML>\n<HEAD>\n<TITLE></TITLE>\n</HEAD>\n<BODY>\n<h3>Man Like Chester
	 vs. Shock Waves United</h3>More info: <a href="https://www.golnetwork.com/
	game/v/79727/">#230</a>\n\n</BODY>\n</HTML>
STATUS:CONFIRMED
CLASS:PUBLIC
URL:https://www.golnetwork.com/game/v/79727/
X-MICROSOFT-CDO-BUSYSTATUS:BUSY
X-MICROSOFT-CDO-IMPORTANCE:1
END:VEVENT
BEGIN:VEVENT
UID:g85cp@games.golnetwork.com
LOCATION:Forbes Field
GEO:45.10662;-94.578209
CREATED:20151025T234859Z
DTSTART:20151027T220000Z
DTEND:20151027T224400Z
DTSTAMP:20260420T144322Z
SUMMARY:Fake Madrid vs. Molson FC
DESCRIPTION:Molson FC vs. Fake MadridMore info: #231
X-ALT-DESC;FMTTYPE=text/html:<!DOCTYPE HTML PUBLIC "-//W3C//DTD HTML 3.2//E
	N">\n<HTML>\n<HEAD>\n<TITLE></TITLE>\n</HEAD>\n<BODY>\n<h3>Molson FC vs. Fa
	ke Madrid</h3>More info: <a href="https://www.golnetwork.com/game/v/79730/"
	>#231</a>\n\n</BODY>\n</HTML>
STATUS:CONFIRMED
CLASS:PUBLIC
URL:https://www.golnetwork.com/game/v/79730/
X-MICROSOFT-CDO-BUSYSTATUS:BUSY
X-MICROSOFT-CDO-IMPORTANCE:1
END:VEVENT
BEGIN:VEVENT
UID:g85d6@games.golnetwork.com
LOCATION:Forbes Field
GEO:45.10662;-94.578209
CREATED:20151025T234859Z
DTSTART:20151027T230000Z
DTEND:20151027T234400Z
DTSTAMP:20260420T144322Z
SUMMARY:Frosted Flakes vs. M.W.A
DESCRIPTION:M.W.A vs. Frosted FlakesMore info: #232
X-ALT-DESC;FMTTYPE=text/html:<!DOCTYPE HTML PUBLIC "-//W3C//DTD HTML 3.2//E
	N">\n<HTML>\n<HEAD>\n<TITLE></TITLE>\n</HEAD>\n<BODY>\n<h3>M.W.A vs. Froste
	d Flakes</h3>More info: <a href="https://www.golnetwork.com/game/v/79734/">
	#232</a>\n\n</BODY>\n</HTML>
STATUS:CONFIRMED
CLASS:PUBLIC
URL:https://www.golnetwork.com/game/v/79734/
X-MICROSOFT-CDO-BUSYSTATUS:BUSY
X-MICROSOFT-CDO-IMPORTANCE:1
END:VEVENT
BEGIN:VEVENT
UID:g85cl@games.golnetwork.com
LOCATION:Forbes Field
GEO:45.10662;-94.578209
CREATED:20151025T234859Z
DTSTART:20151028T000000Z
DTEND:20151028T004400Z
DTSTAMP:20260420T144322Z
SUMMARY:Blues Pub FC vs. FC International
DESCRIPTION:FC International vs. Blues Pub FCMore info: #233
X-ALT-DESC;FMTTYPE=text/html:<!DOCTYPE HTML PUBLIC "-//W3C//DTD HTML 3.2//E
	N">\n<HTML>\n<HEAD>\n<TITLE></TITLE>\n</HEAD>\n<BODY>\n<h3>FC International
	 vs. Blues Pub FC</h3>More info: <a href="https://www.golnetwork.com/game/v
	/79728/">#233</a>\n\n</BODY>\n</HTML>
STATUS:CONFIRMED
CLASS:PUBLIC
URL:https://www.golnetwork.com/game/v/79728/
X-MICROSOFT-CDO-BUSYSTATUS:BUSY
X-MICROSOFT-CDO-IMPORTANCE:1
END:VEVENT
BEGIN:VEVENT
UID:g85dg@games.golnetwork.com
LOCATION:Forbes Field
GEO:45.10662;-94.578209
CREATED:20151025T234859Z
DTSTART:20151028T010000Z
DTEND:20151028T014400Z
DTSTAMP:20260420T144322Z
SUMMARY:Lower Field Utd vs. Quickteam
DESCRIPTION:Quickteam vs. Lower Field UtdMore info: #234
X-ALT-DESC;FMTTYPE=text/html:<!DOCTYPE HTML PUBLIC "-//W3C//DTD HTML 3.2//E
	N">\n<HTML>\n<HEAD>\n<TITLE></TITLE>\n</HEAD>\n<BODY>\n<h3>Quickteam vs. Lo
	wer Field Utd</h3>More info: <a href="https://www.golnetwork.com/game/v/797
	39/">#234</a>\n\n</BODY>\n</HTML>
STATUS:CONFIRMED
CLASS:PUBLIC
URL:https://www.golnetwork.com/game/v/79739/
X-MICROSOFT-CDO-BUSYSTATUS:BUSY
X-MICROSOFT-CDO-IMPORTANCE:1
END:VEVENT
BEGIN:VEVENT
UID:g85dk@games.golnetwork.com
LOCATION:Forbes Field
GEO:45.10662;-94.578209
CREATED:20151025T234859Z
DTSTART:20151029T000000Z
DTEND:20151029T004400Z
DTSTAMP:20260420T144322Z
SUMMARY:Boreal Impact vs. Les Coqs Sportifs
DESCRIPTION:Les Coqs Sportifs vs. Boreal ImpactMore info: #236
X-ALT-DESC;FMTTYPE=text/html:<!DOCTYPE HTML PUBLIC "-//W3C//DTD HTML 3.2//E
	N">\n<HTML>\n<HEAD>\n<TITLE></TITLE>\n</HEAD>\n<BODY>\n<h3>Les Coqs Sportif
	s vs. Boreal Impact</h3>More info: <a href="https://www.golnetwork.com/game
	/v/79741/">#236</a>\n\n</BODY>\n</HTML>
STATUS:CONFIRMED
CLASS:PUBLIC
URL:https://www.golnetwork.com/game/v/79741/
X-MICROSOFT-CDO-BUSYSTATUS:BUSY
X-MICROSOFT-CDO-IMPORTANCE:1
END:VEVENT
BEGIN:VEVENT
UID:g85dc@games.golnetwork.com
LOCATION:Forbes Field
GEO:45.10662;-94.578209
CREATED:20151025T234859Z
DTSTART:20151029T010000Z
DTEND:20151029T014400Z
DTSTAMP:20260420T144322Z
SUMMARY:Joga Bonito (M) vs. BBC
DESCRIPTION:BBC vs. Joga Bonito (M)More info: #237
X-ALT-DESC;FMTTYPE=text/html:<!DOCTYPE HTML PUBLIC "-//W3C//DTD HTML 3.2//E
	N">\n<HTML>\n<HEAD>\n<TITLE></TITLE>\n</HEAD>\n<BODY>\n<h3>BBC vs. Joga Bon
	ito (M)</h3>More info: <a href="https://www.golnetwork.com/game/v/79737/">#
	237</a>\n\n</BODY>\n</HTML>
STATUS:CONFIRMED
CLASS:PUBLIC
URL:https://www.golnetwork.com/game/v/79737/
X-MICROSOFT-CDO-BUSYSTATUS:BUSY
X-MICROSOFT-CDO-IMPORTANCE:1
END:VEVENT
BEGIN:VEVENT
UID:g85d8@games.golnetwork.com
LOCATION:Forbes Field
GEO:45.10662;-94.578209
CREATED:20151025T234859Z
DTSTART:20151029T210000Z
DTEND:20151029T214400Z
DTSTAMP:20260420T144322Z
SUMMARY:AS Sigma vs. Rolls Reus
DESCRIPTION:Rolls Reus vs. AS SigmaMore info: #238
X-ALT-DESC;FMTTYPE=text/html:<!DOCTYPE HTML PUBLIC "-//W3C//DTD HTML 3.2//E
	N">\n<HTML>\n<HEAD>\n<TITLE></TITLE>\n</HEAD>\n<BODY>\n<h3>Rolls Reus vs. A
	S Sigma</h3>More info: <a href="https://www.golnetwork.com/game/v/79735/">#
	238</a>\n\n</BODY>\n</HTML>
STATUS:CONFIRMED
CLASS:PUBLIC
URL:https://www.golnetwork.com/game/v/79735/
X-MICROSOFT-CDO-BUSYSTATUS:BUSY
X-MICROSOFT-CDO-IMPORTANCE:1
END:VEVENT
BEGIN:VEVENT
UID:g85d4@games.golnetwork.com
LOCATION:Forbes Field
GEO:45.10662;-94.578209
CREATED:20151025T234859Z
DTSTART:20151029T220000Z
DTEND:20151029T224400Z
DTSTAMP:20260420T144322Z
SUMMARY:Lads on Tour FC vs. Daddy's
DESCRIPTION:Daddy's vs. Lads on Tour FCMore info: #239
X-ALT-DESC;FMTTYPE=text/html:<!DOCTYPE HTML PUBLIC "-//W3C//DTD HTML 3.2//E
	N">\n<HTML>\n<HEAD>\n<TITLE></TITLE>\n</HEAD>\n<BODY>\n<h3>Daddy's vs. Lads
	 on Tour FC</h3>More info: <a href="https://www.golnetwork.com/game/v/79733
	/">#239</a>\n\n</BODY>\n</HTML>
STATUS:CONFIRMED
CLASS:PUBLIC
URL:https://www.golnetwork.com/game/v/79733/
X-MICROSOFT-CDO-BUSYSTATUS:BUSY
X-MICROSOFT-CDO-IMPORTANCE:1
END:VEVENT
BEGIN:VEVENT
UID:g85di@games.golnetwork.com
LOCATION:Forbes Field
GEO:45.10662;-94.578209
CREATED:20151025T234859Z
DTSTART:20151029T230000Z
DTEND:20151029T234400Z
DTSTAMP:20260420T144322Z
SUMMARY:Real MaNdriL vs. Moyes Noize
DESCRIPTION:Moyes Noize vs. Real MaNdriLMore info: #240
X-ALT-DESC;FMTTYPE=text/html:<!DOCTYPE HTML PUBLIC "-//W3C//DTD HTML 3.2//E
	N">\n<HTML>\n<HEAD>\n<TITLE></TITLE>\n</HEAD>\n<BODY>\n<h3>Moyes Noize vs. 
	Real MaNdriL</h3>More info: <a href="https://www.golnetwork.com/game/v/7974
	0/">#240</a>\n\n</BODY>\n</HTML>
STATUS:CONFIRMED
CLASS:PUBLIC
URL:https://www.golnetwork.com/game/v/79740/
X-MICROSOFT-CDO-BUSYSTATUS:BUSY
X-MICROSOFT-CDO-IMPORTANCE:1
END:VEVENT
BEGIN:VEVENT
UID:g85d0@games.golnetwork.com
LOCATION:Forbes Field
GEO:45.10662;-94.578209
CREATED:20151025T234859Z
DTSTART:20151030T000000Z
DTEND:20151030T004400Z
DTSTAMP:20260420T144322Z
SUMMARY:Blouses vs. FC Corea (A)
DESCRIPTION:FC Corea (A) vs. BlousesMore info: #241
X-ALT-DESC;FMTTYPE=text/html:<!DOCTYPE HTML PUBLIC "-//W3C//DTD HTML 3.2//E
	N">\n<HTML>\n<HEAD>\n<TITLE></TITLE>\n</HEAD>\n<BODY>\n<h3>FC Corea (A) vs.
	 Blouses</h3>More info: <a href="https://www.golnetwork.com/game/v/79731/">
	#241</a>\n\n</BODY>\n</HTML>
STATUS:CONFIRMED
CLASS:PUBLIC
URL:https://www.golnetwork.com/game/v/79731/
X-MICROSOFT-CDO-BUSYSTATUS:BUSY
X-MICROSOFT-CDO-IMPORTANCE:1
END:VEVENT
BEGIN:VEVENT
UID:g85dm@games.golnetwork.com
LOCATION:Forbes Field
GEO:45.10662;-94.578209
CREATED:20151025T234859Z
DTSTART:20151030T010000Z
DTEND:20151030T014400Z
DTSTAMP:20260420T144322Z
SUMMARY:Lil'Poisson vs. McLobster
DESCRIPTION:McLobster vs. Lil'PoissonMore info: #242
X-ALT-DESC;FMTTYPE=text/html:<!DOCTYPE HTML PUBLIC "-//W3C//DTD HTML 3.2//E
	N">\n<HTML>\n<HEAD>\n<TITLE></TITLE>\n</HEAD>\n<BODY>\n<h3>McLobster vs. Li
	l'Poisson</h3>More info: <a href="https://www.golnetwork.com/game/v/79742/"
	>#242</a>\n\n</BODY>\n</HTML>
STATUS:CONFIRMED
CLASS:PUBLIC
URL:https://www.golnetwork.com/game/v/79742/
X-MICROSOFT-CDO-BUSYSTATUS:BUSY
X-MICROSOFT-CDO-IMPORTANCE:1
END:VEVENT
BEGIN:VEVENT
UID:g85do@games.golnetwork.com
LOCATION:Forbes Field
GEO:45.10662;-94.578209
CREATED:20151025T234859Z
DTSTART:20151031T130000Z
DTEND:20151031T134400Z
DTSTAMP:20260420T144322Z
SUMMARY:McLobster vs. Man Like Chester
DESCRIPTION:Man Like Chester vs. McLobsterMore info: #243
X-ALT-DESC;FMTTYPE=text/html:<!DOCTYPE HTML PUBLIC "-//W3C//DTD HTML 3.2//E
	N">\n<HTML>\n<HEAD>\n<TITLE></TITLE>\n</HEAD>\n<BODY>\n<h3>Man Like Chester
	 vs. McLobster</h3>More info: <a href="https://www.golnetwork.com/game/v/79
	743/">#243</a>\n\n</BODY>\n</HTML>
STATUS:CONFIRMED
CLASS:PUBLIC
URL:https://www.golnetwork.com/game/v/79743/
X-MICROSOFT-CDO-BUSYSTATUS:BUSY
X-MICROSOFT-CDO-IMPORTANCE:1
END:VEVENT
BEGIN:VEVENT
UID:g85dq@games.golnetwork.com
LOCATION:Forbes Field
GEO:45.10662;-94.578209
CREATED:20151025T234859Z
DTSTART:20151031T140000Z
DTEND:20151031T144400Z
DTSTAMP:20260420T144322Z
SUMMARY:M.W.A vs. AS Sigma
DESCRIPTION:AS Sigma vs. M.W.AMore info: #244
X-ALT-DESC;FMTTYPE=text/html:<!DOCTYPE HTML PUBLIC "-//W3C//DTD HTML 3.2//E
	N">\n<HTML>\n<HEAD>\n<TITLE></TITLE>\n</HEAD>\n<BODY>\n<h3>AS Sigma vs. M.W
	.A</h3>More info: <a href="https://www.golnetwork.com/game/v/79744/">#244</
	a>\n\n</BODY>\n</HTML>
STATUS:CONFIRMED
CLASS:PUBLIC
URL:https://www.golnetwork.com/game/v/79744/
X-MICROSOFT-CDO-BUSYSTATUS:BUSY
X-MICROSOFT-CDO-IMPORTANCE:1
END:VEVENT
BEGIN:VEVENT
UID:g85e1@games.golnetwork.com
LOCATION:Forbes Field
GEO:45.10662;-94.578209
CREATED:20151025T234859Z
DTSTART:20151031T150000Z
DTEND:20151031T154400Z
DTSTAMP:20260420T144322Z
SUMMARY:Daddy's vs. 2 Goals 1 Cup (OPA) (5v5)
DESCRIPTION:2 Goals 1 Cup (OPA) (5v5) vs. Daddy'sMore info: #245
X-ALT-DESC;FMTTYPE=text/html:<!DOCTYPE HTML PUBLIC "-//W3C//DTD HTML 3.2//E
	N">\n<HTML>\n<HEAD>\n<TITLE></TITLE>\n</HEAD>\n<BODY>\n<h3>2 Goals 1 Cup (O
	PA) (5v5) vs. Daddy's</h3>More info: <a href="https://www.golnetwork.com/ga
	me/v/79745/">#245</a>\n\n</BODY>\n</HTML>
STATUS:CONFIRMED
CLASS:PUBLIC
URL:https://www.golnetwork.com/game/v/79745/
X-MICROSOFT-CDO-BUSYSTATUS:BUSY
X-MICROSOFT-CDO-IMPORTANCE:1
END:VEVENT
BEGIN:VEVENT
UID:g85e3@games.golnetwork.com
LOCATION:Forbes Field
GEO:45.10662;-94.578209
CREATED:20151025T234859Z
DTSTART:20151031T160000Z
DTEND:20151031T164400Z
DTSTAMP:20260420T144322Z
SUMMARY:Tinder FC vs. BBC
DESCRIPTION:BBC vs. Tinder FCMore info: #246
X-ALT-DESC;FMTTYPE=text/html:<!DOCTYPE HTML PUBLIC "-//W3C//DTD HTML 3.2//E
	N">\n<HTML>\n<HEAD>\n<TITLE></TITLE>\n</HEAD>\n<BODY>\n<h3>BBC vs. Tinder F
	C</h3>More info: <a href="https://www.golnetwork.com/game/v/79746/">#246</a
	>\n\n</BODY>\n</HTML>
STATUS:CONFIRMED
CLASS:PUBLIC
URL:https://www.golnetwork.com/game/v/79746/
X-MICROSOFT-CDO-BUSYSTATUS:BUSY
X-MICROSOFT-CDO-IMPORTANCE:1
END:VEVENT
BEGIN:VEVENT
UID:g85e5@games.golnetwork.com
LOCATION:Forbes Field
GEO:45.10662;-94.578209
CREATED:20151025T234859Z
DTSTART:20151031T170000Z
DTEND:20151031T174400Z
DTSTAMP:20260420T144322Z
SUMMARY:Blouses vs. Clark-en-Ciel
DESCRIPTION:Clark-en-Ciel vs. BlousesMore info: #247
X-ALT-DESC;FMTTYPE=text/html:<!DOCTYPE HTML PUBLIC "-//W3C//DTD HTML 3.2//E
	N">\n<HTML>\n<HEAD>\n<TITLE></TITLE>\n</HEAD>\n<BODY>\n<h3>Clark-en-Ciel vs
	. Blouses</h3>More info: <a href="https://www.golnetwork.com/game/v/79747/"
	>#247</a>\n\n</BODY>\n</HTML>
STATUS:CONFIRMED
CLASS:PUBLIC
URL:https://www.golnetwork.com/game/v/79747/
X-MICROSOFT-CDO-BUSYSTATUS:BUSY
X-MICROSOFT-CDO-IMPORTANCE:1
END:VEVENT
BEGIN:VEVENT
UID:g85e7@games.golnetwork.com
LOCATION:Forbes Field
GEO:45.10662;-94.578209
CREATED:20151025T234859Z
DTSTART:20151031T180000Z
DTEND:20151031T184400Z
DTSTAMP:20260420T144322Z
SUMMARY:Fake Madrid vs. Lower Field Utd
DESCRIPTION:Lower Field Utd vs. Fake MadridMore info: #248
X-ALT-DESC;FMTTYPE=text/html:<!DOCTYPE HTML PUBLIC "-//W3C//DTD HTML 3.2//E
	N">\n<HTML>\n<HEAD>\n<TITLE></TITLE>\n</HEAD>\n<BODY>\n<h3>Lower Field Utd 
	vs. Fake Madrid</h3>More info: <a href="https://www.golnetwork.com/game/v/7
	9748/">#248</a>\n\n</BODY>\n</HTML>
STATUS:CONFIRMED
CLASS:PUBLIC
URL:https://www.golnetwork.com/game/v/79748/
X-MICROSOFT-CDO-BUSYSTATUS:BUSY
X-MICROSOFT-CDO-IMPORTANCE:1
END:VEVENT
BEGIN:VEVENT
UID:g85e9@games.golnetwork.com
LOCATION:Forbes Field
GEO:45.10662;-94.578209
CREATED:20151025T234900Z
DTSTART:20151031T190000Z
DTEND:20151031T194400Z
DTSTAMP:20260420T144322Z
SUMMARY:Tickle-Tackle vs. Moyes Noize
DESCRIPTION:Moyes Noize vs. Tickle-TackleMore info: #249
X-ALT-DESC;FMTTYPE=text/html:<!DOCTYPE HTML PUBLIC "-//W3C//DTD HTML 3.2//E
	N">\n<HTML>\n<HEAD>\n<TITLE></TITLE>\n</HEAD>\n<BODY>\n<h3>Moyes Noize vs. 
	Tickle-Tackle</h3>More info: <a href="https://www.golnetwork.com/game/v/797
	49/">#249</a>\n\n</BODY>\n</HTML>
STATUS:CONFIRMED
CLASS:PUBLIC
URL:https://www.golnetwork.com/game/v/79749/
X-MICROSOFT-CDO-BUSYSTATUS:BUSY
X-MICROSOFT-CDO-IMPORTANCE:1
END:VEVENT
BEGIN:VEVENT
UID:g85eb@games.golnetwork.com
LOCATION:Forbes Field
GEO:45.10662;-94.578209
CREATED:20151025T234900Z
DTSTART:20151031T200000Z
DTEND:20151031T204400Z
DTSTAMP:20260420T144322Z
SUMMARY:Blues Pub FC vs. Boreal Impact
DESCRIPTION:Boreal Impact vs. Blues Pub FCMore info: #250
X-ALT-DESC;FMTTYPE=text/html:<!DOCTYPE HTML PUBLIC "-//W3C//DTD HTML 3.2//E
	N">\n<HTML>\n<HEAD>\n<TITLE></TITLE>\n</HEAD>\n<BODY>\n<h3>Boreal Impact vs
	. Blues Pub FC</h3>More info: <a href="https://www.golnetwork.com/game/v/79
	750/">#250</a>\n\n</BODY>\n</HTML>
STATUS:CONFIRMED
CLASS:PUBLIC
URL:https://www.golnetwork.com/game/v/79750/
X-MICROSOFT-CDO-BUSYSTATUS:BUSY
X-MICROSOFT-CDO-IMPORTANCE:1
END:VEVENT
BEGIN:VEVENT
UID:g85ed@games.golnetwork.com
LOCATION:Forbes Field
GEO:45.10662;-94.578209
CREATED:20151025T234900Z
DTSTART:20151101T220000Z
DTEND:20151101T224400Z
DTSTAMP:20260420T144322Z
SUMMARY:M.W.A vs. Man Like Chester
DESCRIPTION:Man Like Chester vs. M.W.AMore info: #254
X-ALT-DESC;FMTTYPE=text/html:<!DOCTYPE HTML PUBLIC "-//W3C//DTD HTML 3.2//E
	N">\n<HTML>\n<HEAD>\n<TITLE></TITLE>\n</HEAD>\n<BODY>\n<h3>Man Like Chester
	 vs. M.W.A</h3>More info: <a href="https://www.golnetwork.com/game/v/79751/
	">#254</a>\n\n</BODY>\n</HTML>
STATUS:CONFIRMED
CLASS:PUBLIC
URL:https://www.golnetwork.com/game/v/79751/
X-MICROSOFT-CDO-BUSYSTATUS:BUSY
X-MICROSOFT-CDO-IMPORTANCE:1
END:VEVENT
BEGIN:VEVENT
UID:g85ef@games.golnetwork.com
LOCATION:Forbes Field
GEO:45.10662;-94.578209
CREATED:20151025T234900Z
DTSTART:20151101T230000Z
DTEND:20151101T234400Z
DTSTAMP:20260420T144322Z
SUMMARY:BBC vs. Daddy's
DESCRIPTION:Daddy's vs. BBCMore info: #255
X-ALT-DESC;FMTTYPE=text/html:<!DOCTYPE HTML PUBLIC "-//W3C//DTD HTML 3.2//E
	N">\n<HTML>\n<HEAD>\n<TITLE></TITLE>\n</HEAD>\n<BODY>\n<h3>Daddy's vs. BBC<
	/h3>More info: <a href="https://www.golnetwork.com/game/v/79752/">#255</a>\
	n\n</BODY>\n</HTML>
STATUS:CONFIRMED
CLASS:PUBLIC
URL:https://www.golnetwork.com/game/v/79752/
X-MICROSOFT-CDO-BUSYSTATUS:BUSY
X-MICROSOFT-CDO-IMPORTANCE:1
END:VEVENT
BEGIN:VEVENT
UID:g85eh@games.golnetwork.com
LOCATION:Forbes Field
GEO:45.10662;-94.578209
CREATED:20151025T234900Z
DTSTART:20151102T000000Z
DTEND:20151102T004400Z
DTSTAMP:20260420T144322Z
SUMMARY:Lower Field Utd vs. Clark-en-Ciel
DESCRIPTION:Clark-en-Ciel vs. Lower Field UtdMore info: #256
X-ALT-DESC;FMTTYPE=text/html:<!DOCTYPE HTML PUBLIC "-//W3C//DTD HTML 3.2//E
	N">\n<HTML>\n<HEAD>\n<TITLE></TITLE>\n</HEAD>\n<BODY>\n<h3>Clark-en-Ciel vs
	. Lower Field Utd</h3>More info: <a href="https://www.golnetwork.com/game/v
	/79753/">#256</a>\n\n</BODY>\n</HTML>
STATUS:CONFIRMED
CLASS:PUBLIC
URL:https://www.golnetwork.com/game/v/79753/
X-MICROSOFT-CDO-BUSYSTATUS:BUSY
X-MICROSOFT-CDO-IMPORTANCE:1
END:VEVENT
BEGIN:VEVENT
UID:g85ej@games.golnetwork.com
LOCATION:Forbes Field
GEO:45.10662;-94.578209
CREATED:20151025T234900Z
DTSTART:20151102T010000Z
DTEND:20151102T014400Z
DTSTAMP:20260420T144322Z
SUMMARY:Blues Pub FC vs. Tickle-Tackle
DESCRIPTION:Tickle-Tackle vs. Blues Pub FCMore info: #257
X-ALT-DESC;FMTTYPE=text/html:<!DOCTYPE HTML PUBLIC "-//W3C//DTD HTML 3.2//E
	N">\n<HTML>\n<HEAD>\n<TITLE></TITLE>\n</HEAD>\n<BODY>\n<h3>Tickle-Tackle vs
	. Blues Pub FC</h3>More info: <a href="https://www.golnetwork.com/game/v/79
	754/">#257</a>\n\n</BODY>\n</HTML>
STATUS:CONFIRMED
CLASS:PUBLIC
URL:https://www.golnetwork.com/game/v/79754/
X-MICROSOFT-CDO-BUSYSTATUS:BUSY
X-MICROSOFT-CDO-IMPORTANCE:1
END:VEVENT
BEGIN:VEVENT
UID:g85el@games.golnetwork.com
LOCATION:Forbes Field
GEO:45.10662;-94.578209
CREATED:20151025T234900Z
DTSTART:20151107T180000Z
DTEND:20151107T184400Z
DTSTAMP:20260420T144322Z
SUMMARY:Daddy's vs. Man Like Chester
DESCRIPTION:Man Like Chester vs. Daddy'sMore info: #269
X-ALT-DESC;FMTTYPE=text/html:<!DOCTYPE HTML PUBLIC "-//W3C//DTD HTML 3.2//E
	N">\n<HTML>\n<HEAD>\n<TITLE></TITLE>\n</HEAD>\n<BODY>\n<h3>Man Like Chester
	 vs. Daddy's</h3>More info: <a href="https://www.golnetwork.com/game/v/7975
	5/">#269</a>\n\n</BODY>\n</HTML>
STATUS:CONFIRMED
CLASS:PUBLIC
URL:https://www.golnetwork.com/game/v/79755/
X-MICROSOFT-CDO-BUSYSTATUS:BUSY
X-MICROSOFT-CDO-IMPORTANCE:1
END:VEVENT
BEGIN:VEVENT
UID:g85en@games.golnetwork.com
LOCATION:Forbes Field
GEO:45.10662;-94.578209
CREATED:20151025T234900Z
DTSTART:20151107T190000Z
DTEND:20151107T194400Z
DTSTAMP:20260420T144322Z
SUMMARY:Blues Pub FC vs. Clark-en-Ciel
DESCRIPTION:Clark-en-Ciel vs. Blues Pub FCMore info: #270
X-ALT-DESC;FMTTYPE=text/html:<!DOCTYPE HTML PUBLIC "-//W3C//DTD HTML 3.2//E
	N">\n<HTML>\n<HEAD>\n<TITLE></TITLE>\n</HEAD>\n<BODY>\n<h3>Clark-en-Ciel vs
	. Blues Pub FC</h3>More info: <a href="https://www.golnetwork.com/game/v/79
	756/">#270</a>\n\n</BODY>\n</HTML>
STATUS:CONFIRMED
CLASS:PUBLIC
URL:https://www.golnetwork.com/game/v/79756/
X-MICROSOFT-CDO-BUSYSTATUS:BUSY
X-MICROSOFT-CDO-IMPORTANCE:1
END:VEVENT
BEGIN:VEVENT
UID:g85ep@games.golnetwork.com
LOCATION:Molson Stadium
GEO:45.10662;-94.578209
CREATED:20151025T234900Z
DTSTART:20151112T021500Z
DTEND:20151112T025900Z
DTSTAMP:20260420T144322Z
SUMMARY:Blues Pub FC vs. Man Like Chester
DESCRIPTION:Man Like Chester vs. Blues Pub FCMore info: #276
X-ALT-DESC;FMTTYPE=text/html:<!DOCTYPE HTML PUBLIC "-//W3C//DTD HTML 3.2//E
	N">\n<HTML>\n<HEAD>\n<TITLE></TITLE>\n</HEAD>\n<BODY>\n<h3>Man Like Chester
	 vs. Blues Pub FC</h3>More info: <a href="https://www.golnetwork.com/game/v
	/79757/">#276</a>\n\n</BODY>\n</HTML>
STATUS:CONFIRMED
CLASS:PUBLIC
URL:https://www.golnetwork.com/game/v/79757/
X-MICROSOFT-CDO-BUSYSTATUS:BUSY
X-MICROSOFT-CDO-IMPORTANCE:1
END:VEVENT
END:VCALENDAR
