BEGIN:VCALENDAR
PRODID:-//gdesolutions.com//MV Framework 1.0.0.1607 Calendar//EN
VERSION:2.0
METHOD:PUBLISH
CALSCALE:GREGORIAN
BEGIN:VEVENT
UID:g8e3d@games.golnetwork.com
LOCATION:Soccer Nation Field (Newmarket SoccerCentre)
GEO:44.0379318;-79.4421489
CREATED:20160115T021430Z
DTSTART:20160413T000000Z
DTEND:20160413T005500Z
DTSTAMP:20260422T091426Z
SUMMARY:Bayside Tigers vs. SS Balls
DESCRIPTION:SS Balls vs. Bayside TigersMore info: #73
X-ALT-DESC;FMTTYPE=text/html:<!DOCTYPE HTML PUBLIC "-//W3C//DTD HTML 3.2//E
	N">\n<HTML>\n<HEAD>\n<TITLE></TITLE>\n</HEAD>\n<BODY>\n<h3>SS Balls vs. Bay
	side Tigers</h3>More info: <a href="https://www.golnetwork.com/game/v/82883
	/">#73</a>\n\n</BODY>\n</HTML>
STATUS:CONFIRMED
CLASS:PUBLIC
URL:https://www.golnetwork.com/game/v/82883/
X-MICROSOFT-CDO-BUSYSTATUS:BUSY
X-MICROSOFT-CDO-IMPORTANCE:1
END:VEVENT
BEGIN:VEVENT
UID:g8e3f@games.golnetwork.com
LOCATION:Align Healthcare Field (Newmarket SoccerCentre)
GEO:44.0379318;-79.4421489
CREATED:20160115T021430Z
DTSTART:20160413T000000Z
DTEND:20160413T005500Z
DTSTAMP:20260422T091426Z
SUMMARY:ABCDE FC vs. Valor FC
DESCRIPTION:Valor FC vs. ABCDE FCMore info: #74
X-ALT-DESC;FMTTYPE=text/html:<!DOCTYPE HTML PUBLIC "-//W3C//DTD HTML 3.2//E
	N">\n<HTML>\n<HEAD>\n<TITLE></TITLE>\n</HEAD>\n<BODY>\n<h3>Valor FC vs. ABC
	DE FC</h3>More info: <a href="https://www.golnetwork.com/game/v/82884/">#74
	</a>\n\n</BODY>\n</HTML>
STATUS:CONFIRMED
CLASS:PUBLIC
URL:https://www.golnetwork.com/game/v/82884/
X-MICROSOFT-CDO-BUSYSTATUS:BUSY
X-MICROSOFT-CDO-IMPORTANCE:1
END:VEVENT
BEGIN:VEVENT
UID:g8e3h@games.golnetwork.com
LOCATION:Soccer Nation Field (Newmarket SoccerCentre)
GEO:44.0379318;-79.4421489
CREATED:20160115T021430Z
DTSTART:20160413T010000Z
DTEND:20160413T015500Z
DTSTAMP:20260422T091426Z
SUMMARY:Ball Busters vs. BFC
DESCRIPTION:BFC vs. Ball BustersMore info: #75
X-ALT-DESC;FMTTYPE=text/html:<!DOCTYPE HTML PUBLIC "-//W3C//DTD HTML 3.2//E
	N">\n<HTML>\n<HEAD>\n<TITLE></TITLE>\n</HEAD>\n<BODY>\n<h3>BFC vs. Ball Bus
	ters</h3>More info: <a href="https://www.golnetwork.com/game/v/82885/">#75<
	/a>\n\n</BODY>\n</HTML>
STATUS:CONFIRMED
CLASS:PUBLIC
URL:https://www.golnetwork.com/game/v/82885/
X-MICROSOFT-CDO-BUSYSTATUS:BUSY
X-MICROSOFT-CDO-IMPORTANCE:1
END:VEVENT
BEGIN:VEVENT
UID:g8e3j@games.golnetwork.com
LOCATION:Align Healthcare Field (Newmarket SoccerCentre)
GEO:44.0379318;-79.4421489
CREATED:20160115T021430Z
DTSTART:20160413T010000Z
DTEND:20160413T015500Z
DTSTAMP:20260422T091426Z
SUMMARY:S.F.C. vs. Aeros
DESCRIPTION:Aeros vs. S.F.C.More info: #76
X-ALT-DESC;FMTTYPE=text/html:<!DOCTYPE HTML PUBLIC "-//W3C//DTD HTML 3.2//E
	N">\n<HTML>\n<HEAD>\n<TITLE></TITLE>\n</HEAD>\n<BODY>\n<h3>Aeros vs. S.F.C.
	</h3>More info: <a href="https://www.golnetwork.com/game/v/82886/">#76</a>\
	n\n</BODY>\n</HTML>
STATUS:CONFIRMED
CLASS:PUBLIC
URL:https://www.golnetwork.com/game/v/82886/
X-MICROSOFT-CDO-BUSYSTATUS:BUSY
X-MICROSOFT-CDO-IMPORTANCE:1
END:VEVENT
BEGIN:VEVENT
UID:g8e3l@games.golnetwork.com
LOCATION:Soccer Nation Field (Newmarket SoccerCentre)
GEO:44.0379318;-79.4421489
CREATED:20160115T021430Z
DTSTART:20160420T000000Z
DTEND:20160420T005500Z
DTSTAMP:20260422T091426Z
SUMMARY:S.F.C. vs. SS Balls
DESCRIPTION:SS Balls vs. S.F.C.More info: #79
X-ALT-DESC;FMTTYPE=text/html:<!DOCTYPE HTML PUBLIC "-//W3C//DTD HTML 3.2//E
	N">\n<HTML>\n<HEAD>\n<TITLE></TITLE>\n</HEAD>\n<BODY>\n<h3>SS Balls vs. S.F
	.C.</h3>More info: <a href="https://www.golnetwork.com/game/v/82887/">#79</
	a>\n\n</BODY>\n</HTML>
STATUS:CONFIRMED
CLASS:PUBLIC
URL:https://www.golnetwork.com/game/v/82887/
X-MICROSOFT-CDO-BUSYSTATUS:BUSY
X-MICROSOFT-CDO-IMPORTANCE:1
END:VEVENT
BEGIN:VEVENT
UID:g8e3n@games.golnetwork.com
LOCATION:Align Healthcare Field (Newmarket SoccerCentre)
GEO:44.0379318;-79.4421489
CREATED:20160115T021430Z
DTSTART:20160420T000000Z
DTEND:20160420T005500Z
DTSTAMP:20260422T091426Z
SUMMARY:Valor FC vs. BFC
DESCRIPTION:BFC vs. Valor FCMore info: #80
X-ALT-DESC;FMTTYPE=text/html:<!DOCTYPE HTML PUBLIC "-//W3C//DTD HTML 3.2//E
	N">\n<HTML>\n<HEAD>\n<TITLE></TITLE>\n</HEAD>\n<BODY>\n<h3>BFC vs. Valor FC
	</h3>More info: <a href="https://www.golnetwork.com/game/v/82888/">#80</a>\
	n\n</BODY>\n</HTML>
STATUS:CONFIRMED
CLASS:PUBLIC
URL:https://www.golnetwork.com/game/v/82888/
X-MICROSOFT-CDO-BUSYSTATUS:BUSY
X-MICROSOFT-CDO-IMPORTANCE:1
END:VEVENT
BEGIN:VEVENT
UID:g8ea6@games.golnetwork.com
LOCATION:Soccer Nation Field (Newmarket SoccerCentre)
GEO:44.0379318;-79.4421489
CREATED:20160118T045947Z
DTSTART:20160420T020000Z
DTEND:20160420T025500Z
DTSTAMP:20260422T091426Z
SUMMARY:Bayside Tigers vs. Aeros
DESCRIPTION:Aeros vs. Bayside TigersMore info: #83
X-ALT-DESC;FMTTYPE=text/html:<!DOCTYPE HTML PUBLIC "-//W3C//DTD HTML 3.2//E
	N">\n<HTML>\n<HEAD>\n<TITLE></TITLE>\n</HEAD>\n<BODY>\n<h3>Aeros vs. Baysid
	e Tigers</h3>More info: <a href="https://www.golnetwork.com/game/v/82974/">
	#83</a>\n\n</BODY>\n</HTML>
STATUS:CONFIRMED
CLASS:PUBLIC
URL:https://www.golnetwork.com/game/v/82974/
X-MICROSOFT-CDO-BUSYSTATUS:BUSY
X-MICROSOFT-CDO-IMPORTANCE:1
END:VEVENT
BEGIN:VEVENT
UID:g8ea8@games.golnetwork.com
LOCATION:Align Healthcare Field (Newmarket SoccerCentre)
GEO:44.0379318;-79.4421489
CREATED:20160118T045958Z
DTSTART:20160420T020000Z
DTEND:20160420T025500Z
DTSTAMP:20260422T091426Z
SUMMARY:ABCDE FC vs. Ball Busters
DESCRIPTION:Ball Busters vs. ABCDE FCMore info: #84
X-ALT-DESC;FMTTYPE=text/html:<!DOCTYPE HTML PUBLIC "-//W3C//DTD HTML 3.2//E
	N">\n<HTML>\n<HEAD>\n<TITLE></TITLE>\n</HEAD>\n<BODY>\n<h3>Ball Busters vs.
	 ABCDE FC</h3>More info: <a href="https://www.golnetwork.com/game/v/82975/"
	>#84</a>\n\n</BODY>\n</HTML>
STATUS:CONFIRMED
CLASS:PUBLIC
URL:https://www.golnetwork.com/game/v/82975/
X-MICROSOFT-CDO-BUSYSTATUS:BUSY
X-MICROSOFT-CDO-IMPORTANCE:1
END:VEVENT
BEGIN:VEVENT
UID:g8e3p@games.golnetwork.com
LOCATION:Soccer Nation Field (Newmarket SoccerCentre)
GEO:44.0379318;-79.4421489
CREATED:20160115T021430Z
DTSTART:20160427T000000Z
DTEND:20160427T005500Z
DTSTAMP:20260422T091426Z
SUMMARY:Valor FC vs. S.F.C.
DESCRIPTION:S.F.C. vs. Valor FCMore info: #85
X-ALT-DESC;FMTTYPE=text/html:<!DOCTYPE HTML PUBLIC "-//W3C//DTD HTML 3.2//E
	N">\n<HTML>\n<HEAD>\n<TITLE></TITLE>\n</HEAD>\n<BODY>\n<h3>S.F.C. vs. Valor
	 FC</h3>More info: <a href="https://www.golnetwork.com/game/v/82889/">#85</
	a>\n\n</BODY>\n</HTML>
STATUS:CONFIRMED
CLASS:PUBLIC
URL:https://www.golnetwork.com/game/v/82889/
X-MICROSOFT-CDO-BUSYSTATUS:BUSY
X-MICROSOFT-CDO-IMPORTANCE:1
END:VEVENT
BEGIN:VEVENT
UID:g8eac@games.golnetwork.com
LOCATION:Soccer Nation Field (Newmarket SoccerCentre)
GEO:44.0379318;-79.4421489
CREATED:20160118T050133Z
DTSTART:20160427T010000Z
DTEND:20160427T015500Z
DTSTAMP:20260422T091426Z
SUMMARY:BFC vs. SS Balls
DESCRIPTION:SS Balls vs. BFCMore info: #87
X-ALT-DESC;FMTTYPE=text/html:<!DOCTYPE HTML PUBLIC "-//W3C//DTD HTML 3.2//E
	N">\n<HTML>\n<HEAD>\n<TITLE></TITLE>\n</HEAD>\n<BODY>\n<h3>SS Balls vs. BFC
	</h3>More info: <a href="https://www.golnetwork.com/game/v/82977/">#87</a>\
	n\n</BODY>\n</HTML>
STATUS:CONFIRMED
CLASS:PUBLIC
URL:https://www.golnetwork.com/game/v/82977/
X-MICROSOFT-CDO-BUSYSTATUS:BUSY
X-MICROSOFT-CDO-IMPORTANCE:1
END:VEVENT
BEGIN:VEVENT
UID:g8eae@games.golnetwork.com
LOCATION:Soccer Nation Field (Newmarket SoccerCentre)
GEO:44.0379318;-79.4421489
CREATED:20160118T050141Z
DTSTART:20160427T020000Z
DTEND:20160427T025500Z
DTSTAMP:20260422T091426Z
SUMMARY:Ball Busters vs. Bayside Tigers
DESCRIPTION:Bayside Tigers vs. Ball BustersMore info: #89
X-ALT-DESC;FMTTYPE=text/html:<!DOCTYPE HTML PUBLIC "-//W3C//DTD HTML 3.2//E
	N">\n<HTML>\n<HEAD>\n<TITLE></TITLE>\n</HEAD>\n<BODY>\n<h3>Bayside Tigers v
	s. Ball Busters</h3>More info: <a href="https://www.golnetwork.com/game/v/8
	2978/">#89</a>\n\n</BODY>\n</HTML>
STATUS:CONFIRMED
CLASS:PUBLIC
URL:https://www.golnetwork.com/game/v/82978/
X-MICROSOFT-CDO-BUSYSTATUS:BUSY
X-MICROSOFT-CDO-IMPORTANCE:1
END:VEVENT
BEGIN:VEVENT
UID:g8eag@games.golnetwork.com
LOCATION:Align Healthcare Field (Newmarket SoccerCentre)
GEO:44.0379318;-79.4421489
CREATED:20160118T050146Z
DTSTART:20160427T020000Z
DTEND:20160427T025500Z
DTSTAMP:20260422T091426Z
SUMMARY:Teal FC vs. Good Times
DESCRIPTION:Good Times vs. Teal FCMore info: #90
X-ALT-DESC;FMTTYPE=text/html:<!DOCTYPE HTML PUBLIC "-//W3C//DTD HTML 3.2//E
	N">\n<HTML>\n<HEAD>\n<TITLE></TITLE>\n</HEAD>\n<BODY>\n<h3>Good Times vs. T
	eal FC</h3>More info: <a href="https://www.golnetwork.com/game/v/82979/">#9
	0</a>\n\n</BODY>\n</HTML>
STATUS:CONFIRMED
CLASS:PUBLIC
URL:https://www.golnetwork.com/game/v/82979/
X-MICROSOFT-CDO-BUSYSTATUS:BUSY
X-MICROSOFT-CDO-IMPORTANCE:1
END:VEVENT
END:VCALENDAR
