BEGIN:VCALENDAR
PRODID:-//gdesolutions.com//MV Framework 1.0.0.1607 Calendar//EN
VERSION:2.0
METHOD:PUBLISH
CALSCALE:GREGORIAN
BEGIN:VEVENT
UID:g8778@games.golnetwork.com
LOCATION:Mauril-Belanger
GEO:45.432517;-75.6677337
CREATED:20151113T092235Z
DTSTART:20151117T000000Z
DTEND:20151117T005500Z
DTSTAMP:20260422T071312Z
SUMMARY:The Hot Lobsters vs. Feedbag
DESCRIPTION:Feedbag vs. The Hot LobstersMore info: #1
X-ALT-DESC;FMTTYPE=text/html:<!DOCTYPE HTML PUBLIC "-//W3C//DTD HTML 3.2//E
	N">\n<HTML>\n<HEAD>\n<TITLE></TITLE>\n</HEAD>\n<BODY>\n<h3>Feedbag vs. The 
	Hot Lobsters</h3>More info: <a href="https://www.golnetwork.com/game/v/8038
	3/">#1</a>\n\n</BODY>\n</HTML>
STATUS:CONFIRMED
CLASS:PUBLIC
URL:https://www.golnetwork.com/game/v/80383/
X-MICROSOFT-CDO-BUSYSTATUS:BUSY
X-MICROSOFT-CDO-IMPORTANCE:1
END:VEVENT
BEGIN:VEVENT
UID:g877a@games.golnetwork.com
LOCATION:Mauril-Belanger
GEO:45.432517;-75.6677337
CREATED:20151113T092236Z
DTSTART:20151117T010000Z
DTEND:20151117T015500Z
DTSTAMP:20260422T071312Z
SUMMARY:Individuals vs. Cool Beans
DESCRIPTION:Cool Beans vs. IndividualsMore info: #2
X-ALT-DESC;FMTTYPE=text/html:<!DOCTYPE HTML PUBLIC "-//W3C//DTD HTML 3.2//E
	N">\n<HTML>\n<HEAD>\n<TITLE></TITLE>\n</HEAD>\n<BODY>\n<h3>Cool Beans vs. I
	ndividuals</h3>More info: <a href="https://www.golnetwork.com/game/v/80384/
	">#2</a>\n\n</BODY>\n</HTML>
STATUS:CONFIRMED
CLASS:PUBLIC
URL:https://www.golnetwork.com/game/v/80384/
X-MICROSOFT-CDO-BUSYSTATUS:BUSY
X-MICROSOFT-CDO-IMPORTANCE:1
END:VEVENT
BEGIN:VEVENT
UID:g877c@games.golnetwork.com
LOCATION:Mauril-Belanger
GEO:45.432517;-75.6677337
CREATED:20151113T092236Z
DTSTART:20151117T020000Z
DTEND:20151117T025500Z
DTSTAMP:20260422T071312Z
SUMMARY:Cool Aid Jammers vs. Communists in Passing
DESCRIPTION:Communists in Passing vs. Cool Aid JammersMore info: #3
X-ALT-DESC;FMTTYPE=text/html:<!DOCTYPE HTML PUBLIC "-//W3C//DTD HTML 3.2//E
	N">\n<HTML>\n<HEAD>\n<TITLE></TITLE>\n</HEAD>\n<BODY>\n<h3>Communists in Pa
	ssing vs. Cool Aid Jammers</h3>More info: <a href="https://www.golnetwork.c
	om/game/v/80385/">#3</a>\n\n</BODY>\n</HTML>
STATUS:CONFIRMED
CLASS:PUBLIC
URL:https://www.golnetwork.com/game/v/80385/
X-MICROSOFT-CDO-BUSYSTATUS:BUSY
X-MICROSOFT-CDO-IMPORTANCE:1
END:VEVENT
BEGIN:VEVENT
UID:g877e@games.golnetwork.com
LOCATION:Mauril-Belanger
GEO:45.432517;-75.6677337
CREATED:20151113T092236Z
DTSTART:20151124T000000Z
DTEND:20151124T005500Z
DTSTAMP:20260422T071312Z
SUMMARY:The Hot Lobsters vs. Cool Aid Jammers
DESCRIPTION:Cool Aid Jammers vs. The Hot LobstersMore info: #4
X-ALT-DESC;FMTTYPE=text/html:<!DOCTYPE HTML PUBLIC "-//W3C//DTD HTML 3.2//E
	N">\n<HTML>\n<HEAD>\n<TITLE></TITLE>\n</HEAD>\n<BODY>\n<h3>Cool Aid Jammers
	 vs. The Hot Lobsters</h3>More info: <a href="https://www.golnetwork.com/ga
	me/v/80386/">#4</a>\n\n</BODY>\n</HTML>
STATUS:CONFIRMED
CLASS:PUBLIC
URL:https://www.golnetwork.com/game/v/80386/
X-MICROSOFT-CDO-BUSYSTATUS:BUSY
X-MICROSOFT-CDO-IMPORTANCE:1
END:VEVENT
BEGIN:VEVENT
UID:g877g@games.golnetwork.com
LOCATION:Mauril-Belanger
GEO:45.432517;-75.6677337
CREATED:20151113T092236Z
DTSTART:20151124T010000Z
DTEND:20151124T015500Z
DTSTAMP:20260422T071312Z
SUMMARY:Communists in Passing vs. Cool Beans
DESCRIPTION:Cool Beans vs. Communists in PassingMore info: #5
X-ALT-DESC;FMTTYPE=text/html:<!DOCTYPE HTML PUBLIC "-//W3C//DTD HTML 3.2//E
	N">\n<HTML>\n<HEAD>\n<TITLE></TITLE>\n</HEAD>\n<BODY>\n<h3>Cool Beans vs. C
	ommunists in Passing</h3>More info: <a href="https://www.golnetwork.com/gam
	e/v/80387/">#5</a>\n\n</BODY>\n</HTML>
STATUS:CONFIRMED
CLASS:PUBLIC
URL:https://www.golnetwork.com/game/v/80387/
X-MICROSOFT-CDO-BUSYSTATUS:BUSY
X-MICROSOFT-CDO-IMPORTANCE:1
END:VEVENT
BEGIN:VEVENT
UID:g877i@games.golnetwork.com
LOCATION:Mauril-Belanger
GEO:45.432517;-75.6677337
CREATED:20151113T092236Z
DTSTART:20151124T020000Z
DTEND:20151124T025500Z
DTSTAMP:20260422T071312Z
SUMMARY:Individuals vs. Feedbag
DESCRIPTION:Feedbag vs. IndividualsMore info: #6
X-ALT-DESC;FMTTYPE=text/html:<!DOCTYPE HTML PUBLIC "-//W3C//DTD HTML 3.2//E
	N">\n<HTML>\n<HEAD>\n<TITLE></TITLE>\n</HEAD>\n<BODY>\n<h3>Feedbag vs. Indi
	viduals</h3>More info: <a href="https://www.golnetwork.com/game/v/80388/">#
	6</a>\n\n</BODY>\n</HTML>
STATUS:CONFIRMED
CLASS:PUBLIC
URL:https://www.golnetwork.com/game/v/80388/
X-MICROSOFT-CDO-BUSYSTATUS:BUSY
X-MICROSOFT-CDO-IMPORTANCE:1
END:VEVENT
BEGIN:VEVENT
UID:g877k@games.golnetwork.com
LOCATION:Mauril-Belanger
GEO:45.432517;-75.6677337
CREATED:20151113T092236Z
DTSTART:20151201T000000Z
DTEND:20151201T005500Z
DTSTAMP:20260422T071312Z
SUMMARY:Individuals vs. Communists in Passing
DESCRIPTION:Communists in Passing vs. IndividualsMore info: #7
X-ALT-DESC;FMTTYPE=text/html:<!DOCTYPE HTML PUBLIC "-//W3C//DTD HTML 3.2//E
	N">\n<HTML>\n<HEAD>\n<TITLE></TITLE>\n</HEAD>\n<BODY>\n<h3>Communists in Pa
	ssing vs. Individuals</h3>More info: <a href="https://www.golnetwork.com/ga
	me/v/80389/">#7</a>\n\n</BODY>\n</HTML>
STATUS:CONFIRMED
CLASS:PUBLIC
URL:https://www.golnetwork.com/game/v/80389/
X-MICROSOFT-CDO-BUSYSTATUS:BUSY
X-MICROSOFT-CDO-IMPORTANCE:1
END:VEVENT
BEGIN:VEVENT
UID:g877m@games.golnetwork.com
LOCATION:Mauril-Belanger
GEO:45.432517;-75.6677337
CREATED:20151113T092236Z
DTSTART:20151201T010000Z
DTEND:20151201T015500Z
DTSTAMP:20260422T071312Z
SUMMARY:Cool Aid Jammers vs. Feedbag
DESCRIPTION:Feedbag vs. Cool Aid JammersMore info: #8
X-ALT-DESC;FMTTYPE=text/html:<!DOCTYPE HTML PUBLIC "-//W3C//DTD HTML 3.2//E
	N">\n<HTML>\n<HEAD>\n<TITLE></TITLE>\n</HEAD>\n<BODY>\n<h3>Feedbag vs. Cool
	 Aid Jammers</h3>More info: <a href="https://www.golnetwork.com/game/v/8039
	0/">#8</a>\n\n</BODY>\n</HTML>
STATUS:CONFIRMED
CLASS:PUBLIC
URL:https://www.golnetwork.com/game/v/80390/
X-MICROSOFT-CDO-BUSYSTATUS:BUSY
X-MICROSOFT-CDO-IMPORTANCE:1
END:VEVENT
BEGIN:VEVENT
UID:g877o@games.golnetwork.com
LOCATION:Mauril-Belanger
GEO:45.432517;-75.6677337
CREATED:20151113T092236Z
DTSTART:20151201T020000Z
DTEND:20151201T025500Z
DTSTAMP:20260422T071312Z
SUMMARY:The Hot Lobsters vs. Cool Beans
DESCRIPTION:Cool Beans vs. The Hot LobstersMore info: #9
X-ALT-DESC;FMTTYPE=text/html:<!DOCTYPE HTML PUBLIC "-//W3C//DTD HTML 3.2//E
	N">\n<HTML>\n<HEAD>\n<TITLE></TITLE>\n</HEAD>\n<BODY>\n<h3>Cool Beans vs. T
	he Hot Lobsters</h3>More info: <a href="https://www.golnetwork.com/game/v/8
	0391/">#9</a>\n\n</BODY>\n</HTML>
STATUS:CONFIRMED
CLASS:PUBLIC
URL:https://www.golnetwork.com/game/v/80391/
X-MICROSOFT-CDO-BUSYSTATUS:BUSY
X-MICROSOFT-CDO-IMPORTANCE:1
END:VEVENT
BEGIN:VEVENT
UID:g877q@games.golnetwork.com
LOCATION:Mauril-Belanger
GEO:45.432517;-75.6677337
CREATED:20151113T092236Z
DTSTART:20151208T000000Z
DTEND:20151208T005500Z
DTSTAMP:20260422T071312Z
SUMMARY:Communists in Passing vs. Feedbag
DESCRIPTION:Feedbag vs. Communists in PassingMore info: #10
X-ALT-DESC;FMTTYPE=text/html:<!DOCTYPE HTML PUBLIC "-//W3C//DTD HTML 3.2//E
	N">\n<HTML>\n<HEAD>\n<TITLE></TITLE>\n</HEAD>\n<BODY>\n<h3>Feedbag vs. Comm
	unists in Passing</h3>More info: <a href="https://www.golnetwork.com/game/v
	/80392/">#10</a>\n\n</BODY>\n</HTML>
STATUS:CONFIRMED
CLASS:PUBLIC
URL:https://www.golnetwork.com/game/v/80392/
X-MICROSOFT-CDO-BUSYSTATUS:BUSY
X-MICROSOFT-CDO-IMPORTANCE:1
END:VEVENT
BEGIN:VEVENT
UID:g878n@games.golnetwork.com
LOCATION:Mauril-Belanger
GEO:45.432517;-75.6677337
CREATED:20151113T092551Z
DTSTART:20151208T010000Z
DTEND:20151208T015500Z
DTSTAMP:20260422T071312Z
SUMMARY:The Hot Lobsters vs. Individuals
DESCRIPTION:Individuals vs. The Hot LobstersMore info: #11
X-ALT-DESC;FMTTYPE=text/html:<!DOCTYPE HTML PUBLIC "-//W3C//DTD HTML 3.2//E
	N">\n<HTML>\n<HEAD>\n<TITLE></TITLE>\n</HEAD>\n<BODY>\n<h3>Individuals vs. 
	The Hot Lobsters</h3>More info: <a href="https://www.golnetwork.com/game/v/
	80404/">#11</a>\n\n</BODY>\n</HTML>
STATUS:CONFIRMED
CLASS:PUBLIC
URL:https://www.golnetwork.com/game/v/80404/
X-MICROSOFT-CDO-BUSYSTATUS:BUSY
X-MICROSOFT-CDO-IMPORTANCE:1
END:VEVENT
BEGIN:VEVENT
UID:g8783@games.golnetwork.com
LOCATION:Mauril-Belanger
GEO:45.432517;-75.6677337
CREATED:20151113T092236Z
DTSTART:20151208T020000Z
DTEND:20151208T025500Z
DTSTAMP:20260422T071312Z
SUMMARY:Cool Aid Jammers vs. Cool Beans
DESCRIPTION:Cool Beans vs. Cool Aid JammersMore info: #12
X-ALT-DESC;FMTTYPE=text/html:<!DOCTYPE HTML PUBLIC "-//W3C//DTD HTML 3.2//E
	N">\n<HTML>\n<HEAD>\n<TITLE></TITLE>\n</HEAD>\n<BODY>\n<h3>Cool Beans vs. C
	ool Aid Jammers</h3>More info: <a href="https://www.golnetwork.com/game/v/8
	0394/">#12</a>\n\n</BODY>\n</HTML>
STATUS:CONFIRMED
CLASS:PUBLIC
URL:https://www.golnetwork.com/game/v/80394/
X-MICROSOFT-CDO-BUSYSTATUS:BUSY
X-MICROSOFT-CDO-IMPORTANCE:1
END:VEVENT
BEGIN:VEVENT
UID:g878p@games.golnetwork.com
LOCATION:Mauril-Belanger
GEO:45.432517;-75.6677337
CREATED:20151113T092551Z
DTSTART:20151215T000000Z
DTEND:20151215T005500Z
DTSTAMP:20260422T071312Z
SUMMARY:Cool Aid Jammers vs. Individuals
DESCRIPTION:Individuals vs. Cool Aid JammersMore info: #13
X-ALT-DESC;FMTTYPE=text/html:<!DOCTYPE HTML PUBLIC "-//W3C//DTD HTML 3.2//E
	N">\n<HTML>\n<HEAD>\n<TITLE></TITLE>\n</HEAD>\n<BODY>\n<h3>Individuals vs. 
	Cool Aid Jammers</h3>More info: <a href="https://www.golnetwork.com/game/v/
	80405/">#13</a>\n\n</BODY>\n</HTML>
STATUS:CONFIRMED
CLASS:PUBLIC
URL:https://www.golnetwork.com/game/v/80405/
X-MICROSOFT-CDO-BUSYSTATUS:BUSY
X-MICROSOFT-CDO-IMPORTANCE:1
END:VEVENT
BEGIN:VEVENT
UID:g8787@games.golnetwork.com
LOCATION:Mauril-Belanger
GEO:45.432517;-75.6677337
CREATED:20151113T092236Z
DTSTART:20151215T010000Z
DTEND:20151215T015500Z
DTSTAMP:20260422T071312Z
SUMMARY:Cool Beans vs. Feedbag
DESCRIPTION:Feedbag vs. Cool BeansMore info: #14
X-ALT-DESC;FMTTYPE=text/html:<!DOCTYPE HTML PUBLIC "-//W3C//DTD HTML 3.2//E
	N">\n<HTML>\n<HEAD>\n<TITLE></TITLE>\n</HEAD>\n<BODY>\n<h3>Feedbag vs. Cool
	 Beans</h3>More info: <a href="https://www.golnetwork.com/game/v/80396/">#1
	4</a>\n\n</BODY>\n</HTML>
STATUS:CONFIRMED
CLASS:PUBLIC
URL:https://www.golnetwork.com/game/v/80396/
X-MICROSOFT-CDO-BUSYSTATUS:BUSY
X-MICROSOFT-CDO-IMPORTANCE:1
END:VEVENT
BEGIN:VEVENT
UID:g8789@games.golnetwork.com
LOCATION:Mauril-Belanger
GEO:45.432517;-75.6677337
CREATED:20151113T092236Z
DTSTART:20151215T020000Z
DTEND:20151215T025500Z
DTSTAMP:20260422T071312Z
SUMMARY:The Hot Lobsters vs. Communists in Passing
DESCRIPTION:Communists in Passing vs. The Hot LobstersMore info: #15
X-ALT-DESC;FMTTYPE=text/html:<!DOCTYPE HTML PUBLIC "-//W3C//DTD HTML 3.2//E
	N">\n<HTML>\n<HEAD>\n<TITLE></TITLE>\n</HEAD>\n<BODY>\n<h3>Communists in Pa
	ssing vs. The Hot Lobsters</h3>More info: <a href="https://www.golnetwork.c
	om/game/v/80397/">#15</a>\n\n</BODY>\n</HTML>
STATUS:CONFIRMED
CLASS:PUBLIC
URL:https://www.golnetwork.com/game/v/80397/
X-MICROSOFT-CDO-BUSYSTATUS:BUSY
X-MICROSOFT-CDO-IMPORTANCE:1
END:VEVENT
BEGIN:VEVENT
UID:g8796@games.golnetwork.com
LOCATION:Mauril-Belanger
GEO:45.432517;-75.6677337
CREATED:20151113T092712Z
DTSTART:20160112T000000Z
DTEND:20160112T005500Z
DTSTAMP:20260422T071312Z
SUMMARY:The Hot Lobsters vs. Cool Aid Jammers
DESCRIPTION:Cool Aid Jammers vs. The Hot LobstersMore info: #16
X-ALT-DESC;FMTTYPE=text/html:<!DOCTYPE HTML PUBLIC "-//W3C//DTD HTML 3.2//E
	N">\n<HTML>\n<HEAD>\n<TITLE></TITLE>\n</HEAD>\n<BODY>\n<h3>Cool Aid Jammers
	 vs. The Hot Lobsters</h3>More info: <a href="https://www.golnetwork.com/ga
	me/v/80409/">#16</a>\n\n</BODY>\n</HTML>
STATUS:CONFIRMED
CLASS:PUBLIC
URL:https://www.golnetwork.com/game/v/80409/
X-MICROSOFT-CDO-BUSYSTATUS:BUSY
X-MICROSOFT-CDO-IMPORTANCE:1
END:VEVENT
BEGIN:VEVENT
UID:g8798@games.golnetwork.com
LOCATION:Mauril-Belanger
GEO:45.432517;-75.6677337
CREATED:20151113T092722Z
DTSTART:20160112T010000Z
DTEND:20160112T015500Z
DTSTAMP:20260422T071312Z
SUMMARY:Communists in Passing vs. Cool Beans
DESCRIPTION:Cool Beans vs. Communists in PassingMore info: #17
X-ALT-DESC;FMTTYPE=text/html:<!DOCTYPE HTML PUBLIC "-//W3C//DTD HTML 3.2//E
	N">\n<HTML>\n<HEAD>\n<TITLE></TITLE>\n</HEAD>\n<BODY>\n<h3>Cool Beans vs. C
	ommunists in Passing</h3>More info: <a href="https://www.golnetwork.com/gam
	e/v/80410/">#17</a>\n\n</BODY>\n</HTML>
STATUS:CONFIRMED
CLASS:PUBLIC
URL:https://www.golnetwork.com/game/v/80410/
X-MICROSOFT-CDO-BUSYSTATUS:BUSY
X-MICROSOFT-CDO-IMPORTANCE:1
END:VEVENT
BEGIN:VEVENT
UID:g879a@games.golnetwork.com
LOCATION:Mauril-Belanger
GEO:45.432517;-75.6677337
CREATED:20151113T092730Z
DTSTART:20160112T020000Z
DTEND:20160112T025500Z
DTSTAMP:20260422T071312Z
SUMMARY:Individuals vs. Feedbag
DESCRIPTION:Feedbag vs. IndividualsMore info: #18
X-ALT-DESC;FMTTYPE=text/html:<!DOCTYPE HTML PUBLIC "-//W3C//DTD HTML 3.2//E
	N">\n<HTML>\n<HEAD>\n<TITLE></TITLE>\n</HEAD>\n<BODY>\n<h3>Feedbag vs. Indi
	viduals</h3>More info: <a href="https://www.golnetwork.com/game/v/80411/">#
	18</a>\n\n</BODY>\n</HTML>
STATUS:CONFIRMED
CLASS:PUBLIC
URL:https://www.golnetwork.com/game/v/80411/
X-MICROSOFT-CDO-BUSYSTATUS:BUSY
X-MICROSOFT-CDO-IMPORTANCE:1
END:VEVENT
BEGIN:VEVENT
UID:g8e6i@games.golnetwork.com
LOCATION:Mauril-Belanger
GEO:45.432517;-75.6677337
CREATED:20160116T214813Z
DTSTART:20160119T000000Z
DTEND:20160119T005500Z
DTSTAMP:20260422T071312Z
SUMMARY:The Hot Lobsters vs. Feedbag
DESCRIPTION:Feedbag vs. The Hot LobstersMore info: #19
X-ALT-DESC;FMTTYPE=text/html:<!DOCTYPE HTML PUBLIC "-//W3C//DTD HTML 3.2//E
	N">\n<HTML>\n<HEAD>\n<TITLE></TITLE>\n</HEAD>\n<BODY>\n<h3>Feedbag vs. The 
	Hot Lobsters</h3>More info: <a href="https://www.golnetwork.com/game/v/8292
	6/">#19</a>\n\n</BODY>\n</HTML>
STATUS:CONFIRMED
CLASS:PUBLIC
URL:https://www.golnetwork.com/game/v/82926/
X-MICROSOFT-CDO-BUSYSTATUS:BUSY
X-MICROSOFT-CDO-IMPORTANCE:1
END:VEVENT
BEGIN:VEVENT
UID:g8e6k@games.golnetwork.com
LOCATION:Mauril-Belanger
GEO:45.432517;-75.6677337
CREATED:20160116T214823Z
DTSTART:20160119T010000Z
DTEND:20160119T015500Z
DTSTAMP:20260422T071312Z
SUMMARY:Individuals vs. Cool Beans
DESCRIPTION:Cool Beans vs. IndividualsMore info: #20
X-ALT-DESC;FMTTYPE=text/html:<!DOCTYPE HTML PUBLIC "-//W3C//DTD HTML 3.2//E
	N">\n<HTML>\n<HEAD>\n<TITLE></TITLE>\n</HEAD>\n<BODY>\n<h3>Cool Beans vs. I
	ndividuals</h3>More info: <a href="https://www.golnetwork.com/game/v/82927/
	">#20</a>\n\n</BODY>\n</HTML>
STATUS:CONFIRMED
CLASS:PUBLIC
URL:https://www.golnetwork.com/game/v/82927/
X-MICROSOFT-CDO-BUSYSTATUS:BUSY
X-MICROSOFT-CDO-IMPORTANCE:1
END:VEVENT
BEGIN:VEVENT
UID:g8e6m@games.golnetwork.com
LOCATION:Mauril-Belanger
GEO:45.432517;-75.6677337
CREATED:20160116T214832Z
DTSTART:20160119T020000Z
DTEND:20160119T025500Z
DTSTAMP:20260422T071312Z
SUMMARY:Cool Aid Jammers vs. Communists in Passing
DESCRIPTION:Communists in Passing vs. Cool Aid JammersMore info: #21
X-ALT-DESC;FMTTYPE=text/html:<!DOCTYPE HTML PUBLIC "-//W3C//DTD HTML 3.2//E
	N">\n<HTML>\n<HEAD>\n<TITLE></TITLE>\n</HEAD>\n<BODY>\n<h3>Communists in Pa
	ssing vs. Cool Aid Jammers</h3>More info: <a href="https://www.golnetwork.c
	om/game/v/82928/">#21</a>\n\n</BODY>\n</HTML>
STATUS:CONFIRMED
CLASS:PUBLIC
URL:https://www.golnetwork.com/game/v/82928/
X-MICROSOFT-CDO-BUSYSTATUS:BUSY
X-MICROSOFT-CDO-IMPORTANCE:1
END:VEVENT
END:VCALENDAR
