BEGIN:VCALENDAR
PRODID:-//gdesolutions.com//MV Framework 1.0.0.1607 Calendar//EN
VERSION:2.0
METHOD:PUBLISH
CALSCALE:GREGORIAN
BEGIN:VEVENT
UID:g8dha@games.golnetwork.com
LOCATION:Currie Pool
GEO:45.508899688721;-73.581298828125
CREATED:20160114T214642Z
DTSTART:20160116T223000Z
DTEND:20160116T233000Z
DTSTAMP:20260422T040447Z
SUMMARY:Marco Water Polo vs. H2Owned
DESCRIPTION:H2Owned vs. Marco Water PoloMore info: #3
X-ALT-DESC;FMTTYPE=text/html:<!DOCTYPE HTML PUBLIC "-//W3C//DTD HTML 3.2//E
	N">\n<HTML>\n<HEAD>\n<TITLE></TITLE>\n</HEAD>\n<BODY>\n<h3>H2Owned vs. Marc
	o Water Polo</h3>More info: <a href="https://www.golnetwork.com/game/v/8270
	6/">#3</a>\n\n</BODY>\n</HTML>
STATUS:CONFIRMED
CLASS:PUBLIC
URL:https://www.golnetwork.com/game/v/82706/
X-MICROSOFT-CDO-BUSYSTATUS:BUSY
X-MICROSOFT-CDO-IMPORTANCE:1
END:VEVENT
BEGIN:VEVENT
UID:g8dhc@games.golnetwork.com
LOCATION:Currie Pool
GEO:45.508899688721;-73.581298828125
CREATED:20160114T214642Z
DTSTART:20160116T233000Z
DTEND:20160117T003000Z
DTSTAMP:20260422T040447Z
SUMMARY:WetLaw vs. Tube Chainz
DESCRIPTION:Tube Chainz vs. WetLawMore info: #4
X-ALT-DESC;FMTTYPE=text/html:<!DOCTYPE HTML PUBLIC "-//W3C//DTD HTML 3.2//E
	N">\n<HTML>\n<HEAD>\n<TITLE></TITLE>\n</HEAD>\n<BODY>\n<h3>Tube Chainz vs. 
	WetLaw</h3>More info: <a href="https://www.golnetwork.com/game/v/82707/">#4
	</a>\n\n</BODY>\n</HTML>
STATUS:CONFIRMED
CLASS:PUBLIC
URL:https://www.golnetwork.com/game/v/82707/
X-MICROSOFT-CDO-BUSYSTATUS:BUSY
X-MICROSOFT-CDO-IMPORTANCE:1
END:VEVENT
BEGIN:VEVENT
UID:g8dhi@games.golnetwork.com
LOCATION:Currie Pool
GEO:45.508899688721;-73.581298828125
CREATED:20160114T214642Z
DTSTART:20160117T211500Z
DTEND:20160117T221500Z
DTSTAMP:20260422T040447Z
SUMMARY:Peejy Wheejy & Friends vs. Boob Tube
DESCRIPTION:Boob Tube vs. Peejy Wheejy & FriendsMore info: #8
X-ALT-DESC;FMTTYPE=text/html:<!DOCTYPE HTML PUBLIC "-//W3C//DTD HTML 3.2//E
	N">\n<HTML>\n<HEAD>\n<TITLE></TITLE>\n</HEAD>\n<BODY>\n<h3>Boob Tube vs. Pe
	ejy Wheejy & Friends</h3>More info: <a href="https://www.golnetwork.com/gam
	e/v/82710/">#8</a>\n\n</BODY>\n</HTML>
STATUS:CONFIRMED
CLASS:PUBLIC
URL:https://www.golnetwork.com/game/v/82710/
X-MICROSOFT-CDO-BUSYSTATUS:BUSY
X-MICROSOFT-CDO-IMPORTANCE:1
END:VEVENT
BEGIN:VEVENT
UID:g8dhk@games.golnetwork.com
LOCATION:Currie Pool
GEO:45.508899688721;-73.581298828125
CREATED:20160114T214642Z
DTSTART:20160117T221500Z
DTEND:20160117T231500Z
DTSTAMP:20260422T040447Z
SUMMARY:McGillyweed 8.0 (CRB) vs. Innerboob Water Hoes
DESCRIPTION:Innerboob Water Hoes vs. McGillyweed 8.0 (CRB)More info: #9
X-ALT-DESC;FMTTYPE=text/html:<!DOCTYPE HTML PUBLIC "-//W3C//DTD HTML 3.2//E
	N">\n<HTML>\n<HEAD>\n<TITLE></TITLE>\n</HEAD>\n<BODY>\n<h3>Innerboob Water 
	Hoes vs. McGillyweed 8.0 (CRB)</h3>More info: <a href="https://www.golnetwo
	rk.com/game/v/82711/">#9</a>\n\n</BODY>\n</HTML>
STATUS:CONFIRMED
CLASS:PUBLIC
URL:https://www.golnetwork.com/game/v/82711/
X-MICROSOFT-CDO-BUSYSTATUS:BUSY
X-MICROSOFT-CDO-IMPORTANCE:1
END:VEVENT
BEGIN:VEVENT
UID:g8dhq@games.golnetwork.com
LOCATION:Currie Pool
GEO:45.508899688721;-73.581298828125
CREATED:20160114T214642Z
DTSTART:20160123T223000Z
DTEND:20160123T233000Z
DTSTAMP:20260422T040447Z
SUMMARY:Poseidon vs. Peejy Wheejy & Friends
DESCRIPTION:Peejy Wheejy & Friends vs. PoseidonMore info: #12
X-ALT-DESC;FMTTYPE=text/html:<!DOCTYPE HTML PUBLIC "-//W3C//DTD HTML 3.2//E
	N">\n<HTML>\n<HEAD>\n<TITLE></TITLE>\n</HEAD>\n<BODY>\n<h3>Peejy Wheejy & F
	riends vs. Poseidon</h3>More info: <a href="https://www.golnetwork.com/game
	/v/82714/">#12</a>\n\n</BODY>\n</HTML>
STATUS:RESCHEDULED
CLASS:PUBLIC
URL:https://www.golnetwork.com/game/v/82714/
X-MICROSOFT-CDO-BUSYSTATUS:BUSY
X-MICROSOFT-CDO-IMPORTANCE:1
END:VEVENT
BEGIN:VEVENT
UID:g8di1@games.golnetwork.com
LOCATION:Currie Pool
GEO:45.508899688721;-73.581298828125
CREATED:20160114T214642Z
DTSTART:20160123T233000Z
DTEND:20160124T003000Z
DTSTAMP:20260422T040447Z
SUMMARY:H2Owned vs. Boob Tube
DESCRIPTION:Boob Tube vs. H2OwnedMore info: #13
X-ALT-DESC;FMTTYPE=text/html:<!DOCTYPE HTML PUBLIC "-//W3C//DTD HTML 3.2//E
	N">\n<HTML>\n<HEAD>\n<TITLE></TITLE>\n</HEAD>\n<BODY>\n<h3>Boob Tube vs. H2
	Owned</h3>More info: <a href="https://www.golnetwork.com/game/v/82715/">#13
	</a>\n\n</BODY>\n</HTML>
STATUS:CONFIRMED
CLASS:PUBLIC
URL:https://www.golnetwork.com/game/v/82715/
X-MICROSOFT-CDO-BUSYSTATUS:BUSY
X-MICROSOFT-CDO-IMPORTANCE:1
END:VEVENT
BEGIN:VEVENT
UID:g8di3@games.golnetwork.com
LOCATION:Currie Pool
GEO:45.508899688721;-73.581298828125
CREATED:20160114T214642Z
DTSTART:20160124T003000Z
DTEND:20160124T013000Z
DTSTAMP:20260422T040447Z
SUMMARY:Flailing Arm Tube Men vs. McGillyweed 8.0 (CRB)
DESCRIPTION:McGillyweed 8.0 (CRB) vs. Flailing Arm Tube MenMore info: #14
X-ALT-DESC;FMTTYPE=text/html:<!DOCTYPE HTML PUBLIC "-//W3C//DTD HTML 3.2//E
	N">\n<HTML>\n<HEAD>\n<TITLE></TITLE>\n</HEAD>\n<BODY>\n<h3>McGillyweed 8.0 
	(CRB) vs. Flailing Arm Tube Men</h3>More info: <a href="https://www.golnetw
	ork.com/game/v/82716/">#14</a>\n\n</BODY>\n</HTML>
STATUS:CONFIRMED
CLASS:PUBLIC
URL:https://www.golnetwork.com/game/v/82716/
X-MICROSOFT-CDO-BUSYSTATUS:BUSY
X-MICROSOFT-CDO-IMPORTANCE:1
END:VEVENT
BEGIN:VEVENT
UID:g8di9@games.golnetwork.com
LOCATION:Currie Pool
GEO:45.508899688721;-73.581298828125
CREATED:20160114T214642Z
DTSTART:20160124T211500Z
DTEND:20160124T221500Z
DTSTAMP:20260422T040447Z
SUMMARY:Marco Water Polo vs. Tube Chainz
DESCRIPTION:Tube Chainz vs. Marco Water PoloMore info: #17
X-ALT-DESC;FMTTYPE=text/html:<!DOCTYPE HTML PUBLIC "-//W3C//DTD HTML 3.2//E
	N">\n<HTML>\n<HEAD>\n<TITLE></TITLE>\n</HEAD>\n<BODY>\n<h3>Tube Chainz vs. 
	Marco Water Polo</h3>More info: <a href="https://www.golnetwork.com/game/v/
	82719/">#17</a>\n\n</BODY>\n</HTML>
STATUS:CONFIRMED
CLASS:PUBLIC
URL:https://www.golnetwork.com/game/v/82719/
X-MICROSOFT-CDO-BUSYSTATUS:BUSY
X-MICROSOFT-CDO-IMPORTANCE:1
END:VEVENT
BEGIN:VEVENT
UID:g8dib@games.golnetwork.com
LOCATION:Currie Pool
GEO:45.508899688721;-73.581298828125
CREATED:20160114T214642Z
DTSTART:20160124T221500Z
DTEND:20160124T231500Z
DTSTAMP:20260422T040447Z
SUMMARY:WetLaw vs. Innerboob Water Hoes
DESCRIPTION:Innerboob Water Hoes vs. WetLawMore info: #18
X-ALT-DESC;FMTTYPE=text/html:<!DOCTYPE HTML PUBLIC "-//W3C//DTD HTML 3.2//E
	N">\n<HTML>\n<HEAD>\n<TITLE></TITLE>\n</HEAD>\n<BODY>\n<h3>Innerboob Water 
	Hoes vs. WetLaw</h3>More info: <a href="https://www.golnetwork.com/game/v/8
	2720/">#18</a>\n\n</BODY>\n</HTML>
STATUS:CONFIRMED
CLASS:PUBLIC
URL:https://www.golnetwork.com/game/v/82720/
X-MICROSOFT-CDO-BUSYSTATUS:BUSY
X-MICROSOFT-CDO-IMPORTANCE:1
END:VEVENT
BEGIN:VEVENT
UID:g8dih@games.golnetwork.com
LOCATION:Currie Pool
GEO:45.508899688721;-73.581298828125
CREATED:20160114T214642Z
DTSTART:20160130T223000Z
DTEND:20160130T233000Z
DTSTAMP:20260422T040447Z
SUMMARY:Innerboob Water Hoes vs. Flailing Arm Tube Men
DESCRIPTION:Flailing Arm Tube Men vs. Innerboob Water HoesMore info: #21
X-ALT-DESC;FMTTYPE=text/html:<!DOCTYPE HTML PUBLIC "-//W3C//DTD HTML 3.2//E
	N">\n<HTML>\n<HEAD>\n<TITLE></TITLE>\n</HEAD>\n<BODY>\n<h3>Flailing Arm Tub
	e Men vs. Innerboob Water Hoes</h3>More info: <a href="https://www.golnetwo
	rk.com/game/v/82723/">#21</a>\n\n</BODY>\n</HTML>
STATUS:CONFIRMED
CLASS:PUBLIC
URL:https://www.golnetwork.com/game/v/82723/
X-MICROSOFT-CDO-BUSYSTATUS:BUSY
X-MICROSOFT-CDO-IMPORTANCE:1
END:VEVENT
BEGIN:VEVENT
UID:g8dij@games.golnetwork.com
LOCATION:Currie Pool
GEO:45.508899688721;-73.581298828125
CREATED:20160114T214643Z
DTSTART:20160130T233000Z
DTEND:20160131T003000Z
DTSTAMP:20260422T040447Z
SUMMARY:Boob Tube vs. Tube Chainz
DESCRIPTION:Tube Chainz vs. Boob TubeMore info: #22
X-ALT-DESC;FMTTYPE=text/html:<!DOCTYPE HTML PUBLIC "-//W3C//DTD HTML 3.2//E
	N">\n<HTML>\n<HEAD>\n<TITLE></TITLE>\n</HEAD>\n<BODY>\n<h3>Tube Chainz vs. 
	Boob Tube</h3>More info: <a href="https://www.golnetwork.com/game/v/82724/"
	>#22</a>\n\n</BODY>\n</HTML>
STATUS:CONFIRMED
CLASS:PUBLIC
URL:https://www.golnetwork.com/game/v/82724/
X-MICROSOFT-CDO-BUSYSTATUS:BUSY
X-MICROSOFT-CDO-IMPORTANCE:1
END:VEVENT
BEGIN:VEVENT
UID:g8dip@games.golnetwork.com
LOCATION:Currie Pool
GEO:45.508899688721;-73.581298828125
CREATED:20160114T214643Z
DTSTART:20160131T211500Z
DTEND:20160131T221500Z
DTSTAMP:20260422T040447Z
SUMMARY:Poseidon vs. Flailing Arm Tube Men
DESCRIPTION:Flailing Arm Tube Men vs. PoseidonMore info: #26
X-ALT-DESC;FMTTYPE=text/html:<!DOCTYPE HTML PUBLIC "-//W3C//DTD HTML 3.2//E
	N">\n<HTML>\n<HEAD>\n<TITLE></TITLE>\n</HEAD>\n<BODY>\n<h3>Flailing Arm Tub
	e Men vs. Poseidon</h3>More info: <a href="https://www.golnetwork.com/game/
	v/82727/">#26</a>\n\n</BODY>\n</HTML>
STATUS:CONFIRMED
CLASS:PUBLIC
URL:https://www.golnetwork.com/game/v/82727/
X-MICROSOFT-CDO-BUSYSTATUS:BUSY
X-MICROSOFT-CDO-IMPORTANCE:1
END:VEVENT
BEGIN:VEVENT
UID:g8dj0@games.golnetwork.com
LOCATION:Currie Pool
GEO:45.508899688721;-73.581298828125
CREATED:20160114T214643Z
DTSTART:20160131T221500Z
DTEND:20160131T231500Z
DTSTAMP:20260422T040447Z
SUMMARY:H2Owned vs. Peejy Wheejy & Friends
DESCRIPTION:Peejy Wheejy & Friends vs. H2OwnedMore info: #27
X-ALT-DESC;FMTTYPE=text/html:<!DOCTYPE HTML PUBLIC "-//W3C//DTD HTML 3.2//E
	N">\n<HTML>\n<HEAD>\n<TITLE></TITLE>\n</HEAD>\n<BODY>\n<h3>Peejy Wheejy & F
	riends vs. H2Owned</h3>More info: <a href="https://www.golnetwork.com/game/
	v/82728/">#27</a>\n\n</BODY>\n</HTML>
STATUS:CONFIRMED
CLASS:PUBLIC
URL:https://www.golnetwork.com/game/v/82728/
X-MICROSOFT-CDO-BUSYSTATUS:BUSY
X-MICROSOFT-CDO-IMPORTANCE:1
END:VEVENT
BEGIN:VEVENT
UID:g8dj6@games.golnetwork.com
LOCATION:Currie Pool
GEO:45.508899688721;-73.581298828125
CREATED:20160114T214643Z
DTSTART:20160206T223000Z
DTEND:20160206T233000Z
DTSTAMP:20260422T040447Z
SUMMARY:Flailing Arm Tube Men vs. WetLaw
DESCRIPTION:WetLaw vs. Flailing Arm Tube MenMore info: #30
X-ALT-DESC;FMTTYPE=text/html:<!DOCTYPE HTML PUBLIC "-//W3C//DTD HTML 3.2//E
	N">\n<HTML>\n<HEAD>\n<TITLE></TITLE>\n</HEAD>\n<BODY>\n<h3>WetLaw vs. Flail
	ing Arm Tube Men</h3>More info: <a href="https://www.golnetwork.com/game/v/
	82731/">#30</a>\n\n</BODY>\n</HTML>
STATUS:CONFIRMED
CLASS:PUBLIC
URL:https://www.golnetwork.com/game/v/82731/
X-MICROSOFT-CDO-BUSYSTATUS:BUSY
X-MICROSOFT-CDO-IMPORTANCE:1
END:VEVENT
BEGIN:VEVENT
UID:g8fb8@games.golnetwork.com
LOCATION:Currie Pool
GEO:45.508899688721;-73.581298828125
CREATED:20160121T183022Z
DTSTART:20160206T233000Z
DTEND:20160207T003000Z
DTSTAMP:20260422T040447Z
SUMMARY:Poseidon vs. Peejy Wheejy & Friends
DESCRIPTION:Peejy Wheejy & Friends vs. PoseidonMore info: R#12
X-ALT-DESC;FMTTYPE=text/html:<!DOCTYPE HTML PUBLIC "-//W3C//DTD HTML 3.2//E
	N">\n<HTML>\n<HEAD>\n<TITLE></TITLE>\n</HEAD>\n<BODY>\n<h3>Peejy Wheejy & F
	riends vs. Poseidon</h3>More info: <a href="https://www.golnetwork.com/game
	/v/83353/">R#12</a>\n\n</BODY>\n</HTML>
STATUS:CONFIRMED
CLASS:PUBLIC
URL:https://www.golnetwork.com/game/v/83353/
X-MICROSOFT-CDO-BUSYSTATUS:BUSY
X-MICROSOFT-CDO-IMPORTANCE:1
END:VEVENT
BEGIN:VEVENT
UID:g8dk7@games.golnetwork.com
LOCATION:Currie Pool
GEO:45.508899688721;-73.581298828125
CREATED:20160114T214643Z
DTSTART:20160207T003000Z
DTEND:20160207T013000Z
DTSTAMP:20260422T040447Z
SUMMARY:Poseidon vs. McGillyweed 8.0 (CRB)
DESCRIPTION:McGillyweed 8.0 (CRB) vs. PoseidonMore info: #48
X-ALT-DESC;FMTTYPE=text/html:<!DOCTYPE HTML PUBLIC "-//W3C//DTD HTML 3.2//E
	N">\n<HTML>\n<HEAD>\n<TITLE></TITLE>\n</HEAD>\n<BODY>\n<h3>McGillyweed 8.0 
	(CRB) vs. Poseidon</h3>More info: <a href="https://www.golnetwork.com/game/
	v/82745/">#48</a>\n\n</BODY>\n</HTML>
STATUS:CONFIRMED
CLASS:PUBLIC
URL:https://www.golnetwork.com/game/v/82745/
X-MICROSOFT-CDO-BUSYSTATUS:BUSY
X-MICROSOFT-CDO-IMPORTANCE:1
END:VEVENT
BEGIN:VEVENT
UID:g8dji@games.golnetwork.com
LOCATION:Currie Pool
GEO:45.508899688721;-73.581298828125
CREATED:20160114T214643Z
DTSTART:20160213T223000Z
DTEND:20160213T233000Z
DTSTAMP:20260422T040447Z
SUMMARY:Tube Chainz vs. Peejy Wheejy & Friends
DESCRIPTION:Peejy Wheejy & Friends vs. Tube ChainzMore info: #39
X-ALT-DESC;FMTTYPE=text/html:<!DOCTYPE HTML PUBLIC "-//W3C//DTD HTML 3.2//E
	N">\n<HTML>\n<HEAD>\n<TITLE></TITLE>\n</HEAD>\n<BODY>\n<h3>Peejy Wheejy & F
	riends vs. Tube Chainz</h3>More info: <a href="https://www.golnetwork.com/g
	ame/v/82737/">#39</a>\n\n</BODY>\n</HTML>
STATUS:CONFIRMED
CLASS:PUBLIC
URL:https://www.golnetwork.com/game/v/82737/
X-MICROSOFT-CDO-BUSYSTATUS:BUSY
X-MICROSOFT-CDO-IMPORTANCE:1
END:VEVENT
BEGIN:VEVENT
UID:g8djk@games.golnetwork.com
LOCATION:Currie Pool
GEO:45.508899688721;-73.581298828125
CREATED:20160114T214643Z
DTSTART:20160214T003000Z
DTEND:20160214T013000Z
DTSTAMP:20260422T040447Z
SUMMARY:Innerboob Water Hoes vs. H2Owned
DESCRIPTION:H2Owned vs. Innerboob Water HoesMore info: #40
X-ALT-DESC;FMTTYPE=text/html:<!DOCTYPE HTML PUBLIC "-//W3C//DTD HTML 3.2//E
	N">\n<HTML>\n<HEAD>\n<TITLE></TITLE>\n</HEAD>\n<BODY>\n<h3>H2Owned vs. Inne
	rboob Water Hoes</h3>More info: <a href="https://www.golnetwork.com/game/v/
	82738/">#40</a>\n\n</BODY>\n</HTML>
STATUS:CONFIRMED
CLASS:PUBLIC
URL:https://www.golnetwork.com/game/v/82738/
X-MICROSOFT-CDO-BUSYSTATUS:BUSY
X-MICROSOFT-CDO-IMPORTANCE:1
END:VEVENT
BEGIN:VEVENT
UID:g8djq@games.golnetwork.com
LOCATION:Currie Pool
GEO:45.508899688721;-73.581298828125
CREATED:20160114T214643Z
DTSTART:20160214T211500Z
DTEND:20160214T221500Z
DTSTAMP:20260422T040447Z
SUMMARY:Boob Tube vs. Marco Water Polo
DESCRIPTION:Marco Water Polo vs. Boob TubeMore info: #44
X-ALT-DESC;FMTTYPE=text/html:<!DOCTYPE HTML PUBLIC "-//W3C//DTD HTML 3.2//E
	N">\n<HTML>\n<HEAD>\n<TITLE></TITLE>\n</HEAD>\n<BODY>\n<h3>Marco Water Polo
	 vs. Boob Tube</h3>More info: <a href="https://www.golnetwork.com/game/v/82
	741/">#44</a>\n\n</BODY>\n</HTML>
STATUS:CONFIRMED
CLASS:PUBLIC
URL:https://www.golnetwork.com/game/v/82741/
X-MICROSOFT-CDO-BUSYSTATUS:BUSY
X-MICROSOFT-CDO-IMPORTANCE:1
END:VEVENT
BEGIN:VEVENT
UID:g8dk1@games.golnetwork.com
LOCATION:Currie Pool
GEO:45.508899688721;-73.581298828125
CREATED:20160114T214643Z
DTSTART:20160214T221500Z
DTEND:20160214T231500Z
DTSTAMP:20260422T040447Z
SUMMARY:McGillyweed 8.0 (CRB) vs. WetLaw
DESCRIPTION:WetLaw vs. McGillyweed 8.0 (CRB)More info: #45
X-ALT-DESC;FMTTYPE=text/html:<!DOCTYPE HTML PUBLIC "-//W3C//DTD HTML 3.2//E
	N">\n<HTML>\n<HEAD>\n<TITLE></TITLE>\n</HEAD>\n<BODY>\n<h3>WetLaw vs. McGil
	lyweed 8.0 (CRB)</h3>More info: <a href="https://www.golnetwork.com/game/v/
	82742/">#45</a>\n\n</BODY>\n</HTML>
STATUS:CONFIRMED
CLASS:PUBLIC
URL:https://www.golnetwork.com/game/v/82742/
X-MICROSOFT-CDO-BUSYSTATUS:BUSY
X-MICROSOFT-CDO-IMPORTANCE:1
END:VEVENT
BEGIN:VEVENT
UID:g8dj8@games.golnetwork.com
LOCATION:Currie Pool
GEO:45.508899688721;-73.581298828125
CREATED:20160114T214643Z
DTSTART:20160220T223000Z
DTEND:20160220T233000Z
DTSTAMP:20260422T040447Z
SUMMARY:Innerboob Water Hoes vs. Poseidon
DESCRIPTION:Poseidon vs. Innerboob Water HoesMore info: #31
X-ALT-DESC;FMTTYPE=text/html:<!DOCTYPE HTML PUBLIC "-//W3C//DTD HTML 3.2//E
	N">\n<HTML>\n<HEAD>\n<TITLE></TITLE>\n</HEAD>\n<BODY>\n<h3>Poseidon vs. Inn
	erboob Water Hoes</h3>More info: <a href="https://www.golnetwork.com/game/v
	/82732/">#31</a>\n\n</BODY>\n</HTML>
STATUS:CONFIRMED
CLASS:PUBLIC
URL:https://www.golnetwork.com/game/v/82732/
X-MICROSOFT-CDO-BUSYSTATUS:BUSY
X-MICROSOFT-CDO-IMPORTANCE:1
END:VEVENT
BEGIN:VEVENT
UID:g8dk9@games.golnetwork.com
LOCATION:Currie Pool
GEO:45.508899688721;-73.581298828125
CREATED:20160114T214643Z
DTSTART:20160220T233000Z
DTEND:20160221T003000Z
DTSTAMP:20260422T040447Z
SUMMARY:Peejy Wheejy & Friends vs. Marco Water Polo
DESCRIPTION:Marco Water Polo vs. Peejy Wheejy & FriendsMore info: #49
X-ALT-DESC;FMTTYPE=text/html:<!DOCTYPE HTML PUBLIC "-//W3C//DTD HTML 3.2//E
	N">\n<HTML>\n<HEAD>\n<TITLE></TITLE>\n</HEAD>\n<BODY>\n<h3>Marco Water Polo
	 vs. Peejy Wheejy & Friends</h3>More info: <a href="https://www.golnetwork.
	com/game/v/82746/">#49</a>\n\n</BODY>\n</HTML>
STATUS:CONFIRMED
CLASS:PUBLIC
URL:https://www.golnetwork.com/game/v/82746/
X-MICROSOFT-CDO-BUSYSTATUS:BUSY
X-MICROSOFT-CDO-IMPORTANCE:1
END:VEVENT
BEGIN:VEVENT
UID:g8dkb@games.golnetwork.com
LOCATION:Currie Pool
GEO:45.508899688721;-73.581298828125
CREATED:20160114T214643Z
DTSTART:20160221T003000Z
DTEND:20160221T013000Z
DTSTAMP:20260422T040447Z
SUMMARY:Tube Chainz vs. H2Owned
DESCRIPTION:H2Owned vs. Tube ChainzMore info: #50
X-ALT-DESC;FMTTYPE=text/html:<!DOCTYPE HTML PUBLIC "-//W3C//DTD HTML 3.2//E
	N">\n<HTML>\n<HEAD>\n<TITLE></TITLE>\n</HEAD>\n<BODY>\n<h3>H2Owned vs. Tube
	 Chainz</h3>More info: <a href="https://www.golnetwork.com/game/v/82747/">#
	50</a>\n\n</BODY>\n</HTML>
STATUS:CONFIRMED
CLASS:PUBLIC
URL:https://www.golnetwork.com/game/v/82747/
X-MICROSOFT-CDO-BUSYSTATUS:BUSY
X-MICROSOFT-CDO-IMPORTANCE:1
END:VEVENT
BEGIN:VEVENT
UID:g8dkh@games.golnetwork.com
LOCATION:Currie Pool
GEO:45.508899688721;-73.581298828125
CREATED:20160114T214643Z
DTSTART:20160221T211500Z
DTEND:20160221T221500Z
DTSTAMP:20260422T040447Z
SUMMARY:McGillyweed 8.0 (CRB) vs. Marco Water Polo
DESCRIPTION:Marco Water Polo vs. McGillyweed 8.0 (CRB)More info: #53
X-ALT-DESC;FMTTYPE=text/html:<!DOCTYPE HTML PUBLIC "-//W3C//DTD HTML 3.2//E
	N">\n<HTML>\n<HEAD>\n<TITLE></TITLE>\n</HEAD>\n<BODY>\n<h3>Marco Water Polo
	 vs. McGillyweed 8.0 (CRB)</h3>More info: <a href="https://www.golnetwork.c
	om/game/v/82750/">#53</a>\n\n</BODY>\n</HTML>
STATUS:CONFIRMED
CLASS:PUBLIC
URL:https://www.golnetwork.com/game/v/82750/
X-MICROSOFT-CDO-BUSYSTATUS:BUSY
X-MICROSOFT-CDO-IMPORTANCE:1
END:VEVENT
BEGIN:VEVENT
UID:g8dkj@games.golnetwork.com
LOCATION:Currie Pool
GEO:45.508899688721;-73.581298828125
CREATED:20160114T214643Z
DTSTART:20160221T221500Z
DTEND:20160221T231500Z
DTSTAMP:20260422T040447Z
SUMMARY:WetLaw vs. Poseidon
DESCRIPTION:Poseidon vs. WetLawMore info: #54
X-ALT-DESC;FMTTYPE=text/html:<!DOCTYPE HTML PUBLIC "-//W3C//DTD HTML 3.2//E
	N">\n<HTML>\n<HEAD>\n<TITLE></TITLE>\n</HEAD>\n<BODY>\n<h3>Poseidon vs. Wet
	Law</h3>More info: <a href="https://www.golnetwork.com/game/v/82751/">#54</
	a>\n\n</BODY>\n</HTML>
STATUS:CONFIRMED
CLASS:PUBLIC
URL:https://www.golnetwork.com/game/v/82751/
X-MICROSOFT-CDO-BUSYSTATUS:BUSY
X-MICROSOFT-CDO-IMPORTANCE:1
END:VEVENT
BEGIN:VEVENT
UID:g8dkl@games.golnetwork.com
LOCATION:Currie Pool
GEO:45.508899688721;-73.581298828125
CREATED:20160114T214643Z
DTSTART:20160312T213000Z
DTEND:20160312T223000Z
DTSTAMP:20260422T040447Z
SUMMARY:McGillyweed 8.0 (CRB) vs. H2Owned
DESCRIPTION:H2Owned vs. McGillyweed 8.0 (CRB)More info: #56
X-ALT-DESC;FMTTYPE=text/html:<!DOCTYPE HTML PUBLIC "-//W3C//DTD HTML 3.2//E
	N">\n<HTML>\n<HEAD>\n<TITLE></TITLE>\n</HEAD>\n<BODY>\n<h3>H2Owned vs. McGi
	llyweed 8.0 (CRB)</h3>More info: <a href="https://www.golnetwork.com/game/v
	/82752/">#56</a>\n\n</BODY>\n</HTML>
STATUS:CONFIRMED
CLASS:PUBLIC
URL:https://www.golnetwork.com/game/v/82752/
X-MICROSOFT-CDO-BUSYSTATUS:BUSY
X-MICROSOFT-CDO-IMPORTANCE:1
END:VEVENT
BEGIN:VEVENT
UID:g8dkn@games.golnetwork.com
LOCATION:Currie Pool
GEO:45.508899688721;-73.581298828125
CREATED:20160114T214643Z
DTSTART:20160312T223000Z
DTEND:20160312T233000Z
DTSTAMP:20260422T040447Z
SUMMARY:Poseidon vs. Marco Water Polo
DESCRIPTION:Marco Water Polo vs. PoseidonMore info: #57
X-ALT-DESC;FMTTYPE=text/html:<!DOCTYPE HTML PUBLIC "-//W3C//DTD HTML 3.2//E
	N">\n<HTML>\n<HEAD>\n<TITLE></TITLE>\n</HEAD>\n<BODY>\n<h3>Marco Water Polo
	 vs. Poseidon</h3>More info: <a href="https://www.golnetwork.com/game/v/827
	53/">#57</a>\n\n</BODY>\n</HTML>
STATUS:CONFIRMED
CLASS:PUBLIC
URL:https://www.golnetwork.com/game/v/82753/
X-MICROSOFT-CDO-BUSYSTATUS:BUSY
X-MICROSOFT-CDO-IMPORTANCE:1
END:VEVENT
BEGIN:VEVENT
UID:g8dkp@games.golnetwork.com
LOCATION:Currie Pool
GEO:45.508899688721;-73.581298828125
CREATED:20160114T214643Z
DTSTART:20160312T233000Z
DTEND:20160313T003000Z
DTSTAMP:20260422T040447Z
SUMMARY:WetLaw vs. Peejy Wheejy & Friends
DESCRIPTION:Peejy Wheejy & Friends vs. WetLawMore info: #58
X-ALT-DESC;FMTTYPE=text/html:<!DOCTYPE HTML PUBLIC "-//W3C//DTD HTML 3.2//E
	N">\n<HTML>\n<HEAD>\n<TITLE></TITLE>\n</HEAD>\n<BODY>\n<h3>Peejy Wheejy & F
	riends vs. WetLaw</h3>More info: <a href="https://www.golnetwork.com/game/v
	/82754/">#58</a>\n\n</BODY>\n</HTML>
STATUS:CONFIRMED
CLASS:PUBLIC
URL:https://www.golnetwork.com/game/v/82754/
X-MICROSOFT-CDO-BUSYSTATUS:BUSY
X-MICROSOFT-CDO-IMPORTANCE:1
END:VEVENT
BEGIN:VEVENT
UID:g8dl0@games.golnetwork.com
LOCATION:Currie Pool
GEO:45.508899688721;-73.581298828125
CREATED:20160114T214644Z
DTSTART:20160313T003000Z
DTEND:20160313T013000Z
DTSTAMP:20260422T040447Z
SUMMARY:Flailing Arm Tube Men vs. Boob Tube
DESCRIPTION:Boob Tube vs. Flailing Arm Tube MenMore info: #59
X-ALT-DESC;FMTTYPE=text/html:<!DOCTYPE HTML PUBLIC "-//W3C//DTD HTML 3.2//E
	N">\n<HTML>\n<HEAD>\n<TITLE></TITLE>\n</HEAD>\n<BODY>\n<h3>Boob Tube vs. Fl
	ailing Arm Tube Men</h3>More info: <a href="https://www.golnetwork.com/game
	/v/82755/">#59</a>\n\n</BODY>\n</HTML>
STATUS:CONFIRMED
CLASS:PUBLIC
URL:https://www.golnetwork.com/game/v/82755/
X-MICROSOFT-CDO-BUSYSTATUS:BUSY
X-MICROSOFT-CDO-IMPORTANCE:1
END:VEVENT
BEGIN:VEVENT
UID:g8dl6@games.golnetwork.com
LOCATION:Currie Pool
GEO:45.508899688721;-73.581298828125
CREATED:20160114T214644Z
DTSTART:20160313T201500Z
DTEND:20160313T211500Z
DTSTAMP:20260422T040447Z
SUMMARY:Flailing Arm Tube Men vs. Tube Chainz
DESCRIPTION:Tube Chainz vs. Flailing Arm Tube MenMore info: #62
X-ALT-DESC;FMTTYPE=text/html:<!DOCTYPE HTML PUBLIC "-//W3C//DTD HTML 3.2//E
	N">\n<HTML>\n<HEAD>\n<TITLE></TITLE>\n</HEAD>\n<BODY>\n<h3>Tube Chainz vs. 
	Flailing Arm Tube Men</h3>More info: <a href="https://www.golnetwork.com/ga
	me/v/82758/">#62</a>\n\n</BODY>\n</HTML>
STATUS:CONFIRMED
CLASS:PUBLIC
URL:https://www.golnetwork.com/game/v/82758/
X-MICROSOFT-CDO-BUSYSTATUS:BUSY
X-MICROSOFT-CDO-IMPORTANCE:1
END:VEVENT
BEGIN:VEVENT
UID:g8dl8@games.golnetwork.com
LOCATION:Currie Pool
GEO:45.508899688721;-73.581298828125
CREATED:20160114T214644Z
DTSTART:20160313T211500Z
DTEND:20160313T221500Z
DTSTAMP:20260422T040447Z
SUMMARY:Innerboob Water Hoes vs. Boob Tube
DESCRIPTION:Boob Tube vs. Innerboob Water HoesMore info: #63
X-ALT-DESC;FMTTYPE=text/html:<!DOCTYPE HTML PUBLIC "-//W3C//DTD HTML 3.2//E
	N">\n<HTML>\n<HEAD>\n<TITLE></TITLE>\n</HEAD>\n<BODY>\n<h3>Boob Tube vs. In
	nerboob Water Hoes</h3>More info: <a href="https://www.golnetwork.com/game/
	v/82759/">#63</a>\n\n</BODY>\n</HTML>
STATUS:CONFIRMED
CLASS:PUBLIC
URL:https://www.golnetwork.com/game/v/82759/
X-MICROSOFT-CDO-BUSYSTATUS:BUSY
X-MICROSOFT-CDO-IMPORTANCE:1
END:VEVENT
END:VCALENDAR
