BEGIN:VCALENDAR
PRODID:-//gdesolutions.com//MV Framework 1.0.0.1607 Calendar//EN
VERSION:2.0
METHOD:PUBLISH
CALSCALE:GREGORIAN
BEGIN:VEVENT
UID:g8fgp@games.golnetwork.com
LOCATION:Scarborough Metro Dome Field 1
CREATED:20160125T184840Z
DTSTART:20160129T020000Z
DTEND:20160129T030000Z
DTSTAMP:20260419T204803Z
SUMMARY:K FC vs. Green FC
DESCRIPTION:Green FC vs. K FCMore info: #1
X-ALT-DESC;FMTTYPE=text/html:<!DOCTYPE HTML PUBLIC "-//W3C//DTD HTML 3.2//E
	N">\n<HTML>\n<HEAD>\n<TITLE></TITLE>\n</HEAD>\n<BODY>\n<h3>Green FC vs. K F
	C</h3>More info: <a href="https://www.golnetwork.com/game/v/83429/">#1</a>\
	n\n</BODY>\n</HTML>
STATUS:CONFIRMED
CLASS:PUBLIC
URL:https://www.golnetwork.com/game/v/83429/
X-MICROSOFT-CDO-BUSYSTATUS:BUSY
X-MICROSOFT-CDO-IMPORTANCE:1
END:VEVENT
BEGIN:VEVENT
UID:g8fh2@games.golnetwork.com
LOCATION:Scarborough Metro Dome Field 1
CREATED:20160125T184850Z
DTSTART:20160129T030000Z
DTEND:20160129T040000Z
DTSTAMP:20260419T204803Z
SUMMARY:K FC vs. Harmonized Homies
DESCRIPTION:Harmonized Homies vs. K FCMore info: #2
X-ALT-DESC;FMTTYPE=text/html:<!DOCTYPE HTML PUBLIC "-//W3C//DTD HTML 3.2//E
	N">\n<HTML>\n<HEAD>\n<TITLE></TITLE>\n</HEAD>\n<BODY>\n<h3>Harmonized Homie
	s vs. K FC</h3>More info: <a href="https://www.golnetwork.com/game/v/83431/
	">#2</a>\n\n</BODY>\n</HTML>
STATUS:CONFIRMED
CLASS:PUBLIC
URL:https://www.golnetwork.com/game/v/83431/
X-MICROSOFT-CDO-BUSYSTATUS:BUSY
X-MICROSOFT-CDO-IMPORTANCE:1
END:VEVENT
BEGIN:VEVENT
UID:g8fh4@games.golnetwork.com
LOCATION:Scarborough Metro Dome Field 1
CREATED:20160125T184857Z
DTSTART:20160129T040000Z
DTEND:20160129T050000Z
DTSTAMP:20260419T204803Z
SUMMARY:XTSC Strikers vs. Harmonized Homies
DESCRIPTION:Harmonized Homies vs. XTSC StrikersMore info: #3
X-ALT-DESC;FMTTYPE=text/html:<!DOCTYPE HTML PUBLIC "-//W3C//DTD HTML 3.2//E
	N">\n<HTML>\n<HEAD>\n<TITLE></TITLE>\n</HEAD>\n<BODY>\n<h3>Harmonized Homie
	s vs. XTSC Strikers</h3>More info: <a href="https://www.golnetwork.com/game
	/v/83432/">#3</a>\n\n</BODY>\n</HTML>
STATUS:CONFIRMED
CLASS:PUBLIC
URL:https://www.golnetwork.com/game/v/83432/
X-MICROSOFT-CDO-BUSYSTATUS:BUSY
X-MICROSOFT-CDO-IMPORTANCE:1
END:VEVENT
BEGIN:VEVENT
UID:g8fhi@games.golnetwork.com
LOCATION:Scarborough Metro Dome Field 1
CREATED:20160125T184940Z
DTSTART:20160205T020000Z
DTEND:20160205T030000Z
DTSTAMP:20260419T204803Z
SUMMARY:K FC vs. Harmonized Homies
DESCRIPTION:Harmonized Homies vs. K FCMore info: #4
X-ALT-DESC;FMTTYPE=text/html:<!DOCTYPE HTML PUBLIC "-//W3C//DTD HTML 3.2//E
	N">\n<HTML>\n<HEAD>\n<TITLE></TITLE>\n</HEAD>\n<BODY>\n<h3>Harmonized Homie
	s vs. K FC</h3>More info: <a href="https://www.golnetwork.com/game/v/83439/
	">#4</a>\n\n</BODY>\n</HTML>
STATUS:CONFIRMED
CLASS:PUBLIC
URL:https://www.golnetwork.com/game/v/83439/
X-MICROSOFT-CDO-BUSYSTATUS:BUSY
X-MICROSOFT-CDO-IMPORTANCE:1
END:VEVENT
BEGIN:VEVENT
UID:g8fhe@games.golnetwork.com
LOCATION:Scarborough Metro Dome Field 1
CREATED:20160125T184925Z
DTSTART:20160205T030000Z
DTEND:20160205T040000Z
DTSTAMP:20260419T204803Z
SUMMARY:XTSC Strikers vs. Green FC
DESCRIPTION:Green FC vs. XTSC StrikersMore info: #5
X-ALT-DESC;FMTTYPE=text/html:<!DOCTYPE HTML PUBLIC "-//W3C//DTD HTML 3.2//E
	N">\n<HTML>\n<HEAD>\n<TITLE></TITLE>\n</HEAD>\n<BODY>\n<h3>Green FC vs. XTS
	C Strikers</h3>More info: <a href="https://www.golnetwork.com/game/v/83437/
	">#5</a>\n\n</BODY>\n</HTML>
STATUS:CONFIRMED
CLASS:PUBLIC
URL:https://www.golnetwork.com/game/v/83437/
X-MICROSOFT-CDO-BUSYSTATUS:BUSY
X-MICROSOFT-CDO-IMPORTANCE:1
END:VEVENT
BEGIN:VEVENT
UID:g8fha@games.golnetwork.com
LOCATION:Scarborough Metro Dome Field 1
CREATED:20160125T184914Z
DTSTART:20160212T020000Z
DTEND:20160212T030000Z
DTSTAMP:20260419T204803Z
SUMMARY:XTSC Strikers vs. K FC
DESCRIPTION:K FC vs. XTSC StrikersMore info: #6
X-ALT-DESC;FMTTYPE=text/html:<!DOCTYPE HTML PUBLIC "-//W3C//DTD HTML 3.2//E
	N">\n<HTML>\n<HEAD>\n<TITLE></TITLE>\n</HEAD>\n<BODY>\n<h3>K FC vs. XTSC St
	rikers</h3>More info: <a href="https://www.golnetwork.com/game/v/83435/">#6
	</a>\n\n</BODY>\n</HTML>
STATUS:CONFIRMED
CLASS:PUBLIC
URL:https://www.golnetwork.com/game/v/83435/
X-MICROSOFT-CDO-BUSYSTATUS:BUSY
X-MICROSOFT-CDO-IMPORTANCE:1
END:VEVENT
BEGIN:VEVENT
UID:g8fhk@games.golnetwork.com
LOCATION:Scarborough Metro Dome Field 1
CREATED:20160125T184952Z
DTSTART:20160212T030000Z
DTEND:20160212T040000Z
DTSTAMP:20260419T204803Z
SUMMARY:Campisi Personal Injury Lawyers vs. Green FC
DESCRIPTION:Green FC vs. Campisi Personal Injury LawyersMore info: #7
X-ALT-DESC;FMTTYPE=text/html:<!DOCTYPE HTML PUBLIC "-//W3C//DTD HTML 3.2//E
	N">\n<HTML>\n<HEAD>\n<TITLE></TITLE>\n</HEAD>\n<BODY>\n<h3>Green FC vs. Cam
	pisi Personal Injury Lawyers</h3>More info: <a href="https://www.golnetwork
	.com/game/v/83440/">#7</a>\n\n</BODY>\n</HTML>
STATUS:CONFIRMED
CLASS:PUBLIC
URL:https://www.golnetwork.com/game/v/83440/
X-MICROSOFT-CDO-BUSYSTATUS:BUSY
X-MICROSOFT-CDO-IMPORTANCE:1
END:VEVENT
BEGIN:VEVENT
UID:g8gbf@games.golnetwork.com
LOCATION:Scarborough Metro Dome Field 1
CREATED:20160204T195837Z
DTSTART:20160212T040000Z
DTEND:20160212T050000Z
DTSTAMP:20260419T204803Z
SUMMARY:Campisi Personal Injury Lawyers vs. Harmonized Homies
DESCRIPTION:Harmonized Homies vs. Campisi Personal Injury LawyersMore info:
	 #8
X-ALT-DESC;FMTTYPE=text/html:<!DOCTYPE HTML PUBLIC "-//W3C//DTD HTML 3.2//E
	N">\n<HTML>\n<HEAD>\n<TITLE></TITLE>\n</HEAD>\n<BODY>\n<h3>Harmonized Homie
	s vs. Campisi Personal Injury Lawyers</h3>More info: <a href="https://www.g
	olnetwork.com/game/v/83721/">#8</a>\n\n</BODY>\n</HTML>
STATUS:CONFIRMED
CLASS:PUBLIC
URL:https://www.golnetwork.com/game/v/83721/
X-MICROSOFT-CDO-BUSYSTATUS:BUSY
X-MICROSOFT-CDO-IMPORTANCE:1
END:VEVENT
BEGIN:VEVENT
UID:g8fhq@games.golnetwork.com
LOCATION:Scarborough Metro Dome Field 1
CREATED:20160125T185024Z
DTSTART:20160219T020000Z
DTEND:20160219T030000Z
DTSTAMP:20260419T204803Z
SUMMARY:Green FC vs. Harmonized Homies
DESCRIPTION:Harmonized Homies vs. Green FCMore info: #12
X-ALT-DESC;FMTTYPE=text/html:<!DOCTYPE HTML PUBLIC "-//W3C//DTD HTML 3.2//E
	N">\n<HTML>\n<HEAD>\n<TITLE></TITLE>\n</HEAD>\n<BODY>\n<h3>Harmonized Homie
	s vs. Green FC</h3>More info: <a href="https://www.golnetwork.com/game/v/83
	443/">#12</a>\n\n</BODY>\n</HTML>
STATUS:CONFIRMED
CLASS:PUBLIC
URL:https://www.golnetwork.com/game/v/83443/
X-MICROSOFT-CDO-BUSYSTATUS:BUSY
X-MICROSOFT-CDO-IMPORTANCE:1
END:VEVENT
BEGIN:VEVENT
UID:g8gc4@games.golnetwork.com
LOCATION:Scarborough Metro Dome Field 1
CREATED:20160204T202057Z
DTSTART:20160219T030000Z
DTEND:20160219T040000Z
DTSTAMP:20260419T204803Z
SUMMARY:Green FC vs. XTSC Strikers
DESCRIPTION:XTSC Strikers vs. Green FCMore info: #13
X-ALT-DESC;FMTTYPE=text/html:<!DOCTYPE HTML PUBLIC "-//W3C//DTD HTML 3.2//E
	N">\n<HTML>\n<HEAD>\n<TITLE></TITLE>\n</HEAD>\n<BODY>\n<h3>XTSC Strikers vs
	. Green FC</h3>More info: <a href="https://www.golnetwork.com/game/v/83729/
	">#13</a>\n\n</BODY>\n</HTML>
STATUS:CONFIRMED
CLASS:PUBLIC
URL:https://www.golnetwork.com/game/v/83729/
X-MICROSOFT-CDO-BUSYSTATUS:BUSY
X-MICROSOFT-CDO-IMPORTANCE:1
END:VEVENT
BEGIN:VEVENT
UID:g8fhm@games.golnetwork.com
LOCATION:Scarborough Metro Dome Field 1
CREATED:20160125T185004Z
DTSTART:20160219T040000Z
DTEND:20160219T050000Z
DTSTAMP:20260419T204803Z
SUMMARY:K FC vs. Campisi Personal Injury Lawyers
DESCRIPTION:Campisi Personal Injury Lawyers vs. K FCMore info: #14
X-ALT-DESC;FMTTYPE=text/html:<!DOCTYPE HTML PUBLIC "-//W3C//DTD HTML 3.2//E
	N">\n<HTML>\n<HEAD>\n<TITLE></TITLE>\n</HEAD>\n<BODY>\n<h3>Campisi Personal
	 Injury Lawyers vs. K FC</h3>More info: <a href="https://www.golnetwork.com
	/game/v/83441/">#14</a>\n\n</BODY>\n</HTML>
STATUS:CONFIRMED
CLASS:PUBLIC
URL:https://www.golnetwork.com/game/v/83441/
X-MICROSOFT-CDO-BUSYSTATUS:BUSY
X-MICROSOFT-CDO-IMPORTANCE:1
END:VEVENT
BEGIN:VEVENT
UID:g8fho@games.golnetwork.com
LOCATION:Scarborough Metro Dome Field 1
CREATED:20160125T185014Z
DTSTART:20160226T020000Z
DTEND:20160226T030000Z
DTSTAMP:20260419T204803Z
SUMMARY:Campisi Personal Injury Lawyers vs. XTSC Strikers
DESCRIPTION:XTSC Strikers vs. Campisi Personal Injury LawyersMore info: #18
X-ALT-DESC;FMTTYPE=text/html:<!DOCTYPE HTML PUBLIC "-//W3C//DTD HTML 3.2//E
	N">\n<HTML>\n<HEAD>\n<TITLE></TITLE>\n</HEAD>\n<BODY>\n<h3>XTSC Strikers vs
	. Campisi Personal Injury Lawyers</h3>More info: <a href="https://www.golne
	twork.com/game/v/83442/">#18</a>\n\n</BODY>\n</HTML>
STATUS:CONFIRMED
CLASS:PUBLIC
URL:https://www.golnetwork.com/game/v/83442/
X-MICROSOFT-CDO-BUSYSTATUS:BUSY
X-MICROSOFT-CDO-IMPORTANCE:1
END:VEVENT
BEGIN:VEVENT
UID:g8gc6@games.golnetwork.com
LOCATION:Scarborough Metro Dome Field 1
CREATED:20160204T202100Z
DTSTART:20160226T030000Z
DTEND:20160226T040000Z
DTSTAMP:20260419T204803Z
SUMMARY:Campisi Personal Injury Lawyers vs. Harmonized Homies
DESCRIPTION:Harmonized Homies vs. Campisi Personal Injury LawyersMore info:
	 #19
X-ALT-DESC;FMTTYPE=text/html:<!DOCTYPE HTML PUBLIC "-//W3C//DTD HTML 3.2//E
	N">\n<HTML>\n<HEAD>\n<TITLE></TITLE>\n</HEAD>\n<BODY>\n<h3>Harmonized Homie
	s vs. Campisi Personal Injury Lawyers</h3>More info: <a href="https://www.g
	olnetwork.com/game/v/83730/">#19</a>\n\n</BODY>\n</HTML>
STATUS:CONFIRMED
CLASS:PUBLIC
URL:https://www.golnetwork.com/game/v/83730/
X-MICROSOFT-CDO-BUSYSTATUS:BUSY
X-MICROSOFT-CDO-IMPORTANCE:1
END:VEVENT
BEGIN:VEVENT
UID:g8gd5@games.golnetwork.com
LOCATION:Scarborough Metro Dome Field 1
CREATED:20160205T140005Z
DTSTART:20160226T040000Z
DTEND:20160226T050000Z
DTSTAMP:20260419T204803Z
SUMMARY:K FC vs. Green FC
DESCRIPTION:Green FC vs. K FCMore info: #20
X-ALT-DESC;FMTTYPE=text/html:<!DOCTYPE HTML PUBLIC "-//W3C//DTD HTML 3.2//E
	N">\n<HTML>\n<HEAD>\n<TITLE></TITLE>\n</HEAD>\n<BODY>\n<h3>Green FC vs. K F
	C</h3>More info: <a href="https://www.golnetwork.com/game/v/83743/">#20</a>
	\n\n</BODY>\n</HTML>
STATUS:CONFIRMED
CLASS:PUBLIC
URL:https://www.golnetwork.com/game/v/83743/
X-MICROSOFT-CDO-BUSYSTATUS:BUSY
X-MICROSOFT-CDO-IMPORTANCE:1
END:VEVENT
BEGIN:VEVENT
UID:g8fi1@games.golnetwork.com
LOCATION:Scarborough Metro Dome Field 1
CREATED:20160125T185040Z
DTSTART:20160304T020000Z
DTEND:20160304T030000Z
DTSTAMP:20260419T204803Z
SUMMARY:Campisi Personal Injury Lawyers vs. Green FC
DESCRIPTION:Green FC vs. Campisi Personal Injury LawyersMore info: #24
X-ALT-DESC;FMTTYPE=text/html:<!DOCTYPE HTML PUBLIC "-//W3C//DTD HTML 3.2//E
	N">\n<HTML>\n<HEAD>\n<TITLE></TITLE>\n</HEAD>\n<BODY>\n<h3>Green FC vs. Cam
	pisi Personal Injury Lawyers</h3>More info: <a href="https://www.golnetwork
	.com/game/v/83444/">#24</a>\n\n</BODY>\n</HTML>
STATUS:CONFIRMED
CLASS:PUBLIC
URL:https://www.golnetwork.com/game/v/83444/
X-MICROSOFT-CDO-BUSYSTATUS:BUSY
X-MICROSOFT-CDO-IMPORTANCE:1
END:VEVENT
BEGIN:VEVENT
UID:g8fi3@games.golnetwork.com
LOCATION:Scarborough Metro Dome Field 1
CREATED:20160125T185049Z
DTSTART:20160304T030000Z
DTEND:20160304T040000Z
DTSTAMP:20260419T204803Z
SUMMARY:Harmonized Homies vs. XTSC Strikers
DESCRIPTION:XTSC Strikers vs. Harmonized HomiesMore info: #25
X-ALT-DESC;FMTTYPE=text/html:<!DOCTYPE HTML PUBLIC "-//W3C//DTD HTML 3.2//E
	N">\n<HTML>\n<HEAD>\n<TITLE></TITLE>\n</HEAD>\n<BODY>\n<h3>XTSC Strikers vs
	. Harmonized Homies</h3>More info: <a href="https://www.golnetwork.com/game
	/v/83445/">#25</a>\n\n</BODY>\n</HTML>
STATUS:CONFIRMED
CLASS:PUBLIC
URL:https://www.golnetwork.com/game/v/83445/
X-MICROSOFT-CDO-BUSYSTATUS:BUSY
X-MICROSOFT-CDO-IMPORTANCE:1
END:VEVENT
BEGIN:VEVENT
UID:g8gbh@games.golnetwork.com
LOCATION:Scarborough Metro Dome Field 1
CREATED:20160204T195840Z
DTSTART:20160304T040000Z
DTEND:20160304T050000Z
DTSTAMP:20260419T204803Z
SUMMARY:K FC vs. XTSC Strikers
DESCRIPTION:XTSC Strikers vs. K FCMore info: #26
X-ALT-DESC;FMTTYPE=text/html:<!DOCTYPE HTML PUBLIC "-//W3C//DTD HTML 3.2//E
	N">\n<HTML>\n<HEAD>\n<TITLE></TITLE>\n</HEAD>\n<BODY>\n<h3>XTSC Strikers vs
	. K FC</h3>More info: <a href="https://www.golnetwork.com/game/v/83722/">#2
	6</a>\n\n</BODY>\n</HTML>
STATUS:CONFIRMED
CLASS:PUBLIC
URL:https://www.golnetwork.com/game/v/83722/
X-MICROSOFT-CDO-BUSYSTATUS:BUSY
X-MICROSOFT-CDO-IMPORTANCE:1
END:VEVENT
BEGIN:VEVENT
UID:g8gc8@games.golnetwork.com
LOCATION:Scarborough Metro Dome Field 1
CREATED:20160204T202127Z
DTSTART:20160311T040000Z
DTEND:20160311T050000Z
DTSTAMP:20260419T204803Z
SUMMARY:Harmonized Homies vs. Campisi Personal Injury Lawyers
DESCRIPTION:Campisi Personal Injury Lawyers vs. Harmonized HomiesMore info:
	 #32
X-ALT-DESC;FMTTYPE=text/html:<!DOCTYPE HTML PUBLIC "-//W3C//DTD HTML 3.2//E
	N">\n<HTML>\n<HEAD>\n<TITLE></TITLE>\n</HEAD>\n<BODY>\n<h3>Campisi Personal
	 Injury Lawyers vs. Harmonized Homies</h3>More info: <a href="https://www.g
	olnetwork.com/game/v/83731/">#32</a>\n\n</BODY>\n</HTML>
STATUS:CONFIRMED
CLASS:PUBLIC
URL:https://www.golnetwork.com/game/v/83731/
X-MICROSOFT-CDO-BUSYSTATUS:BUSY
X-MICROSOFT-CDO-IMPORTANCE:1
END:VEVENT
BEGIN:VEVENT
UID:g8gbl@games.golnetwork.com
LOCATION:Scarborough Metro Dome Field 1
CREATED:20160204T201910Z
DTSTART:20160318T020000Z
DTEND:20160318T030000Z
DTSTAMP:20260419T204803Z
SUMMARY:Green FC vs. Harmonized Homies
DESCRIPTION:Harmonized Homies vs. Green FCMore info: #37
X-ALT-DESC;FMTTYPE=text/html:<!DOCTYPE HTML PUBLIC "-//W3C//DTD HTML 3.2//E
	N">\n<HTML>\n<HEAD>\n<TITLE></TITLE>\n</HEAD>\n<BODY>\n<h3>Harmonized Homie
	s vs. Green FC</h3>More info: <a href="https://www.golnetwork.com/game/v/83
	724/">#37</a>\n\n</BODY>\n</HTML>
STATUS:CONFIRMED
CLASS:PUBLIC
URL:https://www.golnetwork.com/game/v/83724/
X-MICROSOFT-CDO-BUSYSTATUS:BUSY
X-MICROSOFT-CDO-IMPORTANCE:1
END:VEVENT
BEGIN:VEVENT
UID:g8gbn@games.golnetwork.com
LOCATION:Scarborough Metro Dome Field 1
CREATED:20160204T201917Z
DTSTART:20160318T030000Z
DTEND:20160318T040000Z
DTSTAMP:20260419T204803Z
SUMMARY:Green FC vs. XTSC Strikers
DESCRIPTION:XTSC Strikers vs. Green FCMore info: #38
X-ALT-DESC;FMTTYPE=text/html:<!DOCTYPE HTML PUBLIC "-//W3C//DTD HTML 3.2//E
	N">\n<HTML>\n<HEAD>\n<TITLE></TITLE>\n</HEAD>\n<BODY>\n<h3>XTSC Strikers vs
	. Green FC</h3>More info: <a href="https://www.golnetwork.com/game/v/83725/
	">#38</a>\n\n</BODY>\n</HTML>
STATUS:CONFIRMED
CLASS:PUBLIC
URL:https://www.golnetwork.com/game/v/83725/
X-MICROSOFT-CDO-BUSYSTATUS:BUSY
X-MICROSOFT-CDO-IMPORTANCE:1
END:VEVENT
END:VCALENDAR
