BEGIN:VCALENDAR
PRODID:-//gdesolutions.com//MV Framework 1.0.0.1607 Calendar//EN
VERSION:2.0
METHOD:PUBLISH
CALSCALE:GREGORIAN
BEGIN:VEVENT
UID:g8j7a@games.golnetwork.com
LOCATION:Squash Court #1
GEO:45.508899688721;-73.5795573
CREATED:20160316T040019Z
DTSTART:20160319T193000Z
DTEND:20160319T201500Z
DTSTAMP:20260423T185403Z
SUMMARY:Tiki Taka vs. Dadbods
DESCRIPTION:Dadbods vs. Tiki TakaMore info: #10
X-ALT-DESC;FMTTYPE=text/html:<!DOCTYPE HTML PUBLIC "-//W3C//DTD HTML 3.2//E
	N">\n<HTML>\n<HEAD>\n<TITLE></TITLE>\n</HEAD>\n<BODY>\n<h3>Dadbods vs. Tiki
	 Taka</h3>More info: <a href="https://www.golnetwork.com/game/v/84758/">#10
	</a>\n\n</BODY>\n</HTML>
STATUS:CONFIRMED
CLASS:PUBLIC
URL:https://www.golnetwork.com/game/v/84758/
X-MICROSOFT-CDO-BUSYSTATUS:BUSY
X-MICROSOFT-CDO-IMPORTANCE:1
END:VEVENT
BEGIN:VEVENT
UID:g8j7c@games.golnetwork.com
LOCATION:Squash Court #1
GEO:45.508899688721;-73.5795573
CREATED:20160316T040019Z
DTSTART:20160319T201500Z
DTEND:20160319T210000Z
DTSTAMP:20260423T185403Z
SUMMARY:Spandu vs. PanamaBenTorto
DESCRIPTION:PanamaBenTorto vs. SpanduMore info: #11
X-ALT-DESC;FMTTYPE=text/html:<!DOCTYPE HTML PUBLIC "-//W3C//DTD HTML 3.2//E
	N">\n<HTML>\n<HEAD>\n<TITLE></TITLE>\n</HEAD>\n<BODY>\n<h3>PanamaBenTorto v
	s. Spandu</h3>More info: <a href="https://www.golnetwork.com/game/v/84759/"
	>#11</a>\n\n</BODY>\n</HTML>
STATUS:CONFIRMED
CLASS:PUBLIC
URL:https://www.golnetwork.com/game/v/84759/
X-MICROSOFT-CDO-BUSYSTATUS:BUSY
X-MICROSOFT-CDO-IMPORTANCE:1
END:VEVENT
BEGIN:VEVENT
UID:g8j7m@games.golnetwork.com
LOCATION:Squash Court #1
GEO:45.508899688721;-73.5795573
CREATED:20160316T040019Z
DTSTART:20160322T231500Z
DTEND:20160323T000000Z
DTSTAMP:20260423T185403Z
SUMMARY:Tiki Taka vs. PanamaBenTorto
DESCRIPTION:PanamaBenTorto vs. Tiki TakaMore info: #16
X-ALT-DESC;FMTTYPE=text/html:<!DOCTYPE HTML PUBLIC "-//W3C//DTD HTML 3.2//E
	N">\n<HTML>\n<HEAD>\n<TITLE></TITLE>\n</HEAD>\n<BODY>\n<h3>PanamaBenTorto v
	s. Tiki Taka</h3>More info: <a href="https://www.golnetwork.com/game/v/8476
	4/">#16</a>\n\n</BODY>\n</HTML>
STATUS:RESCHEDULED
CLASS:PUBLIC
URL:https://www.golnetwork.com/game/v/84764/
X-MICROSOFT-CDO-BUSYSTATUS:BUSY
X-MICROSOFT-CDO-IMPORTANCE:1
END:VEVENT
BEGIN:VEVENT
UID:g8j8j@games.golnetwork.com
LOCATION:Squash Court #1
GEO:45.508899688721;-73.5795573
CREATED:20160316T040020Z
DTSTART:20160325T000000Z
DTEND:20160325T004500Z
DTSTAMP:20260423T185403Z
SUMMARY:Spandu vs. Dadbods
DESCRIPTION:Dadbods vs. SpanduMore info: #28
X-ALT-DESC;FMTTYPE=text/html:<!DOCTYPE HTML PUBLIC "-//W3C//DTD HTML 3.2//E
	N">\n<HTML>\n<HEAD>\n<TITLE></TITLE>\n</HEAD>\n<BODY>\n<h3>Dadbods vs. Span
	du</h3>More info: <a href="https://www.golnetwork.com/game/v/84776/">#28</a
	>\n\n</BODY>\n</HTML>
STATUS:CONFIRMED
CLASS:PUBLIC
URL:https://www.golnetwork.com/game/v/84776/
X-MICROSOFT-CDO-BUSYSTATUS:BUSY
X-MICROSOFT-CDO-IMPORTANCE:1
END:VEVENT
BEGIN:VEVENT
UID:g8j8n@games.golnetwork.com
LOCATION:Squash Court #1
GEO:45.508899688721;-73.5795573
CREATED:20160316T040020Z
DTSTART:20160329T223000Z
DTEND:20160329T231500Z
DTSTAMP:20260423T185403Z
SUMMARY:Tiki Taka vs. Spandu
DESCRIPTION:Spandu vs. Tiki TakaMore info: #30
X-ALT-DESC;FMTTYPE=text/html:<!DOCTYPE HTML PUBLIC "-//W3C//DTD HTML 3.2//E
	N">\n<HTML>\n<HEAD>\n<TITLE></TITLE>\n</HEAD>\n<BODY>\n<h3>Spandu vs. Tiki 
	Taka</h3>More info: <a href="https://www.golnetwork.com/game/v/84778/">#30<
	/a>\n\n</BODY>\n</HTML>
STATUS:CONFIRMED
CLASS:PUBLIC
URL:https://www.golnetwork.com/game/v/84778/
X-MICROSOFT-CDO-BUSYSTATUS:BUSY
X-MICROSOFT-CDO-IMPORTANCE:1
END:VEVENT
BEGIN:VEVENT
UID:g8k5l@games.golnetwork.com
LOCATION:Squash Court #1
GEO:45.508899688721;-73.5795573
CREATED:20160322T225503Z
DTSTART:20160330T214500Z
DTEND:20160330T223000Z
DTSTAMP:20260423T185403Z
SUMMARY:Tiki Taka vs. PanamaBenTorto
DESCRIPTION:PanamaBenTorto vs. Tiki TakaMore info: R#16
X-ALT-DESC;FMTTYPE=text/html:<!DOCTYPE HTML PUBLIC "-//W3C//DTD HTML 3.2//E
	N">\n<HTML>\n<HEAD>\n<TITLE></TITLE>\n</HEAD>\n<BODY>\n<h3>PanamaBenTorto v
	s. Tiki Taka</h3>More info: <a href="https://www.golnetwork.com/game/v/8510
	1/">R#16</a>\n\n</BODY>\n</HTML>
STATUS:CONFIRMED
CLASS:PUBLIC
URL:https://www.golnetwork.com/game/v/85101/
X-MICROSOFT-CDO-BUSYSTATUS:BUSY
X-MICROSOFT-CDO-IMPORTANCE:1
END:VEVENT
BEGIN:VEVENT
UID:g8j9i@games.golnetwork.com
LOCATION:Squash Court #1
GEO:45.508899688721;-73.5795573
CREATED:20160316T040020Z
DTSTART:20160331T231500Z
DTEND:20160401T000000Z
DTSTAMP:20260423T185403Z
SUMMARY:PanamaBenTorto vs. Dadbods
DESCRIPTION:Dadbods vs. PanamaBenTortoMore info: #41
X-ALT-DESC;FMTTYPE=text/html:<!DOCTYPE HTML PUBLIC "-//W3C//DTD HTML 3.2//E
	N">\n<HTML>\n<HEAD>\n<TITLE></TITLE>\n</HEAD>\n<BODY>\n<h3>Dadbods vs. Pana
	maBenTorto</h3>More info: <a href="https://www.golnetwork.com/game/v/84789/
	">#41</a>\n\n</BODY>\n</HTML>
STATUS:CONFIRMED
CLASS:PUBLIC
URL:https://www.golnetwork.com/game/v/84789/
X-MICROSOFT-CDO-BUSYSTATUS:BUSY
X-MICROSOFT-CDO-IMPORTANCE:1
END:VEVENT
BEGIN:VEVENT
UID:g8jab@games.golnetwork.com
LOCATION:Squash Court #1
GEO:45.508899688721;-73.5795573
CREATED:20160316T040020Z
DTSTART:20160402T184500Z
DTEND:20160402T193000Z
DTSTAMP:20260423T185403Z
SUMMARY:Tiki Taka vs. Dadbods
DESCRIPTION:Dadbods vs. Tiki TakaMore info: #51
X-ALT-DESC;FMTTYPE=text/html:<!DOCTYPE HTML PUBLIC "-//W3C//DTD HTML 3.2//E
	N">\n<HTML>\n<HEAD>\n<TITLE></TITLE>\n</HEAD>\n<BODY>\n<h3>Dadbods vs. Tiki
	 Taka</h3>More info: <a href="https://www.golnetwork.com/game/v/84799/">#51
	</a>\n\n</BODY>\n</HTML>
STATUS:CONFIRMED
CLASS:PUBLIC
URL:https://www.golnetwork.com/game/v/84799/
X-MICROSOFT-CDO-BUSYSTATUS:BUSY
X-MICROSOFT-CDO-IMPORTANCE:1
END:VEVENT
BEGIN:VEVENT
UID:g8jad@games.golnetwork.com
LOCATION:Squash Court #1
GEO:45.508899688721;-73.5795573
CREATED:20160316T040020Z
DTSTART:20160402T193000Z
DTEND:20160402T201500Z
DTSTAMP:20260423T185403Z
SUMMARY:Spandu vs. PanamaBenTorto
DESCRIPTION:PanamaBenTorto vs. SpanduMore info: #52
X-ALT-DESC;FMTTYPE=text/html:<!DOCTYPE HTML PUBLIC "-//W3C//DTD HTML 3.2//E
	N">\n<HTML>\n<HEAD>\n<TITLE></TITLE>\n</HEAD>\n<BODY>\n<h3>PanamaBenTorto v
	s. Spandu</h3>More info: <a href="https://www.golnetwork.com/game/v/84800/"
	>#52</a>\n\n</BODY>\n</HTML>
STATUS:CONFIRMED
CLASS:PUBLIC
URL:https://www.golnetwork.com/game/v/84800/
X-MICROSOFT-CDO-BUSYSTATUS:BUSY
X-MICROSOFT-CDO-IMPORTANCE:1
END:VEVENT
BEGIN:VEVENT
UID:g8jap@games.golnetwork.com
LOCATION:Squash Court #1
GEO:45.508899688721;-73.5795573
CREATED:20160316T040021Z
DTSTART:20160403T184500Z
DTEND:20160403T193000Z
DTSTAMP:20260423T185403Z
SUMMARY:Tiki Taka vs. PanamaBenTorto
DESCRIPTION:PanamaBenTorto vs. Tiki TakaMore info: #58
X-ALT-DESC;FMTTYPE=text/html:<!DOCTYPE HTML PUBLIC "-//W3C//DTD HTML 3.2//E
	N">\n<HTML>\n<HEAD>\n<TITLE></TITLE>\n</HEAD>\n<BODY>\n<h3>PanamaBenTorto v
	s. Tiki Taka</h3>More info: <a href="https://www.golnetwork.com/game/v/8480
	6/">#58</a>\n\n</BODY>\n</HTML>
STATUS:CONFIRMED
CLASS:PUBLIC
URL:https://www.golnetwork.com/game/v/84806/
X-MICROSOFT-CDO-BUSYSTATUS:BUSY
X-MICROSOFT-CDO-IMPORTANCE:1
END:VEVENT
BEGIN:VEVENT
UID:g8jb8@games.golnetwork.com
LOCATION:Squash Court #1
GEO:45.508899688721;-73.5795573
CREATED:20160316T040021Z
DTSTART:20160404T214500Z
DTEND:20160404T223000Z
DTSTAMP:20260423T185403Z
SUMMARY:PanamaBenTorto vs. Dadbods
DESCRIPTION:Dadbods vs. PanamaBenTortoMore info: #63
X-ALT-DESC;FMTTYPE=text/html:<!DOCTYPE HTML PUBLIC "-//W3C//DTD HTML 3.2//E
	N">\n<HTML>\n<HEAD>\n<TITLE></TITLE>\n</HEAD>\n<BODY>\n<h3>Dadbods vs. Pana
	maBenTorto</h3>More info: <a href="https://www.golnetwork.com/game/v/84811/
	">#63</a>\n\n</BODY>\n</HTML>
STATUS:CONFIRMED
CLASS:PUBLIC
URL:https://www.golnetwork.com/game/v/84811/
X-MICROSOFT-CDO-BUSYSTATUS:BUSY
X-MICROSOFT-CDO-IMPORTANCE:1
END:VEVENT
BEGIN:VEVENT
UID:g8jba@games.golnetwork.com
LOCATION:Squash Court #1
GEO:45.508899688721;-73.5795573
CREATED:20160316T040021Z
DTSTART:20160404T223000Z
DTEND:20160404T231500Z
DTSTAMP:20260423T185403Z
SUMMARY:Tiki Taka vs. Spandu
DESCRIPTION:Spandu vs. Tiki TakaMore info: #64
X-ALT-DESC;FMTTYPE=text/html:<!DOCTYPE HTML PUBLIC "-//W3C//DTD HTML 3.2//E
	N">\n<HTML>\n<HEAD>\n<TITLE></TITLE>\n</HEAD>\n<BODY>\n<h3>Spandu vs. Tiki 
	Taka</h3>More info: <a href="https://www.golnetwork.com/game/v/84812/">#64<
	/a>\n\n</BODY>\n</HTML>
STATUS:CONFIRMED
CLASS:PUBLIC
URL:https://www.golnetwork.com/game/v/84812/
X-MICROSOFT-CDO-BUSYSTATUS:BUSY
X-MICROSOFT-CDO-IMPORTANCE:1
END:VEVENT
BEGIN:VEVENT
UID:g8jc3@games.golnetwork.com
LOCATION:Squash Court #1
GEO:45.508899688721;-73.5795573
CREATED:20160316T040021Z
DTSTART:20160406T214500Z
DTEND:20160406T223000Z
DTSTAMP:20260423T185403Z
SUMMARY:Spandu vs. Dadbods
DESCRIPTION:Dadbods vs. SpanduMore info: #74
X-ALT-DESC;FMTTYPE=text/html:<!DOCTYPE HTML PUBLIC "-//W3C//DTD HTML 3.2//E
	N">\n<HTML>\n<HEAD>\n<TITLE></TITLE>\n</HEAD>\n<BODY>\n<h3>Dadbods vs. Span
	du</h3>More info: <a href="https://www.golnetwork.com/game/v/84822/">#74</a
	>\n\n</BODY>\n</HTML>
STATUS:CONFIRMED
CLASS:PUBLIC
URL:https://www.golnetwork.com/game/v/84822/
X-MICROSOFT-CDO-BUSYSTATUS:BUSY
X-MICROSOFT-CDO-IMPORTANCE:1
END:VEVENT
END:VCALENDAR
