BEGIN:VCALENDAR
PRODID:-//gdesolutions.com//MV Framework 1.0.0.1607 Calendar//EN
VERSION:2.0
METHOD:PUBLISH
CALSCALE:GREGORIAN
BEGIN:VEVENT
UID:g9821@games.golnetwork.com
LOCATION:Ray Twinney Complex #3 1st half
CREATED:20160712T183109Z
DTSTART:20160809T223000Z
DTEND:20160809T232500Z
DTSTAMP:20260424T212923Z
SUMMARY:Bayside Tigers vs. Pink Panthers
DESCRIPTION:Pink Panthers vs. Bayside TigersMore info: #32
X-ALT-DESC;FMTTYPE=text/html:<!DOCTYPE HTML PUBLIC "-//W3C//DTD HTML 3.2//E
	N">\n<HTML>\n<HEAD>\n<TITLE></TITLE>\n</HEAD>\n<BODY>\n<h3>Pink Panthers vs
	. Bayside Tigers</h3>More info: <a href="https://www.golnetwork.com/game/v/
	90518/">#32</a>\n\n</BODY>\n</HTML>
STATUS:CONFIRMED
CLASS:PUBLIC
URL:https://www.golnetwork.com/game/v/90518/
X-MICROSOFT-CDO-BUSYSTATUS:BUSY
X-MICROSOFT-CDO-IMPORTANCE:1
END:VEVENT
BEGIN:VEVENT
UID:g981k@games.golnetwork.com
LOCATION:Ray Twinney Complex #3 1st half
CREATED:20160712T183023Z
DTSTART:20160809T233000Z
DTEND:20160810T002500Z
DTSTAMP:20260424T212923Z
SUMMARY:Beercelona vs. Teal FC
DESCRIPTION:Teal FC vs. BeercelonaMore info: #33
X-ALT-DESC;FMTTYPE=text/html:<!DOCTYPE HTML PUBLIC "-//W3C//DTD HTML 3.2//E
	N">\n<HTML>\n<HEAD>\n<TITLE></TITLE>\n</HEAD>\n<BODY>\n<h3>Teal FC vs. Beer
	celona</h3>More info: <a href="https://www.golnetwork.com/game/v/90514/">#3
	3</a>\n\n</BODY>\n</HTML>
STATUS:CONFIRMED
CLASS:PUBLIC
URL:https://www.golnetwork.com/game/v/90514/
X-MICROSOFT-CDO-BUSYSTATUS:BUSY
X-MICROSOFT-CDO-IMPORTANCE:1
END:VEVENT
BEGIN:VEVENT
UID:g981i@games.golnetwork.com
LOCATION:Ray Twinney Complex #3 2nd half
CREATED:20160712T183023Z
DTSTART:20160809T233000Z
DTEND:20160810T002500Z
DTSTAMP:20260424T212923Z
SUMMARY:Fatta Chinguine vs. Legen....Wait for it ..... dary!
DESCRIPTION:Legen....Wait for it ..... dary! vs. Fatta ChinguineMore info: 
	#34
X-ALT-DESC;FMTTYPE=text/html:<!DOCTYPE HTML PUBLIC "-//W3C//DTD HTML 3.2//E
	N">\n<HTML>\n<HEAD>\n<TITLE></TITLE>\n</HEAD>\n<BODY>\n<h3>Legen....Wait fo
	r it ..... dary! vs. Fatta Chinguine</h3>More info: <a href="https://www.go
	lnetwork.com/game/v/90513/">#34</a>\n\n</BODY>\n</HTML>
STATUS:CONFIRMED
CLASS:PUBLIC
URL:https://www.golnetwork.com/game/v/90513/
X-MICROSOFT-CDO-BUSYSTATUS:BUSY
X-MICROSOFT-CDO-IMPORTANCE:1
END:VEVENT
BEGIN:VEVENT
UID:g981m@games.golnetwork.com
LOCATION:Ray Twinney Complex #3 1st half
CREATED:20160712T183023Z
DTSTART:20160816T223000Z
DTEND:20160816T231500Z
DTSTAMP:20260424T212923Z
SUMMARY:Teal FC vs. Pink Panthers
DESCRIPTION:Pink Panthers vs. Teal FCMore info: #35
X-ALT-DESC;FMTTYPE=text/html:<!DOCTYPE HTML PUBLIC "-//W3C//DTD HTML 3.2//E
	N">\n<HTML>\n<HEAD>\n<TITLE></TITLE>\n</HEAD>\n<BODY>\n<h3>Pink Panthers vs
	. Teal FC</h3>More info: <a href="https://www.golnetwork.com/game/v/90515/"
	>#35</a>\n\n</BODY>\n</HTML>
STATUS:RESCHEDULED
CLASS:PUBLIC
URL:https://www.golnetwork.com/game/v/90515/
X-MICROSOFT-CDO-BUSYSTATUS:BUSY
X-MICROSOFT-CDO-IMPORTANCE:1
END:VEVENT
BEGIN:VEVENT
UID:g981o@games.golnetwork.com
LOCATION:Ray Twinney Complex #3 1st half
CREATED:20160712T183023Z
DTSTART:20160816T223000Z
DTEND:20160816T231500Z
DTSTAMP:20260424T212923Z
SUMMARY:Fatta Chinguine vs. Bayside Tigers
DESCRIPTION:Bayside Tigers vs. Fatta ChinguineMore info: #36
X-ALT-DESC;FMTTYPE=text/html:<!DOCTYPE HTML PUBLIC "-//W3C//DTD HTML 3.2//E
	N">\n<HTML>\n<HEAD>\n<TITLE></TITLE>\n</HEAD>\n<BODY>\n<h3>Bayside Tigers v
	s. Fatta Chinguine</h3>More info: <a href="https://www.golnetwork.com/game/
	v/90516/">#36</a>\n\n</BODY>\n</HTML>
STATUS:RESCHEDULED
CLASS:PUBLIC
URL:https://www.golnetwork.com/game/v/90516/
X-MICROSOFT-CDO-BUSYSTATUS:BUSY
X-MICROSOFT-CDO-IMPORTANCE:1
END:VEVENT
BEGIN:VEVENT
UID:g9823@games.golnetwork.com
LOCATION:Ray Twinney Complex #3 2nd half
CREATED:20160712T183238Z
DTSTART:20160816T233000Z
DTEND:20160817T002500Z
DTSTAMP:20260424T212923Z
SUMMARY:Beercelona vs. Legen....Wait for it ..... dary!
DESCRIPTION:Legen....Wait for it ..... dary! vs. BeercelonaMore info: #37
X-ALT-DESC;FMTTYPE=text/html:<!DOCTYPE HTML PUBLIC "-//W3C//DTD HTML 3.2//E
	N">\n<HTML>\n<HEAD>\n<TITLE></TITLE>\n</HEAD>\n<BODY>\n<h3>Legen....Wait fo
	r it ..... dary! vs. Beercelona</h3>More info: <a href="https://www.golnetw
	ork.com/game/v/90519/">#37</a>\n\n</BODY>\n</HTML>
STATUS:RESCHEDULED
CLASS:PUBLIC
URL:https://www.golnetwork.com/game/v/90519/
X-MICROSOFT-CDO-BUSYSTATUS:BUSY
X-MICROSOFT-CDO-IMPORTANCE:1
END:VEVENT
BEGIN:VEVENT
UID:g9ana@games.golnetwork.com
LOCATION:Ray Twinney Complex #3 1st half
CREATED:20160820T170501Z
DTSTART:20160823T223000Z
DTEND:20160823T231500Z
DTSTAMP:20260424T212923Z
SUMMARY:Teal FC vs. Pink Panthers
DESCRIPTION:Pink Panthers vs. Teal FCMore info: R#36
X-ALT-DESC;FMTTYPE=text/html:<!DOCTYPE HTML PUBLIC "-//W3C//DTD HTML 3.2//E
	N">\n<HTML>\n<HEAD>\n<TITLE></TITLE>\n</HEAD>\n<BODY>\n<h3>Pink Panthers vs
	. Teal FC</h3>More info: <a href="https://www.golnetwork.com/game/v/91535/"
	>R#36</a>\n\n</BODY>\n</HTML>
STATUS:CONFIRMED
CLASS:PUBLIC
URL:https://www.golnetwork.com/game/v/91535/
X-MICROSOFT-CDO-BUSYSTATUS:BUSY
X-MICROSOFT-CDO-IMPORTANCE:1
END:VEVENT
BEGIN:VEVENT
UID:g9anc@games.golnetwork.com
LOCATION:Ray Twinney Complex #3 2nd half
CREATED:20160820T170539Z
DTSTART:20160823T223000Z
DTEND:20160823T231500Z
DTSTAMP:20260424T212923Z
SUMMARY:Fatta Chinguine vs. Bayside Tigers
DESCRIPTION:Bayside Tigers vs. Fatta ChinguineMore info: R#36
X-ALT-DESC;FMTTYPE=text/html:<!DOCTYPE HTML PUBLIC "-//W3C//DTD HTML 3.2//E
	N">\n<HTML>\n<HEAD>\n<TITLE></TITLE>\n</HEAD>\n<BODY>\n<h3>Bayside Tigers v
	s. Fatta Chinguine</h3>More info: <a href="https://www.golnetwork.com/game/
	v/91536/">R#36</a>\n\n</BODY>\n</HTML>
STATUS:CONFIRMED
CLASS:PUBLIC
URL:https://www.golnetwork.com/game/v/91536/
X-MICROSOFT-CDO-BUSYSTATUS:BUSY
X-MICROSOFT-CDO-IMPORTANCE:1
END:VEVENT
BEGIN:VEVENT
UID:g981q@games.golnetwork.com
LOCATION:Ray Twinney Complex #3 1st half
CREATED:20160712T183023Z
DTSTART:20160823T233000Z
DTEND:20160824T001500Z
DTSTAMP:20260424T212923Z
SUMMARY:Fatta Chinguine vs. Pink Panthers
DESCRIPTION:Pink Panthers vs. Fatta ChinguineMore info: #40
X-ALT-DESC;FMTTYPE=text/html:<!DOCTYPE HTML PUBLIC "-//W3C//DTD HTML 3.2//E
	N">\n<HTML>\n<HEAD>\n<TITLE></TITLE>\n</HEAD>\n<BODY>\n<h3>Pink Panthers vs
	. Fatta Chinguine</h3>More info: <a href="https://www.golnetwork.com/game/v
	/90517/">#40</a>\n\n</BODY>\n</HTML>
STATUS:CONFIRMED
CLASS:PUBLIC
URL:https://www.golnetwork.com/game/v/90517/
X-MICROSOFT-CDO-BUSYSTATUS:BUSY
X-MICROSOFT-CDO-IMPORTANCE:1
END:VEVENT
BEGIN:VEVENT
UID:g9ane@games.golnetwork.com
LOCATION:Ray Twinney Complex #3 2nd half
CREATED:20160820T170738Z
DTSTART:20160823T233000Z
DTEND:20160824T002500Z
DTSTAMP:20260424T212923Z
SUMMARY:Beercelona vs. Legen....Wait for it ..... dary!
DESCRIPTION:Legen....Wait for it ..... dary! vs. BeercelonaMore info: R#37
X-ALT-DESC;FMTTYPE=text/html:<!DOCTYPE HTML PUBLIC "-//W3C//DTD HTML 3.2//E
	N">\n<HTML>\n<HEAD>\n<TITLE></TITLE>\n</HEAD>\n<BODY>\n<h3>Legen....Wait fo
	r it ..... dary! vs. Beercelona</h3>More info: <a href="https://www.golnetw
	ork.com/game/v/91537/">R#37</a>\n\n</BODY>\n</HTML>
STATUS:CONFIRMED
CLASS:PUBLIC
URL:https://www.golnetwork.com/game/v/91537/
X-MICROSOFT-CDO-BUSYSTATUS:BUSY
X-MICROSOFT-CDO-IMPORTANCE:1
END:VEVENT
END:VCALENDAR
