BEGIN:VCALENDAR
PRODID:-//gdesolutions.com//MV Framework 1.0.0.1607 Calendar//EN
VERSION:2.0
METHOD:PUBLISH
CALSCALE:GREGORIAN
BEGIN:VEVENT
UID:g8qll@games.golnetwork.com
LOCATION:CVM - Court #1
GEO:45.5146585;-73.5658635
CREATED:20160430T232815Z
DTSTART:20160825T003000Z
DTEND:20160825T013000Z
DTSTAMP:20260421T010150Z
SUMMARY:LES VINTAGES vs. SUNSHINE
DESCRIPTION:SUNSHINE vs. LES VINTAGESMore info: #44
X-ALT-DESC;FMTTYPE=text/html:<!DOCTYPE HTML PUBLIC "-//W3C//DTD HTML 3.2//E
	N">\n<HTML>\n<HEAD>\n<TITLE></TITLE>\n</HEAD>\n<BODY>\n<h3>SUNSHINE vs. LES
	 VINTAGES</h3>More info: <a href="https://www.golnetwork.com/game/v/87504/"
	>#44</a>\n\n</BODY>\n</HTML>
STATUS:CONFIRMED
CLASS:PUBLIC
URL:https://www.golnetwork.com/game/v/87504/
X-MICROSOFT-CDO-BUSYSTATUS:BUSY
X-MICROSOFT-CDO-IMPORTANCE:1
END:VEVENT
BEGIN:VEVENT
UID:g8qln@games.golnetwork.com
LOCATION:CVM - Court #1
GEO:45.5146585;-73.5658635
CREATED:20160430T232815Z
DTSTART:20160825T013000Z
DTEND:20160825T023000Z
DTSTAMP:20260421T010150Z
SUMMARY:RETROPOLITAINS vs. LES VERTS
DESCRIPTION:LES VERTS vs. RETROPOLITAINSMore info: #43
X-ALT-DESC;FMTTYPE=text/html:<!DOCTYPE HTML PUBLIC "-//W3C//DTD HTML 3.2//E
	N">\n<HTML>\n<HEAD>\n<TITLE></TITLE>\n</HEAD>\n<BODY>\n<h3>LES VERTS vs. RE
	TROPOLITAINS</h3>More info: <a href="https://www.golnetwork.com/game/v/8750
	5/">#43</a>\n\n</BODY>\n</HTML>
STATUS:CONFIRMED
CLASS:PUBLIC
URL:https://www.golnetwork.com/game/v/87505/
X-MICROSOFT-CDO-BUSYSTATUS:BUSY
X-MICROSOFT-CDO-IMPORTANCE:1
END:VEVENT
BEGIN:VEVENT
UID:g8qm0@games.golnetwork.com
LOCATION:CVM - Court #1
GEO:45.5146585;-73.5658635
CREATED:20160430T232816Z
DTSTART:20160901T000000Z
DTEND:20160901T010000Z
DTSTAMP:20260421T010150Z
SUMMARY:SUNSHINE vs. YOUNGIN
DESCRIPTION:YOUNGIN vs. SUNSHINEMore info: #46
X-ALT-DESC;FMTTYPE=text/html:<!DOCTYPE HTML PUBLIC "-//W3C//DTD HTML 3.2//E
	N">\n<HTML>\n<HEAD>\n<TITLE></TITLE>\n</HEAD>\n<BODY>\n<h3>YOUNGIN vs. SUNS
	HINE</h3>More info: <a href="https://www.golnetwork.com/game/v/87507/">#46<
	/a>\n\n</BODY>\n</HTML>
STATUS:CONFIRMED
CLASS:PUBLIC
URL:https://www.golnetwork.com/game/v/87507/
X-MICROSOFT-CDO-BUSYSTATUS:BUSY
X-MICROSOFT-CDO-IMPORTANCE:1
END:VEVENT
BEGIN:VEVENT
UID:g8qlp@games.golnetwork.com
LOCATION:CVM - Court #1
GEO:45.5146585;-73.5658635
CREATED:20160430T232816Z
DTSTART:20160901T011500Z
DTEND:20160901T021500Z
DTSTAMP:20260421T010150Z
SUMMARY:RETROPOLITAINS vs. GLOBETROTTERS
DESCRIPTION:GLOBETROTTERS vs. RETROPOLITAINSMore info: #45
X-ALT-DESC;FMTTYPE=text/html:<!DOCTYPE HTML PUBLIC "-//W3C//DTD HTML 3.2//E
	N">\n<HTML>\n<HEAD>\n<TITLE></TITLE>\n</HEAD>\n<BODY>\n<h3>GLOBETROTTERS vs
	. RETROPOLITAINS</h3>More info: <a href="https://www.golnetwork.com/game/v/
	87506/">#45</a>\n\n</BODY>\n</HTML>
STATUS:CONFIRMED
CLASS:PUBLIC
URL:https://www.golnetwork.com/game/v/87506/
X-MICROSOFT-CDO-BUSYSTATUS:BUSY
X-MICROSOFT-CDO-IMPORTANCE:1
END:VEVENT
BEGIN:VEVENT
UID:g8qm2@games.golnetwork.com
LOCATION:CVM - Court #1
GEO:45.5146585;-73.5658635
CREATED:20160430T232816Z
DTSTART:20160908T003000Z
DTEND:20160908T013000Z
DTSTAMP:20260421T010150Z
SUMMARY:YOUNGIN vs. GLOBETROTTERS
DESCRIPTION:GLOBETROTTERS vs. YOUNGINMore info: #402
X-ALT-DESC;FMTTYPE=text/html:<!DOCTYPE HTML PUBLIC "-//W3C//DTD HTML 3.2//E
	N">\n<HTML>\n<HEAD>\n<TITLE></TITLE>\n</HEAD>\n<BODY>\n<h3>GLOBETROTTERS vs
	. YOUNGIN</h3>More info: <a href="https://www.golnetwork.com/game/v/87508/"
	>#402</a>\n\n</BODY>\n</HTML>
STATUS:CONFIRMED
CLASS:PUBLIC
URL:https://www.golnetwork.com/game/v/87508/
X-MICROSOFT-CDO-BUSYSTATUS:BUSY
X-MICROSOFT-CDO-IMPORTANCE:1
END:VEVENT
END:VCALENDAR
