BEGIN:VCALENDAR
PRODID:-//gdesolutions.com//MV Framework 1.0.0.1607 Calendar//EN
VERSION:2.0
METHOD:PUBLISH
CALSCALE:GREGORIAN
BEGIN:VEVENT
UID:g98qb@games.golnetwork.com
LOCATION:Louis Riel #3
GEO:45.4410208;-75.5715394
CREATED:20160726T073722Z
DTSTART:20160804T233000Z
DTEND:20160805T010000Z
DTSTAMP:20260425T114849Z
SUMMARY:Strikers FC vs. Flamingos
DESCRIPTION:Flamingos vs. Strikers FCMore info: #162
X-ALT-DESC;FMTTYPE=text/html:<!DOCTYPE HTML PUBLIC "-//W3C//DTD HTML 3.2//E
	N">\n<HTML>\n<HEAD>\n<TITLE></TITLE>\n</HEAD>\n<BODY>\n<h3>Flamingos vs. St
	rikers FC</h3>More info: <a href="https://www.golnetwork.com/game/v/90847/"
	>#162</a>\n\n</BODY>\n</HTML>
STATUS:CONFIRMED
CLASS:PUBLIC
URL:https://www.golnetwork.com/game/v/90847/
X-MICROSOFT-CDO-BUSYSTATUS:BUSY
X-MICROSOFT-CDO-IMPORTANCE:1
END:VEVENT
BEGIN:VEVENT
UID:g98qd@games.golnetwork.com
LOCATION:Louis Riel #3
GEO:45.4410208;-75.5715394
CREATED:20160726T073743Z
DTSTART:20160805T010000Z
DTEND:20160805T023000Z
DTSTAMP:20260425T114849Z
SUMMARY:Ottawa Victorious vs. FC AA
DESCRIPTION:FC AA vs. Ottawa VictoriousMore info: #165
X-ALT-DESC;FMTTYPE=text/html:<!DOCTYPE HTML PUBLIC "-//W3C//DTD HTML 3.2//E
	N">\n<HTML>\n<HEAD>\n<TITLE></TITLE>\n</HEAD>\n<BODY>\n<h3>FC AA vs. Ottawa
	 Victorious</h3>More info: <a href="https://www.golnetwork.com/game/v/90848
	/">#165</a>\n\n</BODY>\n</HTML>
STATUS:CONFIRMED
CLASS:PUBLIC
URL:https://www.golnetwork.com/game/v/90848/
X-MICROSOFT-CDO-BUSYSTATUS:BUSY
X-MICROSOFT-CDO-IMPORTANCE:1
END:VEVENT
BEGIN:VEVENT
UID:g9a4n@games.golnetwork.com
LOCATION:Louis Riel #2
GEO:45.4410208;-75.5715394
CREATED:20160808T173602Z
DTSTART:20160811T223000Z
DTEND:20160812T000000Z
DTSTAMP:20260425T114849Z
SUMMARY:Strikers FC vs. Ottawa Victorious
DESCRIPTION:Ottawa Victorious vs. Strikers FCMore info: #168
X-ALT-DESC;FMTTYPE=text/html:<!DOCTYPE HTML PUBLIC "-//W3C//DTD HTML 3.2//E
	N">\n<HTML>\n<HEAD>\n<TITLE></TITLE>\n</HEAD>\n<BODY>\n<h3>Ottawa Victoriou
	s vs. Strikers FC</h3>More info: <a href="https://www.golnetwork.com/game/v
	/91285/">#168</a>\n\n</BODY>\n</HTML>
STATUS:CONFIRMED
CLASS:PUBLIC
URL:https://www.golnetwork.com/game/v/91285/
X-MICROSOFT-CDO-BUSYSTATUS:BUSY
X-MICROSOFT-CDO-IMPORTANCE:1
END:VEVENT
BEGIN:VEVENT
UID:g9a4j@games.golnetwork.com
LOCATION:Louis Riel #3
GEO:45.4410208;-75.5715394
CREATED:20160808T173524Z
DTSTART:20160811T223000Z
DTEND:20160812T000000Z
DTSTAMP:20260425T114849Z
SUMMARY:FC AA vs. 50 Shades of Pink
DESCRIPTION:50 Shades of Pink vs. FC AAMore info: #169
X-ALT-DESC;FMTTYPE=text/html:<!DOCTYPE HTML PUBLIC "-//W3C//DTD HTML 3.2//E
	N">\n<HTML>\n<HEAD>\n<TITLE></TITLE>\n</HEAD>\n<BODY>\n<h3>50 Shades of Pin
	k vs. FC AA</h3>More info: <a href="https://www.golnetwork.com/game/v/91283
	/">#169</a>\n\n</BODY>\n</HTML>
STATUS:CONFIRMED
CLASS:PUBLIC
URL:https://www.golnetwork.com/game/v/91283/
X-MICROSOFT-CDO-BUSYSTATUS:BUSY
X-MICROSOFT-CDO-IMPORTANCE:1
END:VEVENT
BEGIN:VEVENT
UID:g9a4l@games.golnetwork.com
LOCATION:Louis Riel #3
GEO:45.4410208;-75.5715394
CREATED:20160808T173542Z
DTSTART:20160812T000000Z
DTEND:20160812T013000Z
DTSTAMP:20260425T114849Z
SUMMARY:Flamingos vs. The Gloryholes
DESCRIPTION:The Gloryholes vs. FlamingosMore info: #179
X-ALT-DESC;FMTTYPE=text/html:<!DOCTYPE HTML PUBLIC "-//W3C//DTD HTML 3.2//E
	N">\n<HTML>\n<HEAD>\n<TITLE></TITLE>\n</HEAD>\n<BODY>\n<h3>The Gloryholes v
	s. Flamingos</h3>More info: <a href="https://www.golnetwork.com/game/v/9128
	4/">#179</a>\n\n</BODY>\n</HTML>
STATUS:CONFIRMED
CLASS:PUBLIC
URL:https://www.golnetwork.com/game/v/91284/
X-MICROSOFT-CDO-BUSYSTATUS:BUSY
X-MICROSOFT-CDO-IMPORTANCE:1
END:VEVENT
BEGIN:VEVENT
UID:g9agb@games.golnetwork.com
LOCATION:Louis Riel #3
GEO:45.4410208;-75.5715394
CREATED:20160815T194810Z
DTSTART:20160818T223000Z
DTEND:20160819T000000Z
DTSTAMP:20260425T114849Z
SUMMARY:Flamingos vs. FC AA
DESCRIPTION:FC AA vs. FlamingosMore info: #185
X-ALT-DESC;FMTTYPE=text/html:<!DOCTYPE HTML PUBLIC "-//W3C//DTD HTML 3.2//E
	N">\n<HTML>\n<HEAD>\n<TITLE></TITLE>\n</HEAD>\n<BODY>\n<h3>FC AA vs. Flamin
	gos</h3>More info: <a href="https://www.golnetwork.com/game/v/91441/">#185<
	/a>\n\n</BODY>\n</HTML>
STATUS:CONFIRMED
CLASS:PUBLIC
URL:https://www.golnetwork.com/game/v/91441/
X-MICROSOFT-CDO-BUSYSTATUS:BUSY
X-MICROSOFT-CDO-IMPORTANCE:1
END:VEVENT
BEGIN:VEVENT
UID:g9agh@games.golnetwork.com
LOCATION:McCarthy Park Field #2
GEO:45.3518541;-75.6719009
CREATED:20160815T194916Z
DTSTART:20160818T223000Z
DTEND:20160819T000000Z
DTSTAMP:20260425T114849Z
SUMMARY:Death before Decaf vs. Ottawa Victorious
DESCRIPTION:Ottawa Victorious vs. Death before DecafMore info: #187
X-ALT-DESC;FMTTYPE=text/html:<!DOCTYPE HTML PUBLIC "-//W3C//DTD HTML 3.2//E
	N">\n<HTML>\n<HEAD>\n<TITLE></TITLE>\n</HEAD>\n<BODY>\n<h3>Ottawa Victoriou
	s vs. Death before Decaf</h3>More info: <a href="https://www.golnetwork.com
	/game/v/91444/">#187</a>\n\n</BODY>\n</HTML>
STATUS:CONFIRMED
CLASS:PUBLIC
URL:https://www.golnetwork.com/game/v/91444/
X-MICROSOFT-CDO-BUSYSTATUS:BUSY
X-MICROSOFT-CDO-IMPORTANCE:1
END:VEVENT
BEGIN:VEVENT
UID:g9agd@games.golnetwork.com
LOCATION:Louis Riel #3
GEO:45.4410208;-75.5715394
CREATED:20160815T194828Z
DTSTART:20160819T000000Z
DTEND:20160819T013000Z
DTSTAMP:20260425T114849Z
SUMMARY:The Gloryholes vs. 50 Shades of Pink
DESCRIPTION:50 Shades of Pink vs. The GloryholesMore info: #195
X-ALT-DESC;FMTTYPE=text/html:<!DOCTYPE HTML PUBLIC "-//W3C//DTD HTML 3.2//E
	N">\n<HTML>\n<HEAD>\n<TITLE></TITLE>\n</HEAD>\n<BODY>\n<h3>50 Shades of Pin
	k vs. The Gloryholes</h3>More info: <a href="https://www.golnetwork.com/gam
	e/v/91442/">#195</a>\n\n</BODY>\n</HTML>
STATUS:CONFIRMED
CLASS:PUBLIC
URL:https://www.golnetwork.com/game/v/91442/
X-MICROSOFT-CDO-BUSYSTATUS:BUSY
X-MICROSOFT-CDO-IMPORTANCE:1
END:VEVENT
BEGIN:VEVENT
UID:g9agf@games.golnetwork.com
LOCATION:Louis Riel #3
GEO:45.4410208;-75.5715394
CREATED:20160815T194843Z
DTSTART:20160819T013000Z
DTEND:20160819T030000Z
DTSTAMP:20260425T114849Z
SUMMARY:Cleat Elite vs. Strikers FC
DESCRIPTION:Strikers FC vs. Cleat EliteMore info: #198
X-ALT-DESC;FMTTYPE=text/html:<!DOCTYPE HTML PUBLIC "-//W3C//DTD HTML 3.2//E
	N">\n<HTML>\n<HEAD>\n<TITLE></TITLE>\n</HEAD>\n<BODY>\n<h3>Strikers FC vs. 
	Cleat Elite</h3>More info: <a href="https://www.golnetwork.com/game/v/91443
	/">#198</a>\n\n</BODY>\n</HTML>
STATUS:CONFIRMED
CLASS:PUBLIC
URL:https://www.golnetwork.com/game/v/91443/
X-MICROSOFT-CDO-BUSYSTATUS:BUSY
X-MICROSOFT-CDO-IMPORTANCE:1
END:VEVENT
END:VCALENDAR
