BEGIN:VCALENDAR
PRODID:-//gdesolutions.com//MV Framework 1.0.0.1607 Calendar//EN
VERSION:2.0
METHOD:PUBLISH
CALSCALE:GREGORIAN
BEGIN:VEVENT
UID:g9ag5@games.golnetwork.com
LOCATION:North Toronto CI - Field 1
CREATED:20160815T151122Z
DTSTART:20161002T190000Z
DTEND:20161002T200000Z
DTSTAMP:20260425T214058Z
SUMMARY:Ball Ticklers vs.  Manchester United Toronto 
DESCRIPTION: Manchester United Toronto  vs. Ball TicklersMore info: #125
X-ALT-DESC;FMTTYPE=text/html:<!DOCTYPE HTML PUBLIC "-//W3C//DTD HTML 3.2//E
	N">\n<HTML>\n<HEAD>\n<TITLE></TITLE>\n</HEAD>\n<BODY>\n<h3> Manchester Unit
	ed Toronto  vs. Ball Ticklers</h3>More info: <a href="https://www.golnetwor
	k.com/game/v/91438/">#125</a>\n\n</BODY>\n</HTML>
STATUS:CONFIRMED
CLASS:PUBLIC
URL:https://www.golnetwork.com/game/v/91438/
X-MICROSOFT-CDO-BUSYSTATUS:BUSY
X-MICROSOFT-CDO-IMPORTANCE:1
END:VEVENT
BEGIN:VEVENT
UID:g9ag7@games.golnetwork.com
LOCATION:North Toronto CI - Field 1
CREATED:20160815T151122Z
DTSTART:20161002T200000Z
DTEND:20161002T210000Z
DTSTAMP:20260425T214058Z
SUMMARY:JUVE vs. Roosters
DESCRIPTION:Roosters vs. JUVEMore info: #126
X-ALT-DESC;FMTTYPE=text/html:<!DOCTYPE HTML PUBLIC "-//W3C//DTD HTML 3.2//E
	N">\n<HTML>\n<HEAD>\n<TITLE></TITLE>\n</HEAD>\n<BODY>\n<h3>Roosters vs. JUV
	E</h3>More info: <a href="https://www.golnetwork.com/game/v/91439/">#126</a
	>\n\n</BODY>\n</HTML>
STATUS:CONFIRMED
CLASS:PUBLIC
URL:https://www.golnetwork.com/game/v/91439/
X-MICROSOFT-CDO-BUSYSTATUS:BUSY
X-MICROSOFT-CDO-IMPORTANCE:1
END:VEVENT
BEGIN:VEVENT
UID:g9ag9@games.golnetwork.com
LOCATION:North Toronto CI - Field 1
CREATED:20160815T151122Z
DTSTART:20161009T190000Z
DTEND:20161009T200000Z
DTSTAMP:20260425T214058Z
SUMMARY:JUVE vs.  Manchester United Toronto 
DESCRIPTION: Manchester United Toronto  vs. JUVEMore info: #144
X-ALT-DESC;FMTTYPE=text/html:<!DOCTYPE HTML PUBLIC "-//W3C//DTD HTML 3.2//E
	N">\n<HTML>\n<HEAD>\n<TITLE></TITLE>\n</HEAD>\n<BODY>\n<h3> Manchester Unit
	ed Toronto  vs. JUVE</h3>More info: <a href="https://www.golnetwork.com/gam
	e/v/91440/">#144</a>\n\n</BODY>\n</HTML>
STATUS:CONFIRMED
CLASS:PUBLIC
URL:https://www.golnetwork.com/game/v/91440/
X-MICROSOFT-CDO-BUSYSTATUS:BUSY
X-MICROSOFT-CDO-IMPORTANCE:1
END:VEVENT
END:VCALENDAR
