BEGIN:VCALENDAR
PRODID:-//gdesolutions.com//MV Framework 1.0.0.1607 Calendar//EN
VERSION:2.0
METHOD:PUBLISH
CALSCALE:GREGORIAN
BEGIN:VEVENT
UID:g9aen@games.golnetwork.com
LOCATION:Central Tech - Field 2
GEO:43.6637272;-79.4087613
CREATED:20160812T162034Z
DTSTART:20161008T000000Z
DTEND:20161008T010000Z
DTSTAMP:20260420T020303Z
SUMMARY:Tiger FC vs. Brazil
DESCRIPTION:Brazil vs. Tiger FCMore info: #140
X-ALT-DESC;FMTTYPE=text/html:<!DOCTYPE HTML PUBLIC "-//W3C//DTD HTML 3.2//E
	N">\n<HTML>\n<HEAD>\n<TITLE></TITLE>\n</HEAD>\n<BODY>\n<h3>Brazil vs. Tiger
	 FC</h3>More info: <a href="https://www.golnetwork.com/game/v/91420/">#140<
	/a>\n\n</BODY>\n</HTML>
STATUS:CONFIRMED
CLASS:PUBLIC
URL:https://www.golnetwork.com/game/v/91420/
X-MICROSOFT-CDO-BUSYSTATUS:BUSY
X-MICROSOFT-CDO-IMPORTANCE:1
END:VEVENT
BEGIN:VEVENT
UID:g9aep@games.golnetwork.com
LOCATION:Central Tech - Field 2
GEO:43.6637272;-79.4087613
CREATED:20160812T162034Z
DTSTART:20161008T010000Z
DTEND:20161008T020000Z
DTSTAMP:20260420T020303Z
SUMMARY:Blue vs.  Wealdstone Raiders
DESCRIPTION: Wealdstone Raiders vs. BlueMore info: #141
X-ALT-DESC;FMTTYPE=text/html:<!DOCTYPE HTML PUBLIC "-//W3C//DTD HTML 3.2//E
	N">\n<HTML>\n<HEAD>\n<TITLE></TITLE>\n</HEAD>\n<BODY>\n<h3> Wealdstone Raid
	ers vs. Blue</h3>More info: <a href="https://www.golnetwork.com/game/v/9142
	1/">#141</a>\n\n</BODY>\n</HTML>
STATUS:CONFIRMED
CLASS:PUBLIC
URL:https://www.golnetwork.com/game/v/91421/
X-MICROSOFT-CDO-BUSYSTATUS:BUSY
X-MICROSOFT-CDO-IMPORTANCE:1
END:VEVENT
BEGIN:VEVENT
UID:g9af0@games.golnetwork.com
LOCATION:Central Tech - Field 2
GEO:43.6637272;-79.4087613
CREATED:20160812T162034Z
DTSTART:20161015T000000Z
DTEND:20161015T010000Z
DTSTAMP:20260420T020303Z
SUMMARY: Wealdstone Raiders vs. Tiger FC
DESCRIPTION:Tiger FC vs.  Wealdstone RaidersMore info: #153
X-ALT-DESC;FMTTYPE=text/html:<!DOCTYPE HTML PUBLIC "-//W3C//DTD HTML 3.2//E
	N">\n<HTML>\n<HEAD>\n<TITLE></TITLE>\n</HEAD>\n<BODY>\n<h3>Tiger FC vs.  We
	aldstone Raiders</h3>More info: <a href="https://www.golnetwork.com/game/v/
	91422/">#153</a>\n\n</BODY>\n</HTML>
STATUS:CONFIRMED
CLASS:PUBLIC
URL:https://www.golnetwork.com/game/v/91422/
X-MICROSOFT-CDO-BUSYSTATUS:BUSY
X-MICROSOFT-CDO-IMPORTANCE:1
END:VEVENT
END:VCALENDAR
