BEGIN:VCALENDAR
PRODID:-//gdesolutions.com//MV Framework 1.0.0.1607 Calendar//EN
VERSION:2.0
METHOD:PUBLISH
CALSCALE:GREGORIAN
BEGIN:VEVENT
UID:g9bag@games.golnetwork.com
LOCATION:Jesse Ketchum Field
CREATED:20160829T155416Z
DTSTART:20161023T170000Z
DTEND:20161023T181500Z
DTSTAMP:20260420T151453Z
SUMMARY:XTSC Freedom vs.  Sporting Chance
DESCRIPTION: Sporting Chance vs. XTSC FreedomMore info: #33
X-ALT-DESC;FMTTYPE=text/html:<!DOCTYPE HTML PUBLIC "-//W3C//DTD HTML 3.2//E
	N">\n<HTML>\n<HEAD>\n<TITLE></TITLE>\n</HEAD>\n<BODY>\n<h3> Sporting Chance
	 vs. XTSC Freedom</h3>More info: <a href="https://www.golnetwork.com/game/v
	/91727/">#33</a>\n\n</BODY>\n</HTML>
STATUS:CONFIRMED
CLASS:PUBLIC
URL:https://www.golnetwork.com/game/v/91727/
X-MICROSOFT-CDO-BUSYSTATUS:BUSY
X-MICROSOFT-CDO-IMPORTANCE:1
END:VEVENT
BEGIN:VEVENT
UID:g9bai@games.golnetwork.com
LOCATION:Jesse Ketchum Field
CREATED:20160829T155416Z
DTSTART:20161023T181500Z
DTEND:20161023T193000Z
DTSTAMP:20260420T151453Z
SUMMARY:ROGUES UNITED vs. Ball SO Hard
DESCRIPTION:Ball SO Hard vs. ROGUES UNITEDMore info: #34
X-ALT-DESC;FMTTYPE=text/html:<!DOCTYPE HTML PUBLIC "-//W3C//DTD HTML 3.2//E
	N">\n<HTML>\n<HEAD>\n<TITLE></TITLE>\n</HEAD>\n<BODY>\n<h3>Ball SO Hard vs.
	 ROGUES UNITED</h3>More info: <a href="https://www.golnetwork.com/game/v/91
	728/">#34</a>\n\n</BODY>\n</HTML>
STATUS:CONFIRMED
CLASS:PUBLIC
URL:https://www.golnetwork.com/game/v/91728/
X-MICROSOFT-CDO-BUSYSTATUS:BUSY
X-MICROSOFT-CDO-IMPORTANCE:1
END:VEVENT
BEGIN:VEVENT
UID:g9bak@games.golnetwork.com
LOCATION:Jesse Ketchum Field
CREATED:20160829T155416Z
DTSTART:20161030T193000Z
DTEND:20161030T204500Z
DTSTAMP:20260420T151453Z
SUMMARY:Ball SO Hard vs.  Sporting Chance
DESCRIPTION: Sporting Chance vs. Ball SO HardMore info: #39
X-ALT-DESC;FMTTYPE=text/html:<!DOCTYPE HTML PUBLIC "-//W3C//DTD HTML 3.2//E
	N">\n<HTML>\n<HEAD>\n<TITLE></TITLE>\n</HEAD>\n<BODY>\n<h3> Sporting Chance
	 vs. Ball SO Hard</h3>More info: <a href="https://www.golnetwork.com/game/v
	/91729/">#39</a>\n\n</BODY>\n</HTML>
STATUS:CONFIRMED
CLASS:PUBLIC
URL:https://www.golnetwork.com/game/v/91729/
X-MICROSOFT-CDO-BUSYSTATUS:BUSY
X-MICROSOFT-CDO-IMPORTANCE:1
END:VEVENT
END:VCALENDAR
