BEGIN:VCALENDAR
PRODID:-//gdesolutions.com//MV Framework 1.0.0.1607 Calendar//EN
VERSION:2.0
METHOD:PUBLISH
CALSCALE:GREGORIAN
BEGIN:VEVENT
UID:g9cb0@games.golnetwork.com
LOCATION:Louis Riel #3
GEO:45.4410208;-75.5715394
CREATED:20160909T035957Z
DTSTART:20160911T193000Z
DTEND:20160911T203000Z
DTSTAMP:20260419T203254Z
SUMMARY:Liquorpool FC vs. Hooligans
DESCRIPTION:Hooligans vs. Liquorpool FCMore info: #2
X-ALT-DESC;FMTTYPE=text/html:<!DOCTYPE HTML PUBLIC "-//W3C//DTD HTML 3.2//E
	N">\n<HTML>\n<HEAD>\n<TITLE></TITLE>\n</HEAD>\n<BODY>\n<h3>Hooligans vs. Li
	quorpool FC</h3>More info: <a href="https://www.golnetwork.com/game/v/92097
	/">#2</a>\n\n</BODY>\n</HTML>
STATUS:CONFIRMED
CLASS:PUBLIC
URL:https://www.golnetwork.com/game/v/92097/
X-MICROSOFT-CDO-BUSYSTATUS:BUSY
X-MICROSOFT-CDO-IMPORTANCE:1
END:VEVENT
BEGIN:VEVENT
UID:g9cb6@games.golnetwork.com
LOCATION:Louis Riel #3
GEO:45.4410208;-75.5715394
CREATED:20160909T040046Z
DTSTART:20160911T203000Z
DTEND:20160911T213000Z
DTSTAMP:20260419T203254Z
SUMMARY:GD United vs. Spartans FC
DESCRIPTION:Spartans FC vs. GD UnitedMore info: #4
X-ALT-DESC;FMTTYPE=text/html:<!DOCTYPE HTML PUBLIC "-//W3C//DTD HTML 3.2//E
	N">\n<HTML>\n<HEAD>\n<TITLE></TITLE>\n</HEAD>\n<BODY>\n<h3>Spartans FC vs. 
	GD United</h3>More info: <a href="https://www.golnetwork.com/game/v/92100/"
	>#4</a>\n\n</BODY>\n</HTML>
STATUS:CONFIRMED
CLASS:PUBLIC
URL:https://www.golnetwork.com/game/v/92100/
X-MICROSOFT-CDO-BUSYSTATUS:BUSY
X-MICROSOFT-CDO-IMPORTANCE:1
END:VEVENT
BEGIN:VEVENT
UID:g9cap@games.golnetwork.com
LOCATION:Louis Riel #2
GEO:45.4410208;-75.5715394
CREATED:20160909T035941Z
DTSTART:20160911T213000Z
DTEND:20160911T223000Z
DTSTAMP:20260419T203254Z
SUMMARY:Real Ale Madrid vs. Redbulls FC
DESCRIPTION:Redbulls FC vs. Real Ale MadridMore info: #5
X-ALT-DESC;FMTTYPE=text/html:<!DOCTYPE HTML PUBLIC "-//W3C//DTD HTML 3.2//E
	N">\n<HTML>\n<HEAD>\n<TITLE></TITLE>\n</HEAD>\n<BODY>\n<h3>Redbulls FC vs. 
	Real Ale Madrid</h3>More info: <a href="https://www.golnetwork.com/game/v/9
	2096/">#5</a>\n\n</BODY>\n</HTML>
STATUS:CONFIRMED
CLASS:PUBLIC
URL:https://www.golnetwork.com/game/v/92096/
X-MICROSOFT-CDO-BUSYSTATUS:BUSY
X-MICROSOFT-CDO-IMPORTANCE:1
END:VEVENT
BEGIN:VEVENT
UID:g9cbi@games.golnetwork.com
LOCATION:Louis Riel #3
GEO:45.4410208;-75.5715394
CREATED:20160909T154508Z
DTSTART:20160912T013000Z
DTEND:20160912T023000Z
DTSTAMP:20260419T203254Z
SUMMARY:Goalfinger vs. FoxRiver FC
DESCRIPTION:FoxRiver FC vs. GoalfingerMore info: #7
X-ALT-DESC;FMTTYPE=text/html:<!DOCTYPE HTML PUBLIC "-//W3C//DTD HTML 3.2//E
	N">\n<HTML>\n<HEAD>\n<TITLE></TITLE>\n</HEAD>\n<BODY>\n<h3>FoxRiver FC vs. 
	Goalfinger</h3>More info: <a href="https://www.golnetwork.com/game/v/92106/
	">#7</a>\n\n</BODY>\n</HTML>
STATUS:CONFIRMED
CLASS:PUBLIC
URL:https://www.golnetwork.com/game/v/92106/
X-MICROSOFT-CDO-BUSYSTATUS:BUSY
X-MICROSOFT-CDO-IMPORTANCE:1
END:VEVENT
BEGIN:VEVENT
UID:g9f9n@games.golnetwork.com
LOCATION:Louis Riel #2
GEO:45.4410208;-75.5715394
CREATED:20160914T205824Z
DTSTART:20160918T193000Z
DTEND:20160918T203000Z
DTSTAMP:20260419T203254Z
SUMMARY:Real Ale Madrid vs. Hooligans
DESCRIPTION:Hooligans vs. Real Ale MadridMore info: #8
X-ALT-DESC;FMTTYPE=text/html:<!DOCTYPE HTML PUBLIC "-//W3C//DTD HTML 3.2//E
	N">\n<HTML>\n<HEAD>\n<TITLE></TITLE>\n</HEAD>\n<BODY>\n<h3>Hooligans vs. Re
	al Ale Madrid</h3>More info: <a href="https://www.golnetwork.com/game/v/931
	75/">#8</a>\n\n</BODY>\n</HTML>
STATUS:CONFIRMED
CLASS:PUBLIC
URL:https://www.golnetwork.com/game/v/93175/
X-MICROSOFT-CDO-BUSYSTATUS:BUSY
X-MICROSOFT-CDO-IMPORTANCE:1
END:VEVENT
BEGIN:VEVENT
UID:g9fa6@games.golnetwork.com
LOCATION:Louis Riel #3
GEO:45.4410208;-75.5715394
CREATED:20160914T210020Z
DTSTART:20160918T213000Z
DTEND:20160918T223000Z
DTSTAMP:20260419T203254Z
SUMMARY:Liquorpool FC vs. Spartans FC
DESCRIPTION:Spartans FC vs. Liquorpool FCMore info: #13
X-ALT-DESC;FMTTYPE=text/html:<!DOCTYPE HTML PUBLIC "-//W3C//DTD HTML 3.2//E
	N">\n<HTML>\n<HEAD>\n<TITLE></TITLE>\n</HEAD>\n<BODY>\n<h3>Spartans FC vs. 
	Liquorpool FC</h3>More info: <a href="https://www.golnetwork.com/game/v/931
	80/">#13</a>\n\n</BODY>\n</HTML>
STATUS:CONFIRMED
CLASS:PUBLIC
URL:https://www.golnetwork.com/game/v/93180/
X-MICROSOFT-CDO-BUSYSTATUS:BUSY
X-MICROSOFT-CDO-IMPORTANCE:1
END:VEVENT
BEGIN:VEVENT
UID:g9fa8@games.golnetwork.com
LOCATION:Ben Franklin Dome Field 1
GEO:45.3235661;-75.7751222
CREATED:20160914T210034Z
DTSTART:20160918T220000Z
DTEND:20160918T230000Z
DTSTAMP:20260419T203254Z
SUMMARY:Int Individuals vs. Redbulls FC
DESCRIPTION:Redbulls FC vs. Int IndividualsMore info: #14
X-ALT-DESC;FMTTYPE=text/html:<!DOCTYPE HTML PUBLIC "-//W3C//DTD HTML 3.2//E
	N">\n<HTML>\n<HEAD>\n<TITLE></TITLE>\n</HEAD>\n<BODY>\n<h3>Redbulls FC vs. 
	Int Individuals</h3>More info: <a href="https://www.golnetwork.com/game/v/9
	3181/">#14</a>\n\n</BODY>\n</HTML>
STATUS:CONFIRMED
CLASS:PUBLIC
URL:https://www.golnetwork.com/game/v/93181/
X-MICROSOFT-CDO-BUSYSTATUS:BUSY
X-MICROSOFT-CDO-IMPORTANCE:1
END:VEVENT
BEGIN:VEVENT
UID:g9faa@games.golnetwork.com
LOCATION:Ben Franklin Dome Field 1
GEO:45.3235661;-75.7751222
CREATED:20160914T210042Z
DTSTART:20160918T230000Z
DTEND:20160919T000000Z
DTSTAMP:20260419T203254Z
SUMMARY:Int Individuals vs. Goalfinger
DESCRIPTION:Goalfinger vs. Int IndividualsMore info: #15
X-ALT-DESC;FMTTYPE=text/html:<!DOCTYPE HTML PUBLIC "-//W3C//DTD HTML 3.2//E
	N">\n<HTML>\n<HEAD>\n<TITLE></TITLE>\n</HEAD>\n<BODY>\n<h3>Goalfinger vs. I
	nt Individuals</h3>More info: <a href="https://www.golnetwork.com/game/v/93
	182/">#15</a>\n\n</BODY>\n</HTML>
STATUS:CONFIRMED
CLASS:PUBLIC
URL:https://www.golnetwork.com/game/v/93182/
X-MICROSOFT-CDO-BUSYSTATUS:BUSY
X-MICROSOFT-CDO-IMPORTANCE:1
END:VEVENT
BEGIN:VEVENT
UID:g9fac@games.golnetwork.com
LOCATION:Ben Franklin Dome Field 1
GEO:45.3235661;-75.7751222
CREATED:20160914T210049Z
DTSTART:20160919T000000Z
DTEND:20160919T010000Z
DTSTAMP:20260419T203254Z
SUMMARY:GD United vs. FoxRiver FC
DESCRIPTION:FoxRiver FC vs. GD UnitedMore info: #16
X-ALT-DESC;FMTTYPE=text/html:<!DOCTYPE HTML PUBLIC "-//W3C//DTD HTML 3.2//E
	N">\n<HTML>\n<HEAD>\n<TITLE></TITLE>\n</HEAD>\n<BODY>\n<h3>FoxRiver FC vs. 
	GD United</h3>More info: <a href="https://www.golnetwork.com/game/v/93183/"
	>#16</a>\n\n</BODY>\n</HTML>
STATUS:CONFIRMED
CLASS:PUBLIC
URL:https://www.golnetwork.com/game/v/93183/
X-MICROSOFT-CDO-BUSYSTATUS:BUSY
X-MICROSOFT-CDO-IMPORTANCE:1
END:VEVENT
BEGIN:VEVENT
UID:g9h82@games.golnetwork.com
LOCATION:Louis Riel #2
GEO:45.4410208;-75.5715394
CREATED:20160921T072503Z
DTSTART:20160925T193000Z
DTEND:20160925T203000Z
DTSTAMP:20260419T203254Z
SUMMARY:Redbulls FC vs. Spartans FC
DESCRIPTION:Spartans FC vs. Redbulls FCMore info: #18
X-ALT-DESC;FMTTYPE=text/html:<!DOCTYPE HTML PUBLIC "-//W3C//DTD HTML 3.2//E
	N">\n<HTML>\n<HEAD>\n<TITLE></TITLE>\n</HEAD>\n<BODY>\n<h3>Spartans FC vs. 
	Redbulls FC</h3>More info: <a href="https://www.golnetwork.com/game/v/93880
	/">#18</a>\n\n</BODY>\n</HTML>
STATUS:CONFIRMED
CLASS:PUBLIC
URL:https://www.golnetwork.com/game/v/93880/
X-MICROSOFT-CDO-BUSYSTATUS:BUSY
X-MICROSOFT-CDO-IMPORTANCE:1
END:VEVENT
BEGIN:VEVENT
UID:g9h84@games.golnetwork.com
LOCATION:Louis Riel #2
GEO:45.4410208;-75.5715394
CREATED:20160921T072520Z
DTSTART:20160925T203000Z
DTEND:20160925T213000Z
DTSTAMP:20260419T203254Z
SUMMARY:Mambas FC vs. Int Individuals
DESCRIPTION:Int Individuals vs. Mambas FCMore info: #20
X-ALT-DESC;FMTTYPE=text/html:<!DOCTYPE HTML PUBLIC "-//W3C//DTD HTML 3.2//E
	N">\n<HTML>\n<HEAD>\n<TITLE></TITLE>\n</HEAD>\n<BODY>\n<h3>Int Individuals 
	vs. Mambas FC</h3>More info: <a href="https://www.golnetwork.com/game/v/938
	81/">#20</a>\n\n</BODY>\n</HTML>
STATUS:CONFIRMED
CLASS:PUBLIC
URL:https://www.golnetwork.com/game/v/93881/
X-MICROSOFT-CDO-BUSYSTATUS:BUSY
X-MICROSOFT-CDO-IMPORTANCE:1
END:VEVENT
BEGIN:VEVENT
UID:g9h7n@games.golnetwork.com
LOCATION:Ben Franklin Dome Field 1
GEO:45.3235661;-75.7751222
CREATED:20160921T072413Z
DTSTART:20160925T220000Z
DTEND:20160925T230000Z
DTSTAMP:20260419T203254Z
SUMMARY:Picante Pelotas vs. GD United
DESCRIPTION:GD United vs. Picante PelotasMore info: #22
X-ALT-DESC;FMTTYPE=text/html:<!DOCTYPE HTML PUBLIC "-//W3C//DTD HTML 3.2//E
	N">\n<HTML>\n<HEAD>\n<TITLE></TITLE>\n</HEAD>\n<BODY>\n<h3>GD United vs. Pi
	cante Pelotas</h3>More info: <a href="https://www.golnetwork.com/game/v/938
	77/">#22</a>\n\n</BODY>\n</HTML>
STATUS:CONFIRMED
CLASS:PUBLIC
URL:https://www.golnetwork.com/game/v/93877/
X-MICROSOFT-CDO-BUSYSTATUS:BUSY
X-MICROSOFT-CDO-IMPORTANCE:1
END:VEVENT
BEGIN:VEVENT
UID:g9h7j@games.golnetwork.com
LOCATION:Ben Franklin Dome Field 1
GEO:45.3235661;-75.7751222
CREATED:20160921T072342Z
DTSTART:20160925T230000Z
DTEND:20160926T000000Z
DTSTAMP:20260419T203254Z
SUMMARY:Liquorpool FC vs. Goalfinger
DESCRIPTION:Goalfinger vs. Liquorpool FCMore info: #23
X-ALT-DESC;FMTTYPE=text/html:<!DOCTYPE HTML PUBLIC "-//W3C//DTD HTML 3.2//E
	N">\n<HTML>\n<HEAD>\n<TITLE></TITLE>\n</HEAD>\n<BODY>\n<h3>Goalfinger vs. L
	iquorpool FC</h3>More info: <a href="https://www.golnetwork.com/game/v/9387
	5/">#23</a>\n\n</BODY>\n</HTML>
STATUS:CONFIRMED
CLASS:PUBLIC
URL:https://www.golnetwork.com/game/v/93875/
X-MICROSOFT-CDO-BUSYSTATUS:BUSY
X-MICROSOFT-CDO-IMPORTANCE:1
END:VEVENT
BEGIN:VEVENT
UID:g9h7l@games.golnetwork.com
LOCATION:Ben Franklin Dome Field 1
GEO:45.3235661;-75.7751222
CREATED:20160921T072401Z
DTSTART:20160926T000000Z
DTEND:20160926T010000Z
DTSTAMP:20260419T203254Z
SUMMARY:FoxRiver FC vs. Hooligans
DESCRIPTION:Hooligans vs. FoxRiver FCMore info: #24
X-ALT-DESC;FMTTYPE=text/html:<!DOCTYPE HTML PUBLIC "-//W3C//DTD HTML 3.2//E
	N">\n<HTML>\n<HEAD>\n<TITLE></TITLE>\n</HEAD>\n<BODY>\n<h3>Hooligans vs. Fo
	xRiver FC</h3>More info: <a href="https://www.golnetwork.com/game/v/93876/"
	>#24</a>\n\n</BODY>\n</HTML>
STATUS:CONFIRMED
CLASS:PUBLIC
URL:https://www.golnetwork.com/game/v/93876/
X-MICROSOFT-CDO-BUSYSTATUS:BUSY
X-MICROSOFT-CDO-IMPORTANCE:1
END:VEVENT
BEGIN:VEVENT
UID:g9hbd@games.golnetwork.com
LOCATION:Louis Riel #2
GEO:45.4410208;-75.5715394
CREATED:20160921T165619Z
DTSTART:20161002T193000Z
DTEND:20161002T203000Z
DTSTAMP:20260419T203254Z
SUMMARY:Int Individuals vs. Hooligans
DESCRIPTION:Hooligans vs. Int IndividualsMore info: #27
X-ALT-DESC;FMTTYPE=text/html:<!DOCTYPE HTML PUBLIC "-//W3C//DTD HTML 3.2//E
	N">\n<HTML>\n<HEAD>\n<TITLE></TITLE>\n</HEAD>\n<BODY>\n<h3>Hooligans vs. In
	t Individuals</h3>More info: <a href="https://www.golnetwork.com/game/v/939
	26/">#27</a>\n\n</BODY>\n</HTML>
STATUS:CONFIRMED
CLASS:PUBLIC
URL:https://www.golnetwork.com/game/v/93926/
X-MICROSOFT-CDO-BUSYSTATUS:BUSY
X-MICROSOFT-CDO-IMPORTANCE:1
END:VEVENT
BEGIN:VEVENT
UID:g9hbf@games.golnetwork.com
LOCATION:Louis Riel #1
GEO:45.4410208;-75.5715394
CREATED:20160921T165631Z
DTSTART:20161002T203000Z
DTEND:20161002T213000Z
DTSTAMP:20260419T203254Z
SUMMARY:Redbulls FC vs. Liquorpool FC
DESCRIPTION:Liquorpool FC vs. Redbulls FCMore info: #28
X-ALT-DESC;FMTTYPE=text/html:<!DOCTYPE HTML PUBLIC "-//W3C//DTD HTML 3.2//E
	N">\n<HTML>\n<HEAD>\n<TITLE></TITLE>\n</HEAD>\n<BODY>\n<h3>Liquorpool FC vs
	. Redbulls FC</h3>More info: <a href="https://www.golnetwork.com/game/v/939
	27/">#28</a>\n\n</BODY>\n</HTML>
STATUS:CONFIRMED
CLASS:PUBLIC
URL:https://www.golnetwork.com/game/v/93927/
X-MICROSOFT-CDO-BUSYSTATUS:BUSY
X-MICROSOFT-CDO-IMPORTANCE:1
END:VEVENT
BEGIN:VEVENT
UID:g9hbj@games.golnetwork.com
LOCATION:Ben Franklin Dome Field 2
GEO:45.3235661;-75.7751222
CREATED:20160921T165700Z
DTSTART:20161002T220000Z
DTEND:20161002T230000Z
DTSTAMP:20260419T203254Z
SUMMARY:GD United vs. Goalfinger
DESCRIPTION:Goalfinger vs. GD UnitedMore info: #31
X-ALT-DESC;FMTTYPE=text/html:<!DOCTYPE HTML PUBLIC "-//W3C//DTD HTML 3.2//E
	N">\n<HTML>\n<HEAD>\n<TITLE></TITLE>\n</HEAD>\n<BODY>\n<h3>Goalfinger vs. G
	D United</h3>More info: <a href="https://www.golnetwork.com/game/v/93929/">
	#31</a>\n\n</BODY>\n</HTML>
STATUS:CONFIRMED
CLASS:PUBLIC
URL:https://www.golnetwork.com/game/v/93929/
X-MICROSOFT-CDO-BUSYSTATUS:BUSY
X-MICROSOFT-CDO-IMPORTANCE:1
END:VEVENT
BEGIN:VEVENT
UID:g9hia@games.golnetwork.com
LOCATION:Ben Franklin Dome Field 1
GEO:45.3235661;-75.7751222
CREATED:20160926T201357Z
DTSTART:20161003T000000Z
DTEND:20161003T010000Z
DTSTAMP:20260419T203254Z
SUMMARY:Spartans FC vs. FoxRiver FC
DESCRIPTION:FoxRiver FC vs. Spartans FCMore info: #33
X-ALT-DESC;FMTTYPE=text/html:<!DOCTYPE HTML PUBLIC "-//W3C//DTD HTML 3.2//E
	N">\n<HTML>\n<HEAD>\n<TITLE></TITLE>\n</HEAD>\n<BODY>\n<h3>FoxRiver FC vs. 
	Spartans FC</h3>More info: <a href="https://www.golnetwork.com/game/v/94019
	/">#33</a>\n\n</BODY>\n</HTML>
STATUS:CONFIRMED
CLASS:PUBLIC
URL:https://www.golnetwork.com/game/v/94019/
X-MICROSOFT-CDO-BUSYSTATUS:BUSY
X-MICROSOFT-CDO-IMPORTANCE:1
END:VEVENT
BEGIN:VEVENT
UID:g9nmg@games.golnetwork.com
LOCATION:Louis Riel #1
GEO:45.4410208;-75.5715394
CREATED:20161012T214627Z
DTSTART:20161016T180000Z
DTEND:20161016T190000Z
DTSTAMP:20260419T203254Z
SUMMARY:Game of Throw Ins vs. Hooligans
DESCRIPTION:Hooligans vs. Game of Throw InsMore info: #1
X-ALT-DESC;FMTTYPE=text/html:<!DOCTYPE HTML PUBLIC "-//W3C//DTD HTML 3.2//E
	N">\n<HTML>\n<HEAD>\n<TITLE></TITLE>\n</HEAD>\n<BODY>\n<h3>Hooligans vs. Ga
	me of Throw Ins</h3>More info: <a href="https://www.golnetwork.com/game/v/9
	6263/">#1</a>\n\n</BODY>\n</HTML>
STATUS:CONFIRMED
CLASS:PUBLIC
URL:https://www.golnetwork.com/game/v/96263/
X-MICROSOFT-CDO-BUSYSTATUS:BUSY
X-MICROSOFT-CDO-IMPORTANCE:1
END:VEVENT
BEGIN:VEVENT
UID:g9nmm@games.golnetwork.com
LOCATION:Louis Riel #1
GEO:45.4410208;-75.5715394
CREATED:20161012T214627Z
DTSTART:20161016T210000Z
DTEND:20161016T220000Z
DTSTAMP:20260419T203254Z
SUMMARY:Int Individuals vs. Liquorpool FC
DESCRIPTION:Liquorpool FC vs. Int IndividualsMore info: #4
X-ALT-DESC;FMTTYPE=text/html:<!DOCTYPE HTML PUBLIC "-//W3C//DTD HTML 3.2//E
	N">\n<HTML>\n<HEAD>\n<TITLE></TITLE>\n</HEAD>\n<BODY>\n<h3>Liquorpool FC vs
	. Int Individuals</h3>More info: <a href="https://www.golnetwork.com/game/v
	/96266/">#4</a>\n\n</BODY>\n</HTML>
STATUS:CONFIRMED
CLASS:PUBLIC
URL:https://www.golnetwork.com/game/v/96266/
X-MICROSOFT-CDO-BUSYSTATUS:BUSY
X-MICROSOFT-CDO-IMPORTANCE:1
END:VEVENT
BEGIN:VEVENT
UID:g9nmq@games.golnetwork.com
LOCATION:Ben Franklin Dome Field 1
GEO:45.3235661;-75.7751222
CREATED:20161012T214627Z
DTSTART:20161016T220000Z
DTEND:20161016T230000Z
DTSTAMP:20260419T203254Z
SUMMARY:Real Ale Madrid vs. Spartans FC
DESCRIPTION:Spartans FC vs. Real Ale MadridMore info: #6
X-ALT-DESC;FMTTYPE=text/html:<!DOCTYPE HTML PUBLIC "-//W3C//DTD HTML 3.2//E
	N">\n<HTML>\n<HEAD>\n<TITLE></TITLE>\n</HEAD>\n<BODY>\n<h3>Spartans FC vs. 
	Real Ale Madrid</h3>More info: <a href="https://www.golnetwork.com/game/v/9
	6268/">#6</a>\n\n</BODY>\n</HTML>
STATUS:CONFIRMED
CLASS:PUBLIC
URL:https://www.golnetwork.com/game/v/96268/
X-MICROSOFT-CDO-BUSYSTATUS:BUSY
X-MICROSOFT-CDO-IMPORTANCE:1
END:VEVENT
BEGIN:VEVENT
UID:g9nn1@games.golnetwork.com
LOCATION:Ben Franklin Dome Field 1
GEO:45.3235661;-75.7751222
CREATED:20161012T214628Z
DTSTART:20161016T230000Z
DTEND:20161017T000000Z
DTSTAMP:20260419T203254Z
SUMMARY:Redbulls FC vs. Goalfinger
DESCRIPTION:Goalfinger vs. Redbulls FCMore info: #7
X-ALT-DESC;FMTTYPE=text/html:<!DOCTYPE HTML PUBLIC "-//W3C//DTD HTML 3.2//E
	N">\n<HTML>\n<HEAD>\n<TITLE></TITLE>\n</HEAD>\n<BODY>\n<h3>Goalfinger vs. R
	edbulls FC</h3>More info: <a href="https://www.golnetwork.com/game/v/96269/
	">#7</a>\n\n</BODY>\n</HTML>
STATUS:CONFIRMED
CLASS:PUBLIC
URL:https://www.golnetwork.com/game/v/96269/
X-MICROSOFT-CDO-BUSYSTATUS:BUSY
X-MICROSOFT-CDO-IMPORTANCE:1
END:VEVENT
BEGIN:VEVENT
UID:g9nn3@games.golnetwork.com
LOCATION:Ben Franklin Dome Field 1
GEO:45.3235661;-75.7751222
CREATED:20161012T214628Z
DTSTART:20161017T000000Z
DTEND:20161017T010000Z
DTSTAMP:20260419T203254Z
SUMMARY:FoxRiver FC vs. GD United
DESCRIPTION:GD United vs. FoxRiver FCMore info: #8
X-ALT-DESC;FMTTYPE=text/html:<!DOCTYPE HTML PUBLIC "-//W3C//DTD HTML 3.2//E
	N">\n<HTML>\n<HEAD>\n<TITLE></TITLE>\n</HEAD>\n<BODY>\n<h3>GD United vs. Fo
	xRiver FC</h3>More info: <a href="https://www.golnetwork.com/game/v/96270/"
	>#8</a>\n\n</BODY>\n</HTML>
STATUS:CONFIRMED
CLASS:PUBLIC
URL:https://www.golnetwork.com/game/v/96270/
X-MICROSOFT-CDO-BUSYSTATUS:BUSY
X-MICROSOFT-CDO-IMPORTANCE:1
END:VEVENT
BEGIN:VEVENT
UID:g9q8h@games.golnetwork.com
LOCATION:Louis Riel #1
GEO:45.4410208;-75.5715394
CREATED:20161020T062707Z
DTSTART:20161023T190000Z
DTEND:20161023T200000Z
DTSTAMP:20260419T203254Z
SUMMARY:Spartans FC vs. Int Individuals
DESCRIPTION:Int Individuals vs. Spartans FCMore info: #2
X-ALT-DESC;FMTTYPE=text/html:<!DOCTYPE HTML PUBLIC "-//W3C//DTD HTML 3.2//E
	N">\n<HTML>\n<HEAD>\n<TITLE></TITLE>\n</HEAD>\n<BODY>\n<h3>Int Individuals 
	vs. Spartans FC</h3>More info: <a href="https://www.golnetwork.com/game/v/9
	7168/">#2</a>\n\n</BODY>\n</HTML>
STATUS:CONFIRMED
CLASS:PUBLIC
URL:https://www.golnetwork.com/game/v/97168/
X-MICROSOFT-CDO-BUSYSTATUS:BUSY
X-MICROSOFT-CDO-IMPORTANCE:1
END:VEVENT
BEGIN:VEVENT
UID:g9qd4@games.golnetwork.com
LOCATION:Louis Riel #1
GEO:45.4410208;-75.5715394
CREATED:20161020T204611Z
DTSTART:20161023T220000Z
DTEND:20161023T230000Z
DTSTAMP:20260419T203254Z
SUMMARY:Liquorpool FC vs. GD United
DESCRIPTION:GD United vs. Liquorpool FCMore info: #46
X-ALT-DESC;FMTTYPE=text/html:<!DOCTYPE HTML PUBLIC "-//W3C//DTD HTML 3.2//E
	N">\n<HTML>\n<HEAD>\n<TITLE></TITLE>\n</HEAD>\n<BODY>\n<h3>GD United vs. Li
	quorpool FC</h3>More info: <a href="https://www.golnetwork.com/game/v/97229
	/">#46</a>\n\n</BODY>\n</HTML>
STATUS:CONFIRMED
CLASS:PUBLIC
URL:https://www.golnetwork.com/game/v/97229/
X-MICROSOFT-CDO-BUSYSTATUS:BUSY
X-MICROSOFT-CDO-IMPORTANCE:1
END:VEVENT
BEGIN:VEVENT
UID:g9q90@games.golnetwork.com
LOCATION:Ben Franklin Dome Field 1
GEO:45.3235661;-75.7751222
CREATED:20161020T062707Z
DTSTART:20161023T230000Z
DTEND:20161024T000000Z
DTSTAMP:20260419T203254Z
SUMMARY:Real Ale Madrid vs. Goalfinger
DESCRIPTION:Goalfinger vs. Real Ale MadridMore info: #7
X-ALT-DESC;FMTTYPE=text/html:<!DOCTYPE HTML PUBLIC "-//W3C//DTD HTML 3.2//E
	N">\n<HTML>\n<HEAD>\n<TITLE></TITLE>\n</HEAD>\n<BODY>\n<h3>Goalfinger vs. R
	eal Ale Madrid</h3>More info: <a href="https://www.golnetwork.com/game/v/97
	173/">#7</a>\n\n</BODY>\n</HTML>
STATUS:CONFIRMED
CLASS:PUBLIC
URL:https://www.golnetwork.com/game/v/97173/
X-MICROSOFT-CDO-BUSYSTATUS:BUSY
X-MICROSOFT-CDO-IMPORTANCE:1
END:VEVENT
BEGIN:VEVENT
UID:g9qd6@games.golnetwork.com
LOCATION:Ben Franklin Dome Field 1
GEO:45.3235661;-75.7751222
CREATED:20161020T204629Z
DTSTART:20161024T000000Z
DTEND:20161024T010000Z
DTSTAMP:20260419T203254Z
SUMMARY:Redbulls FC vs. FoxRiver FC
DESCRIPTION:FoxRiver FC vs. Redbulls FCMore info: #49
X-ALT-DESC;FMTTYPE=text/html:<!DOCTYPE HTML PUBLIC "-//W3C//DTD HTML 3.2//E
	N">\n<HTML>\n<HEAD>\n<TITLE></TITLE>\n</HEAD>\n<BODY>\n<h3>FoxRiver FC vs. 
	Redbulls FC</h3>More info: <a href="https://www.golnetwork.com/game/v/97230
	/">#49</a>\n\n</BODY>\n</HTML>
STATUS:CONFIRMED
CLASS:PUBLIC
URL:https://www.golnetwork.com/game/v/97230/
X-MICROSOFT-CDO-BUSYSTATUS:BUSY
X-MICROSOFT-CDO-IMPORTANCE:1
END:VEVENT
BEGIN:VEVENT
UID:ga046@games.golnetwork.com
LOCATION:Louis Riel #1
GEO:45.4410208;-75.5715394
CREATED:20161025T190751Z
DTSTART:20161030T190000Z
DTEND:20161030T200000Z
DTSTAMP:20260419T203254Z
SUMMARY:Redbulls FC vs. Goalfinger
DESCRIPTION:Goalfinger vs. Redbulls FCMore info: #3
X-ALT-DESC;FMTTYPE=text/html:<!DOCTYPE HTML PUBLIC "-//W3C//DTD HTML 3.2//E
	N">\n<HTML>\n<HEAD>\n<TITLE></TITLE>\n</HEAD>\n<BODY>\n<h3>Goalfinger vs. R
	edbulls FC</h3>More info: <a href="https://www.golnetwork.com/game/v/97473/
	">#3</a>\n\n</BODY>\n</HTML>
STATUS:CONFIRMED
CLASS:PUBLIC
URL:https://www.golnetwork.com/game/v/97473/
X-MICROSOFT-CDO-BUSYSTATUS:BUSY
X-MICROSOFT-CDO-IMPORTANCE:1
END:VEVENT
BEGIN:VEVENT
UID:ga04a@games.golnetwork.com
LOCATION:Louis Riel #1
GEO:45.4410208;-75.5715394
CREATED:20161025T190752Z
DTSTART:20161030T210000Z
DTEND:20161030T220000Z
DTSTAMP:20260419T203254Z
SUMMARY:Real Ale Madrid vs. Liquorpool FC
DESCRIPTION:Liquorpool FC vs. Real Ale MadridMore info: #5
X-ALT-DESC;FMTTYPE=text/html:<!DOCTYPE HTML PUBLIC "-//W3C//DTD HTML 3.2//E
	N">\n<HTML>\n<HEAD>\n<TITLE></TITLE>\n</HEAD>\n<BODY>\n<h3>Liquorpool FC vs
	. Real Ale Madrid</h3>More info: <a href="https://www.golnetwork.com/game/v
	/97475/">#5</a>\n\n</BODY>\n</HTML>
STATUS:CONFIRMED
CLASS:PUBLIC
URL:https://www.golnetwork.com/game/v/97475/
X-MICROSOFT-CDO-BUSYSTATUS:BUSY
X-MICROSOFT-CDO-IMPORTANCE:1
END:VEVENT
BEGIN:VEVENT
UID:ga04e@games.golnetwork.com
LOCATION:Ben Franklin Dome Field 1
GEO:45.3235661;-75.7751222
CREATED:20161025T190752Z
DTSTART:20161030T220000Z
DTEND:20161030T230000Z
DTSTAMP:20260419T203254Z
SUMMARY:50 Shades of Pink vs. Spartans FC
DESCRIPTION:Spartans FC vs. 50 Shades of PinkMore info: #7
X-ALT-DESC;FMTTYPE=text/html:<!DOCTYPE HTML PUBLIC "-//W3C//DTD HTML 3.2//E
	N">\n<HTML>\n<HEAD>\n<TITLE></TITLE>\n</HEAD>\n<BODY>\n<h3>Spartans FC vs. 
	50 Shades of Pink</h3>More info: <a href="https://www.golnetwork.com/game/v
	/97477/">#7</a>\n\n</BODY>\n</HTML>
STATUS:CONFIRMED
CLASS:PUBLIC
URL:https://www.golnetwork.com/game/v/97477/
X-MICROSOFT-CDO-BUSYSTATUS:BUSY
X-MICROSOFT-CDO-IMPORTANCE:1
END:VEVENT
BEGIN:VEVENT
UID:ga04g@games.golnetwork.com
LOCATION:Ben Franklin Dome Field 1
GEO:45.3235661;-75.7751222
CREATED:20161025T190752Z
DTSTART:20161030T230000Z
DTEND:20161031T000000Z
DTSTAMP:20260419T203254Z
SUMMARY:50 Shades of Pink vs. FoxRiver FC
DESCRIPTION:FoxRiver FC vs. 50 Shades of PinkMore info: #8
X-ALT-DESC;FMTTYPE=text/html:<!DOCTYPE HTML PUBLIC "-//W3C//DTD HTML 3.2//E
	N">\n<HTML>\n<HEAD>\n<TITLE></TITLE>\n</HEAD>\n<BODY>\n<h3>FoxRiver FC vs. 
	50 Shades of Pink</h3>More info: <a href="https://www.golnetwork.com/game/v
	/97478/">#8</a>\n\n</BODY>\n</HTML>
STATUS:CONFIRMED
CLASS:PUBLIC
URL:https://www.golnetwork.com/game/v/97478/
X-MICROSOFT-CDO-BUSYSTATUS:BUSY
X-MICROSOFT-CDO-IMPORTANCE:1
END:VEVENT
BEGIN:VEVENT
UID:ga04i@games.golnetwork.com
LOCATION:Ben Franklin Dome Field 1
GEO:45.3235661;-75.7751222
CREATED:20161025T190752Z
DTSTART:20161031T000000Z
DTEND:20161031T010000Z
DTSTAMP:20260419T203254Z
SUMMARY:Int Individuals vs. GD United
DESCRIPTION:GD United vs. Int IndividualsMore info: #9
X-ALT-DESC;FMTTYPE=text/html:<!DOCTYPE HTML PUBLIC "-//W3C//DTD HTML 3.2//E
	N">\n<HTML>\n<HEAD>\n<TITLE></TITLE>\n</HEAD>\n<BODY>\n<h3>GD United vs. In
	t Individuals</h3>More info: <a href="https://www.golnetwork.com/game/v/974
	79/">#9</a>\n\n</BODY>\n</HTML>
STATUS:CONFIRMED
CLASS:PUBLIC
URL:https://www.golnetwork.com/game/v/97479/
X-MICROSOFT-CDO-BUSYSTATUS:BUSY
X-MICROSOFT-CDO-IMPORTANCE:1
END:VEVENT
BEGIN:VEVENT
UID:ga13e@games.golnetwork.com
LOCATION:Louis Riel #1
GEO:45.4410208;-75.5715394
CREATED:20161102T213821Z
DTSTART:20161106T200000Z
DTEND:20161106T210000Z
DTSTAMP:20260419T203254Z
SUMMARY:Liquorpool FC vs. Spartans FC
DESCRIPTION:Spartans FC vs. Liquorpool FCMore info: #2
X-ALT-DESC;FMTTYPE=text/html:<!DOCTYPE HTML PUBLIC "-//W3C//DTD HTML 3.2//E
	N">\n<HTML>\n<HEAD>\n<TITLE></TITLE>\n</HEAD>\n<BODY>\n<h3>Spartans FC vs. 
	Liquorpool FC</h3>More info: <a href="https://www.golnetwork.com/game/v/978
	28/">#2</a>\n\n</BODY>\n</HTML>
STATUS:CONFIRMED
CLASS:PUBLIC
URL:https://www.golnetwork.com/game/v/97828/
X-MICROSOFT-CDO-BUSYSTATUS:BUSY
X-MICROSOFT-CDO-IMPORTANCE:1
END:VEVENT
BEGIN:VEVENT
UID:ga13k@games.golnetwork.com
LOCATION:Louis Riel #1
GEO:45.4410208;-75.5715394
CREATED:20161102T213822Z
DTSTART:20161106T230000Z
DTEND:20161107T000000Z
DTSTAMP:20260419T203254Z
SUMMARY:Real Ale Madrid vs. Int Individuals
DESCRIPTION:Int Individuals vs. Real Ale MadridMore info: #5
X-ALT-DESC;FMTTYPE=text/html:<!DOCTYPE HTML PUBLIC "-//W3C//DTD HTML 3.2//E
	N">\n<HTML>\n<HEAD>\n<TITLE></TITLE>\n</HEAD>\n<BODY>\n<h3>Int Individuals 
	vs. Real Ale Madrid</h3>More info: <a href="https://www.golnetwork.com/game
	/v/97831/">#5</a>\n\n</BODY>\n</HTML>
STATUS:CONFIRMED
CLASS:PUBLIC
URL:https://www.golnetwork.com/game/v/97831/
X-MICROSOFT-CDO-BUSYSTATUS:BUSY
X-MICROSOFT-CDO-IMPORTANCE:1
END:VEVENT
BEGIN:VEVENT
UID:ga13m@games.golnetwork.com
LOCATION:Ben Franklin Dome Field 3
GEO:45.10662;-94.578209
CREATED:20161102T213822Z
DTSTART:20161107T010000Z
DTEND:20161107T020000Z
DTSTAMP:20260419T203254Z
SUMMARY:Goalfinger vs. FoxRiver FC
DESCRIPTION:FoxRiver FC vs. GoalfingerMore info: #6
X-ALT-DESC;FMTTYPE=text/html:<!DOCTYPE HTML PUBLIC "-//W3C//DTD HTML 3.2//E
	N">\n<HTML>\n<HEAD>\n<TITLE></TITLE>\n</HEAD>\n<BODY>\n<h3>FoxRiver FC vs. 
	Goalfinger</h3>More info: <a href="https://www.golnetwork.com/game/v/97832/
	">#6</a>\n\n</BODY>\n</HTML>
STATUS:CONFIRMED
CLASS:PUBLIC
URL:https://www.golnetwork.com/game/v/97832/
X-MICROSOFT-CDO-BUSYSTATUS:BUSY
X-MICROSOFT-CDO-IMPORTANCE:1
END:VEVENT
BEGIN:VEVENT
UID:ga13q@games.golnetwork.com
LOCATION:Ben Franklin Dome Field 2
GEO:45.3235661;-75.7751222
CREATED:20161102T213822Z
DTSTART:20161107T020000Z
DTEND:20161107T030000Z
DTSTAMP:20260419T203254Z
SUMMARY:Redbulls FC vs. GD United
DESCRIPTION:GD United vs. Redbulls FCMore info: #8
X-ALT-DESC;FMTTYPE=text/html:<!DOCTYPE HTML PUBLIC "-//W3C//DTD HTML 3.2//E
	N">\n<HTML>\n<HEAD>\n<TITLE></TITLE>\n</HEAD>\n<BODY>\n<h3>GD United vs. Re
	dbulls FC</h3>More info: <a href="https://www.golnetwork.com/game/v/97834/"
	>#8</a>\n\n</BODY>\n</HTML>
STATUS:CONFIRMED
CLASS:PUBLIC
URL:https://www.golnetwork.com/game/v/97834/
X-MICROSOFT-CDO-BUSYSTATUS:BUSY
X-MICROSOFT-CDO-IMPORTANCE:1
END:VEVENT
BEGIN:VEVENT
UID:ga2n7@games.golnetwork.com
LOCATION:Ben Franklin Dome Field 3
GEO:45.10662;-94.578209
CREATED:20161111T165142Z
DTSTART:20161114T023000Z
DTEND:20161114T033000Z
DTSTAMP:20260419T203254Z
SUMMARY:Real Ale Madrid vs. FoxRiver FC
DESCRIPTION:FoxRiver FC vs. Real Ale MadridMore info: #74
X-ALT-DESC;FMTTYPE=text/html:<!DOCTYPE HTML PUBLIC "-//W3C//DTD HTML 3.2//E
	N">\n<HTML>\n<HEAD>\n<TITLE></TITLE>\n</HEAD>\n<BODY>\n<h3>FoxRiver FC vs. 
	Real Ale Madrid</h3>More info: <a href="https://www.golnetwork.com/game/v/9
	8459/">#74</a>\n\n</BODY>\n</HTML>
STATUS:CONFIRMED
CLASS:PUBLIC
URL:https://www.golnetwork.com/game/v/98459/
X-MICROSOFT-CDO-BUSYSTATUS:BUSY
X-MICROSOFT-CDO-IMPORTANCE:1
END:VEVENT
END:VCALENDAR
