BEGIN:VCALENDAR
PRODID:-//gdesolutions.com//MV Framework 1.0.0.1607 Calendar//EN
VERSION:2.0
METHOD:PUBLISH
CALSCALE:GREGORIAN
BEGIN:VEVENT
UID:g9dgg@games.golnetwork.com
LOCATION:Mauril-Belanger
GEO:45.432517;-75.6677337
CREATED:20160910T174629Z
DTSTART:20160912T230000Z
DTEND:20160912T235500Z
DTSTAMP:20260420T145411Z
SUMMARY:Cool Beans vs. Feedbag
DESCRIPTION:Feedbag vs. Cool BeansMore info: #1
X-ALT-DESC;FMTTYPE=text/html:<!DOCTYPE HTML PUBLIC "-//W3C//DTD HTML 3.2//E
	N">\n<HTML>\n<HEAD>\n<TITLE></TITLE>\n</HEAD>\n<BODY>\n<h3>Feedbag vs. Cool
	 Beans</h3>More info: <a href="https://www.golnetwork.com/game/v/92537/">#1
	</a>\n\n</BODY>\n</HTML>
STATUS:CONFIRMED
CLASS:PUBLIC
URL:https://www.golnetwork.com/game/v/92537/
X-MICROSOFT-CDO-BUSYSTATUS:BUSY
X-MICROSOFT-CDO-IMPORTANCE:1
END:VEVENT
BEGIN:VEVENT
UID:g9dgi@games.golnetwork.com
LOCATION:Mauril-Belanger
GEO:45.432517;-75.6677337
CREATED:20160910T174629Z
DTSTART:20160913T000000Z
DTEND:20160913T005500Z
DTSTAMP:20260420T145411Z
SUMMARY:Black Eyed Peas vs. The Hot Lobsters
DESCRIPTION:The Hot Lobsters vs. Black Eyed PeasMore info: #2
X-ALT-DESC;FMTTYPE=text/html:<!DOCTYPE HTML PUBLIC "-//W3C//DTD HTML 3.2//E
	N">\n<HTML>\n<HEAD>\n<TITLE></TITLE>\n</HEAD>\n<BODY>\n<h3>The Hot Lobsters
	 vs. Black Eyed Peas</h3>More info: <a href="https://www.golnetwork.com/gam
	e/v/92538/">#2</a>\n\n</BODY>\n</HTML>
STATUS:CONFIRMED
CLASS:PUBLIC
URL:https://www.golnetwork.com/game/v/92538/
X-MICROSOFT-CDO-BUSYSTATUS:BUSY
X-MICROSOFT-CDO-IMPORTANCE:1
END:VEVENT
BEGIN:VEVENT
UID:g9dgk@games.golnetwork.com
LOCATION:Mauril-Belanger
GEO:45.432517;-75.6677337
CREATED:20160910T174629Z
DTSTART:20160913T010000Z
DTEND:20160913T015500Z
DTSTAMP:20260420T145411Z
SUMMARY:Individuals vs. I thought this was trivia night
DESCRIPTION:I thought this was trivia night vs. IndividualsMore info: #3
X-ALT-DESC;FMTTYPE=text/html:<!DOCTYPE HTML PUBLIC "-//W3C//DTD HTML 3.2//E
	N">\n<HTML>\n<HEAD>\n<TITLE></TITLE>\n</HEAD>\n<BODY>\n<h3>I thought this w
	as trivia night vs. Individuals</h3>More info: <a href="https://www.golnetw
	ork.com/game/v/92539/">#3</a>\n\n</BODY>\n</HTML>
STATUS:CONFIRMED
CLASS:PUBLIC
URL:https://www.golnetwork.com/game/v/92539/
X-MICROSOFT-CDO-BUSYSTATUS:BUSY
X-MICROSOFT-CDO-IMPORTANCE:1
END:VEVENT
BEGIN:VEVENT
UID:g9dgm@games.golnetwork.com
LOCATION:Mauril-Belanger
GEO:45.432517;-75.6677337
CREATED:20160910T174629Z
DTSTART:20160919T230000Z
DTEND:20160919T235500Z
DTSTAMP:20260420T145411Z
SUMMARY:Black Eyed Peas vs. Individuals
DESCRIPTION:Individuals vs. Black Eyed PeasMore info: #4
X-ALT-DESC;FMTTYPE=text/html:<!DOCTYPE HTML PUBLIC "-//W3C//DTD HTML 3.2//E
	N">\n<HTML>\n<HEAD>\n<TITLE></TITLE>\n</HEAD>\n<BODY>\n<h3>Individuals vs. 
	Black Eyed Peas</h3>More info: <a href="https://www.golnetwork.com/game/v/9
	2540/">#4</a>\n\n</BODY>\n</HTML>
STATUS:CONFIRMED
CLASS:PUBLIC
URL:https://www.golnetwork.com/game/v/92540/
X-MICROSOFT-CDO-BUSYSTATUS:BUSY
X-MICROSOFT-CDO-IMPORTANCE:1
END:VEVENT
BEGIN:VEVENT
UID:g9dgo@games.golnetwork.com
LOCATION:Mauril-Belanger
GEO:45.432517;-75.6677337
CREATED:20160910T174629Z
DTSTART:20160920T000000Z
DTEND:20160920T005500Z
DTSTAMP:20260420T145411Z
SUMMARY:I thought this was trivia night vs. Cool Beans
DESCRIPTION:Cool Beans vs. I thought this was trivia nightMore info: #5
X-ALT-DESC;FMTTYPE=text/html:<!DOCTYPE HTML PUBLIC "-//W3C//DTD HTML 3.2//E
	N">\n<HTML>\n<HEAD>\n<TITLE></TITLE>\n</HEAD>\n<BODY>\n<h3>Cool Beans vs. I
	 thought this was trivia night</h3>More info: <a href="https://www.golnetwo
	rk.com/game/v/92541/">#5</a>\n\n</BODY>\n</HTML>
STATUS:CONFIRMED
CLASS:PUBLIC
URL:https://www.golnetwork.com/game/v/92541/
X-MICROSOFT-CDO-BUSYSTATUS:BUSY
X-MICROSOFT-CDO-IMPORTANCE:1
END:VEVENT
BEGIN:VEVENT
UID:g9dgq@games.golnetwork.com
LOCATION:Mauril-Belanger
GEO:45.432517;-75.6677337
CREATED:20160910T174629Z
DTSTART:20160920T010000Z
DTEND:20160920T015500Z
DTSTAMP:20260420T145411Z
SUMMARY:The Hot Lobsters vs. Feedbag
DESCRIPTION:Feedbag vs. The Hot LobstersMore info: #6
X-ALT-DESC;FMTTYPE=text/html:<!DOCTYPE HTML PUBLIC "-//W3C//DTD HTML 3.2//E
	N">\n<HTML>\n<HEAD>\n<TITLE></TITLE>\n</HEAD>\n<BODY>\n<h3>Feedbag vs. The 
	Hot Lobsters</h3>More info: <a href="https://www.golnetwork.com/game/v/9254
	2/">#6</a>\n\n</BODY>\n</HTML>
STATUS:CONFIRMED
CLASS:PUBLIC
URL:https://www.golnetwork.com/game/v/92542/
X-MICROSOFT-CDO-BUSYSTATUS:BUSY
X-MICROSOFT-CDO-IMPORTANCE:1
END:VEVENT
BEGIN:VEVENT
UID:g9dh1@games.golnetwork.com
LOCATION:Mauril-Belanger
GEO:45.432517;-75.6677337
CREATED:20160910T174629Z
DTSTART:20160926T230000Z
DTEND:20160926T235500Z
DTSTAMP:20260420T145411Z
SUMMARY:Feedbag vs. I thought this was trivia night
DESCRIPTION:I thought this was trivia night vs. FeedbagMore info: #7
X-ALT-DESC;FMTTYPE=text/html:<!DOCTYPE HTML PUBLIC "-//W3C//DTD HTML 3.2//E
	N">\n<HTML>\n<HEAD>\n<TITLE></TITLE>\n</HEAD>\n<BODY>\n<h3>I thought this w
	as trivia night vs. Feedbag</h3>More info: <a href="https://www.golnetwork.
	com/game/v/92543/">#7</a>\n\n</BODY>\n</HTML>
STATUS:CONFIRMED
CLASS:PUBLIC
URL:https://www.golnetwork.com/game/v/92543/
X-MICROSOFT-CDO-BUSYSTATUS:BUSY
X-MICROSOFT-CDO-IMPORTANCE:1
END:VEVENT
BEGIN:VEVENT
UID:g9dh3@games.golnetwork.com
LOCATION:Mauril-Belanger
GEO:45.432517;-75.6677337
CREATED:20160910T174629Z
DTSTART:20160927T000000Z
DTEND:20160927T005500Z
DTSTAMP:20260420T145411Z
SUMMARY:Individuals vs. The Hot Lobsters
DESCRIPTION:The Hot Lobsters vs. IndividualsMore info: #8
X-ALT-DESC;FMTTYPE=text/html:<!DOCTYPE HTML PUBLIC "-//W3C//DTD HTML 3.2//E
	N">\n<HTML>\n<HEAD>\n<TITLE></TITLE>\n</HEAD>\n<BODY>\n<h3>The Hot Lobsters
	 vs. Individuals</h3>More info: <a href="https://www.golnetwork.com/game/v/
	92544/">#8</a>\n\n</BODY>\n</HTML>
STATUS:CONFIRMED
CLASS:PUBLIC
URL:https://www.golnetwork.com/game/v/92544/
X-MICROSOFT-CDO-BUSYSTATUS:BUSY
X-MICROSOFT-CDO-IMPORTANCE:1
END:VEVENT
BEGIN:VEVENT
UID:g9dh5@games.golnetwork.com
LOCATION:Mauril-Belanger
GEO:45.432517;-75.6677337
CREATED:20160910T174629Z
DTSTART:20160927T010000Z
DTEND:20160927T015500Z
DTSTAMP:20260420T145411Z
SUMMARY:Black Eyed Peas vs. Cool Beans
DESCRIPTION:Cool Beans vs. Black Eyed PeasMore info: #9
X-ALT-DESC;FMTTYPE=text/html:<!DOCTYPE HTML PUBLIC "-//W3C//DTD HTML 3.2//E
	N">\n<HTML>\n<HEAD>\n<TITLE></TITLE>\n</HEAD>\n<BODY>\n<h3>Cool Beans vs. B
	lack Eyed Peas</h3>More info: <a href="https://www.golnetwork.com/game/v/92
	545/">#9</a>\n\n</BODY>\n</HTML>
STATUS:CONFIRMED
CLASS:PUBLIC
URL:https://www.golnetwork.com/game/v/92545/
X-MICROSOFT-CDO-BUSYSTATUS:BUSY
X-MICROSOFT-CDO-IMPORTANCE:1
END:VEVENT
BEGIN:VEVENT
UID:g9dh7@games.golnetwork.com
LOCATION:Mauril-Belanger
GEO:45.432517;-75.6677337
CREATED:20160910T174629Z
DTSTART:20161003T230000Z
DTEND:20161003T235500Z
DTSTAMP:20260420T145411Z
SUMMARY:I thought this was trivia night vs. Black Eyed Peas
DESCRIPTION:Black Eyed Peas vs. I thought this was trivia nightMore info: #
	10
X-ALT-DESC;FMTTYPE=text/html:<!DOCTYPE HTML PUBLIC "-//W3C//DTD HTML 3.2//E
	N">\n<HTML>\n<HEAD>\n<TITLE></TITLE>\n</HEAD>\n<BODY>\n<h3>Black Eyed Peas 
	vs. I thought this was trivia night</h3>More info: <a href="https://www.gol
	network.com/game/v/92546/">#10</a>\n\n</BODY>\n</HTML>
STATUS:CONFIRMED
CLASS:PUBLIC
URL:https://www.golnetwork.com/game/v/92546/
X-MICROSOFT-CDO-BUSYSTATUS:BUSY
X-MICROSOFT-CDO-IMPORTANCE:1
END:VEVENT
BEGIN:VEVENT
UID:g9dh9@games.golnetwork.com
LOCATION:Mauril-Belanger
GEO:45.432517;-75.6677337
CREATED:20160910T174629Z
DTSTART:20161004T000000Z
DTEND:20161004T005500Z
DTSTAMP:20260420T145411Z
SUMMARY:Cool Beans vs. The Hot Lobsters
DESCRIPTION:The Hot Lobsters vs. Cool BeansMore info: #11
X-ALT-DESC;FMTTYPE=text/html:<!DOCTYPE HTML PUBLIC "-//W3C//DTD HTML 3.2//E
	N">\n<HTML>\n<HEAD>\n<TITLE></TITLE>\n</HEAD>\n<BODY>\n<h3>The Hot Lobsters
	 vs. Cool Beans</h3>More info: <a href="https://www.golnetwork.com/game/v/9
	2547/">#11</a>\n\n</BODY>\n</HTML>
STATUS:CONFIRMED
CLASS:PUBLIC
URL:https://www.golnetwork.com/game/v/92547/
X-MICROSOFT-CDO-BUSYSTATUS:BUSY
X-MICROSOFT-CDO-IMPORTANCE:1
END:VEVENT
BEGIN:VEVENT
UID:g9dhb@games.golnetwork.com
LOCATION:Mauril-Belanger
GEO:45.432517;-75.6677337
CREATED:20160910T174629Z
DTSTART:20161004T010000Z
DTEND:20161004T015500Z
DTSTAMP:20260420T145411Z
SUMMARY:Feedbag vs. Individuals
DESCRIPTION:Individuals vs. FeedbagMore info: #12
X-ALT-DESC;FMTTYPE=text/html:<!DOCTYPE HTML PUBLIC "-//W3C//DTD HTML 3.2//E
	N">\n<HTML>\n<HEAD>\n<TITLE></TITLE>\n</HEAD>\n<BODY>\n<h3>Individuals vs. 
	Feedbag</h3>More info: <a href="https://www.golnetwork.com/game/v/92548/">#
	12</a>\n\n</BODY>\n</HTML>
STATUS:CONFIRMED
CLASS:PUBLIC
URL:https://www.golnetwork.com/game/v/92548/
X-MICROSOFT-CDO-BUSYSTATUS:BUSY
X-MICROSOFT-CDO-IMPORTANCE:1
END:VEVENT
BEGIN:VEVENT
UID:g9dhd@games.golnetwork.com
LOCATION:Mauril-Belanger
GEO:45.432517;-75.6677337
CREATED:20160910T174629Z
DTSTART:20161017T230000Z
DTEND:20161017T235500Z
DTSTAMP:20260420T145411Z
SUMMARY:Cool Beans vs. Individuals
DESCRIPTION:Individuals vs. Cool BeansMore info: #13
X-ALT-DESC;FMTTYPE=text/html:<!DOCTYPE HTML PUBLIC "-//W3C//DTD HTML 3.2//E
	N">\n<HTML>\n<HEAD>\n<TITLE></TITLE>\n</HEAD>\n<BODY>\n<h3>Individuals vs. 
	Cool Beans</h3>More info: <a href="https://www.golnetwork.com/game/v/92549/
	">#13</a>\n\n</BODY>\n</HTML>
STATUS:CONFIRMED
CLASS:PUBLIC
URL:https://www.golnetwork.com/game/v/92549/
X-MICROSOFT-CDO-BUSYSTATUS:BUSY
X-MICROSOFT-CDO-IMPORTANCE:1
END:VEVENT
BEGIN:VEVENT
UID:g9dhf@games.golnetwork.com
LOCATION:Mauril-Belanger
GEO:45.432517;-75.6677337
CREATED:20160910T174629Z
DTSTART:20161018T000000Z
DTEND:20161018T005500Z
DTSTAMP:20260420T145411Z
SUMMARY:Feedbag vs. Black Eyed Peas
DESCRIPTION:Black Eyed Peas vs. FeedbagMore info: #14
X-ALT-DESC;FMTTYPE=text/html:<!DOCTYPE HTML PUBLIC "-//W3C//DTD HTML 3.2//E
	N">\n<HTML>\n<HEAD>\n<TITLE></TITLE>\n</HEAD>\n<BODY>\n<h3>Black Eyed Peas 
	vs. Feedbag</h3>More info: <a href="https://www.golnetwork.com/game/v/92550
	/">#14</a>\n\n</BODY>\n</HTML>
STATUS:CONFIRMED
CLASS:PUBLIC
URL:https://www.golnetwork.com/game/v/92550/
X-MICROSOFT-CDO-BUSYSTATUS:BUSY
X-MICROSOFT-CDO-IMPORTANCE:1
END:VEVENT
BEGIN:VEVENT
UID:g9dhh@games.golnetwork.com
LOCATION:Mauril-Belanger
GEO:45.432517;-75.6677337
CREATED:20160910T174629Z
DTSTART:20161018T010000Z
DTEND:20161018T015500Z
DTSTAMP:20260420T145411Z
SUMMARY:The Hot Lobsters vs. I thought this was trivia night
DESCRIPTION:I thought this was trivia night vs. The Hot LobstersMore info: 
	#15
X-ALT-DESC;FMTTYPE=text/html:<!DOCTYPE HTML PUBLIC "-//W3C//DTD HTML 3.2//E
	N">\n<HTML>\n<HEAD>\n<TITLE></TITLE>\n</HEAD>\n<BODY>\n<h3>I thought this w
	as trivia night vs. The Hot Lobsters</h3>More info: <a href="https://www.go
	lnetwork.com/game/v/92551/">#15</a>\n\n</BODY>\n</HTML>
STATUS:CONFIRMED
CLASS:PUBLIC
URL:https://www.golnetwork.com/game/v/92551/
X-MICROSOFT-CDO-BUSYSTATUS:BUSY
X-MICROSOFT-CDO-IMPORTANCE:1
END:VEVENT
BEGIN:VEVENT
UID:g9dhj@games.golnetwork.com
LOCATION:Mauril-Belanger
GEO:45.432517;-75.6677337
CREATED:20160910T174629Z
DTSTART:20161024T230000Z
DTEND:20161024T235500Z
DTSTAMP:20260420T145411Z
SUMMARY:Individuals vs. I thought this was trivia night
DESCRIPTION:I thought this was trivia night vs. IndividualsMore info: #16
X-ALT-DESC;FMTTYPE=text/html:<!DOCTYPE HTML PUBLIC "-//W3C//DTD HTML 3.2//E
	N">\n<HTML>\n<HEAD>\n<TITLE></TITLE>\n</HEAD>\n<BODY>\n<h3>I thought this w
	as trivia night vs. Individuals</h3>More info: <a href="https://www.golnetw
	ork.com/game/v/92552/">#16</a>\n\n</BODY>\n</HTML>
STATUS:CONFIRMED
CLASS:PUBLIC
URL:https://www.golnetwork.com/game/v/92552/
X-MICROSOFT-CDO-BUSYSTATUS:BUSY
X-MICROSOFT-CDO-IMPORTANCE:1
END:VEVENT
BEGIN:VEVENT
UID:g9dhl@games.golnetwork.com
LOCATION:Mauril-Belanger
GEO:45.432517;-75.6677337
CREATED:20160910T174629Z
DTSTART:20161025T000000Z
DTEND:20161025T005500Z
DTSTAMP:20260420T145411Z
SUMMARY:Black Eyed Peas vs. The Hot Lobsters
DESCRIPTION:The Hot Lobsters vs. Black Eyed PeasMore info: #17
X-ALT-DESC;FMTTYPE=text/html:<!DOCTYPE HTML PUBLIC "-//W3C//DTD HTML 3.2//E
	N">\n<HTML>\n<HEAD>\n<TITLE></TITLE>\n</HEAD>\n<BODY>\n<h3>The Hot Lobsters
	 vs. Black Eyed Peas</h3>More info: <a href="https://www.golnetwork.com/gam
	e/v/92553/">#17</a>\n\n</BODY>\n</HTML>
STATUS:CONFIRMED
CLASS:PUBLIC
URL:https://www.golnetwork.com/game/v/92553/
X-MICROSOFT-CDO-BUSYSTATUS:BUSY
X-MICROSOFT-CDO-IMPORTANCE:1
END:VEVENT
BEGIN:VEVENT
UID:g9dhn@games.golnetwork.com
LOCATION:Mauril-Belanger
GEO:45.432517;-75.6677337
CREATED:20160910T174629Z
DTSTART:20161025T010000Z
DTEND:20161025T015500Z
DTSTAMP:20260420T145411Z
SUMMARY:Cool Beans vs. Feedbag
DESCRIPTION:Feedbag vs. Cool BeansMore info: #18
X-ALT-DESC;FMTTYPE=text/html:<!DOCTYPE HTML PUBLIC "-//W3C//DTD HTML 3.2//E
	N">\n<HTML>\n<HEAD>\n<TITLE></TITLE>\n</HEAD>\n<BODY>\n<h3>Feedbag vs. Cool
	 Beans</h3>More info: <a href="https://www.golnetwork.com/game/v/92554/">#1
	8</a>\n\n</BODY>\n</HTML>
STATUS:CONFIRMED
CLASS:PUBLIC
URL:https://www.golnetwork.com/game/v/92554/
X-MICROSOFT-CDO-BUSYSTATUS:BUSY
X-MICROSOFT-CDO-IMPORTANCE:1
END:VEVENT
END:VCALENDAR
