BEGIN:VCALENDAR
PRODID:-//gdesolutions.com//MV Framework 1.0.0.1607 Calendar//EN
VERSION:2.0
METHOD:PUBLISH
CALSCALE:GREGORIAN
BEGIN:VEVENT
UID:ga1gf@games.golnetwork.com
LOCATION:Molson Stadium
GEO:45.10662;-94.578209
CREATED:20161104T133256Z
DTSTART:20161106T150000Z
DTEND:20161106T154400Z
DTSTAMP:20260422T111224Z
SUMMARY:Game of Throw-ins vs. Cuddles Corp.
DESCRIPTION:Cuddles Corp. vs. Game of Throw-insMore info: #275
X-ALT-DESC;FMTTYPE=text/html:<!DOCTYPE HTML PUBLIC "-//W3C//DTD HTML 3.2//E
	N">\n<HTML>\n<HEAD>\n<TITLE></TITLE>\n</HEAD>\n<BODY>\n<h3>Cuddles Corp. vs
	. Game of Throw-ins</h3>More info: <a href="https://www.golnetwork.com/game
	/v/98004/">#275</a>\n\n</BODY>\n</HTML>
STATUS:CONFIRMED
CLASS:PUBLIC
URL:https://www.golnetwork.com/game/v/98004/
X-MICROSOFT-CDO-BUSYSTATUS:BUSY
X-MICROSOFT-CDO-IMPORTANCE:1
END:VEVENT
BEGIN:VEVENT
UID:ga1gj@games.golnetwork.com
LOCATION:Molson Stadium
GEO:45.10662;-94.578209
CREATED:20161104T133256Z
DTSTART:20161106T150000Z
DTEND:20161106T154400Z
DTSTAMP:20260422T111224Z
SUMMARY:Danger Noodles vs. Flying Geese (OPB)
DESCRIPTION:Flying Geese (OPB) vs. Danger NoodlesMore info: #276
X-ALT-DESC;FMTTYPE=text/html:<!DOCTYPE HTML PUBLIC "-//W3C//DTD HTML 3.2//E
	N">\n<HTML>\n<HEAD>\n<TITLE></TITLE>\n</HEAD>\n<BODY>\n<h3>Flying Geese (OP
	B) vs. Danger Noodles</h3>More info: <a href="https://www.golnetwork.com/ga
	me/v/98006/">#276</a>\n\n</BODY>\n</HTML>
STATUS:CONFIRMED
CLASS:PUBLIC
URL:https://www.golnetwork.com/game/v/98006/
X-MICROSOFT-CDO-BUSYSTATUS:BUSY
X-MICROSOFT-CDO-IMPORTANCE:1
END:VEVENT
BEGIN:VEVENT
UID:ga1gh@games.golnetwork.com
LOCATION:Molson Stadium
GEO:45.10662;-94.578209
CREATED:20161104T133256Z
DTSTART:20161106T190000Z
DTEND:20161106T194400Z
DTSTAMP:20260422T111224Z
SUMMARY:Bromley Stanley vs. YouOnlyLobOnce
DESCRIPTION:YouOnlyLobOnce vs. Bromley StanleyMore info: #284
X-ALT-DESC;FMTTYPE=text/html:<!DOCTYPE HTML PUBLIC "-//W3C//DTD HTML 3.2//E
	N">\n<HTML>\n<HEAD>\n<TITLE></TITLE>\n</HEAD>\n<BODY>\n<h3>YouOnlyLobOnce v
	s. Bromley Stanley</h3>More info: <a href="https://www.golnetwork.com/game/
	v/98005/">#284</a>\n\n</BODY>\n</HTML>
STATUS:CONFIRMED
CLASS:PUBLIC
URL:https://www.golnetwork.com/game/v/98005/
X-MICROSOFT-CDO-BUSYSTATUS:BUSY
X-MICROSOFT-CDO-IMPORTANCE:1
END:VEVENT
BEGIN:VEVENT
UID:ga1gl@games.golnetwork.com
LOCATION:Forbes Field
GEO:45.10662;-94.578209
CREATED:20161104T133256Z
DTSTART:20161108T020000Z
DTEND:20161108T024400Z
DTSTAMP:20260422T111224Z
SUMMARY:Co-Wreckers vs. Baby Monkey
DESCRIPTION:Baby Monkey vs. Co-WreckersMore info: #291
X-ALT-DESC;FMTTYPE=text/html:<!DOCTYPE HTML PUBLIC "-//W3C//DTD HTML 3.2//E
	N">\n<HTML>\n<HEAD>\n<TITLE></TITLE>\n</HEAD>\n<BODY>\n<h3>Baby Monkey vs. 
	Co-Wreckers</h3>More info: <a href="https://www.golnetwork.com/game/v/98007
	/">#291</a>\n\n</BODY>\n</HTML>
STATUS:CONFIRMED
CLASS:PUBLIC
URL:https://www.golnetwork.com/game/v/98007/
X-MICROSOFT-CDO-BUSYSTATUS:BUSY
X-MICROSOFT-CDO-IMPORTANCE:1
END:VEVENT
BEGIN:VEVENT
UID:ga1gp@games.golnetwork.com
LOCATION:Molson Stadium
GEO:45.10662;-94.578209
CREATED:20161104T133256Z
DTSTART:20161109T020000Z
DTEND:20161109T024400Z
DTSTAMP:20260422T111224Z
SUMMARY:YouOnlyLobOnce vs. Flying Geese (OPB)
DESCRIPTION:Flying Geese (OPB) vs. YouOnlyLobOnceMore info: #297
X-ALT-DESC;FMTTYPE=text/html:<!DOCTYPE HTML PUBLIC "-//W3C//DTD HTML 3.2//E
	N">\n<HTML>\n<HEAD>\n<TITLE></TITLE>\n</HEAD>\n<BODY>\n<h3>Flying Geese (OP
	B) vs. YouOnlyLobOnce</h3>More info: <a href="https://www.golnetwork.com/ga
	me/v/98009/">#297</a>\n\n</BODY>\n</HTML>
STATUS:CONFIRMED
CLASS:PUBLIC
URL:https://www.golnetwork.com/game/v/98009/
X-MICROSOFT-CDO-BUSYSTATUS:BUSY
X-MICROSOFT-CDO-IMPORTANCE:1
END:VEVENT
BEGIN:VEVENT
UID:ga1gn@games.golnetwork.com
LOCATION:Molson Stadium
GEO:45.10662;-94.578209
CREATED:20161104T133256Z
DTSTART:20161109T020000Z
DTEND:20161109T024400Z
DTSTAMP:20260422T111224Z
SUMMARY:Baby Monkey vs. Game of Throw-ins
DESCRIPTION:Game of Throw-ins vs. Baby MonkeyMore info: #296
X-ALT-DESC;FMTTYPE=text/html:<!DOCTYPE HTML PUBLIC "-//W3C//DTD HTML 3.2//E
	N">\n<HTML>\n<HEAD>\n<TITLE></TITLE>\n</HEAD>\n<BODY>\n<h3>Game of Throw-in
	s vs. Baby Monkey</h3>More info: <a href="https://www.golnetwork.com/game/v
	/98008/">#296</a>\n\n</BODY>\n</HTML>
STATUS:CONFIRMED
CLASS:PUBLIC
URL:https://www.golnetwork.com/game/v/98008/
X-MICROSOFT-CDO-BUSYSTATUS:BUSY
X-MICROSOFT-CDO-IMPORTANCE:1
END:VEVENT
BEGIN:VEVENT
UID:ga1h0@games.golnetwork.com
LOCATION:Molson Stadium
GEO:45.10662;-94.578209
CREATED:20161104T133256Z
DTSTART:20161113T171500Z
DTEND:20161113T175900Z
DTSTAMP:20260422T111224Z
SUMMARY:YouOnlyLobOnce vs. Game of Throw-ins
DESCRIPTION:Game of Throw-ins vs. YouOnlyLobOnceMore info: #307
X-ALT-DESC;FMTTYPE=text/html:<!DOCTYPE HTML PUBLIC "-//W3C//DTD HTML 3.2//E
	N">\n<HTML>\n<HEAD>\n<TITLE></TITLE>\n</HEAD>\n<BODY>\n<h3>Game of Throw-in
	s vs. YouOnlyLobOnce</h3>More info: <a href="https://www.golnetwork.com/gam
	e/v/98010/">#307</a>\n\n</BODY>\n</HTML>
STATUS:CONFIRMED
CLASS:PUBLIC
URL:https://www.golnetwork.com/game/v/98010/
X-MICROSOFT-CDO-BUSYSTATUS:BUSY
X-MICROSOFT-CDO-IMPORTANCE:1
END:VEVENT
END:VCALENDAR
