BEGIN:VCALENDAR
PRODID:-//gdesolutions.com//MV Framework 1.0.0.1607 Calendar//EN
VERSION:2.0
METHOD:PUBLISH
CALSCALE:GREGORIAN
BEGIN:VEVENT
UID:ga4hb@games.golnetwork.com
LOCATION:Central Tech - Field 1
GEO:43.6637272;-79.4087613
CREATED:20161216T170947Z
DTSTART:20170221T010000Z
DTEND:20170221T015000Z
DTSTAMP:20260425T181144Z
SUMMARY:Gunners vs. Medcan FC
DESCRIPTION:Medcan FC vs. GunnersMore info: #424
X-ALT-DESC;FMTTYPE=text/html:<!DOCTYPE HTML PUBLIC "-//W3C//DTD HTML 3.2//E
	N">\n<HTML>\n<HEAD>\n<TITLE></TITLE>\n</HEAD>\n<BODY>\n<h3>Medcan FC vs. Gu
	nners</h3>More info: <a href="https://www.golnetwork.com/game/v/99109/">#42
	4</a>\n\n</BODY>\n</HTML>
STATUS:CONFIRMED
CLASS:PUBLIC
URL:https://www.golnetwork.com/game/v/99109/
X-MICROSOFT-CDO-BUSYSTATUS:BUSY
X-MICROSOFT-CDO-IMPORTANCE:1
END:VEVENT
BEGIN:VEVENT
UID:ga4hd@games.golnetwork.com
LOCATION:Central Tech - Field 1
GEO:43.6637272;-79.4087613
CREATED:20161216T170947Z
DTSTART:20170221T020000Z
DTEND:20170221T025000Z
DTSTAMP:20260425T181144Z
SUMMARY:Billy Zane and the Walk-Offs vs. The PKs
DESCRIPTION:The PKs vs. Billy Zane and the Walk-OffsMore info: #426
X-ALT-DESC;FMTTYPE=text/html:<!DOCTYPE HTML PUBLIC "-//W3C//DTD HTML 3.2//E
	N">\n<HTML>\n<HEAD>\n<TITLE></TITLE>\n</HEAD>\n<BODY>\n<h3>The PKs vs. Bill
	y Zane and the Walk-Offs</h3>More info: <a href="https://www.golnetwork.com
	/game/v/99110/">#426</a>\n\n</BODY>\n</HTML>
STATUS:CONFIRMED
CLASS:PUBLIC
URL:https://www.golnetwork.com/game/v/99110/
X-MICROSOFT-CDO-BUSYSTATUS:BUSY
X-MICROSOFT-CDO-IMPORTANCE:1
END:VEVENT
BEGIN:VEVENT
UID:ga4hf@games.golnetwork.com
LOCATION:Central Tech - Field 1
GEO:43.6637272;-79.4087613
CREATED:20161216T170947Z
DTSTART:20170228T010000Z
DTEND:20170228T015000Z
DTSTAMP:20260425T181144Z
SUMMARY:Billy Zane and the Walk-Offs vs. Medcan FC
DESCRIPTION:Medcan FC vs. Billy Zane and the Walk-OffsMore info: #504
X-ALT-DESC;FMTTYPE=text/html:<!DOCTYPE HTML PUBLIC "-//W3C//DTD HTML 3.2//E
	N">\n<HTML>\n<HEAD>\n<TITLE></TITLE>\n</HEAD>\n<BODY>\n<h3>Medcan FC vs. Bi
	lly Zane and the Walk-Offs</h3>More info: <a href="https://www.golnetwork.c
	om/game/v/99111/">#504</a>\n\n</BODY>\n</HTML>
STATUS:CONFIRMED
CLASS:PUBLIC
URL:https://www.golnetwork.com/game/v/99111/
X-MICROSOFT-CDO-BUSYSTATUS:BUSY
X-MICROSOFT-CDO-IMPORTANCE:1
END:VEVENT
END:VCALENDAR
