BEGIN:VCALENDAR
PRODID:-//gdesolutions.com//MV Framework 1.0.0.1607 Calendar//EN
VERSION:2.0
METHOD:PUBLISH
CALSCALE:GREGORIAN
BEGIN:VEVENT
UID:ga59o@games.golnetwork.com
LOCATION:Central Tech - Field 1
GEO:43.6637272;-79.4087613
CREATED:20161231T023528Z
DTSTART:20170106T010000Z
DTEND:20170106T015000Z
DTSTAMP:20260422T114649Z
SUMMARY:XTSC Loungers vs. Bonafide FC
DESCRIPTION:Bonafide FC vs. XTSC LoungersMore info: #29
X-ALT-DESC;FMTTYPE=text/html:<!DOCTYPE HTML PUBLIC "-//W3C//DTD HTML 3.2//E
	N">\n<HTML>\n<HEAD>\n<TITLE></TITLE>\n</HEAD>\n<BODY>\n<h3>Bonafide FC vs. 
	XTSC Loungers</h3>More info: <a href="https://www.golnetwork.com/game/v/993
	72/">#29</a>\n\n</BODY>\n</HTML>
STATUS:CONFIRMED
CLASS:PUBLIC
URL:https://www.golnetwork.com/game/v/99372/
X-MICROSOFT-CDO-BUSYSTATUS:BUSY
X-MICROSOFT-CDO-IMPORTANCE:1
END:VEVENT
BEGIN:VEVENT
UID:ga59q@games.golnetwork.com
LOCATION:Central Tech - Field 1
GEO:43.6637272;-79.4087613
CREATED:20161231T023537Z
DTSTART:20170106T020000Z
DTEND:20170106T025000Z
DTSTAMP:20260422T114649Z
SUMMARY:Pathetic Athletic vs. Superbad FC
DESCRIPTION:Superbad FC vs. Pathetic AthleticMore info: #31
X-ALT-DESC;FMTTYPE=text/html:<!DOCTYPE HTML PUBLIC "-//W3C//DTD HTML 3.2//E
	N">\n<HTML>\n<HEAD>\n<TITLE></TITLE>\n</HEAD>\n<BODY>\n<h3>Superbad FC vs. 
	Pathetic Athletic</h3>More info: <a href="https://www.golnetwork.com/game/v
	/99373/">#31</a>\n\n</BODY>\n</HTML>
STATUS:CONFIRMED
CLASS:PUBLIC
URL:https://www.golnetwork.com/game/v/99373/
X-MICROSOFT-CDO-BUSYSTATUS:BUSY
X-MICROSOFT-CDO-IMPORTANCE:1
END:VEVENT
BEGIN:VEVENT
UID:ga5a1@games.golnetwork.com
LOCATION:Central Tech - Field 1
GEO:43.6637272;-79.4087613
CREATED:20161231T023546Z
DTSTART:20170106T030000Z
DTEND:20170106T035000Z
DTSTAMP:20260422T114649Z
SUMMARY:Papa Barone & the Good Time Gang vs. Offsiders FC
DESCRIPTION:Offsiders FC vs. Papa Barone & the Good Time GangMore info: #34
X-ALT-DESC;FMTTYPE=text/html:<!DOCTYPE HTML PUBLIC "-//W3C//DTD HTML 3.2//E
	N">\n<HTML>\n<HEAD>\n<TITLE></TITLE>\n</HEAD>\n<BODY>\n<h3>Offsiders FC vs.
	 Papa Barone & the Good Time Gang</h3>More info: <a href="https://www.golne
	twork.com/game/v/99374/">#34</a>\n\n</BODY>\n</HTML>
STATUS:CONFIRMED
CLASS:PUBLIC
URL:https://www.golnetwork.com/game/v/99374/
X-MICROSOFT-CDO-BUSYSTATUS:BUSY
X-MICROSOFT-CDO-IMPORTANCE:1
END:VEVENT
BEGIN:VEVENT
UID:ga5a3@games.golnetwork.com
LOCATION:Central Tech - Field 1
GEO:43.6637272;-79.4087613
CREATED:20161231T023552Z
DTSTART:20170106T040000Z
DTEND:20170106T045000Z
DTSTAMP:20260422T114649Z
SUMMARY:Chimichurris vs. All City FC
DESCRIPTION:All City FC vs. ChimichurrisMore info: #37
X-ALT-DESC;FMTTYPE=text/html:<!DOCTYPE HTML PUBLIC "-//W3C//DTD HTML 3.2//E
	N">\n<HTML>\n<HEAD>\n<TITLE></TITLE>\n</HEAD>\n<BODY>\n<h3>All City FC vs. 
	Chimichurris</h3>More info: <a href="https://www.golnetwork.com/game/v/9937
	5/">#37</a>\n\n</BODY>\n</HTML>
STATUS:CONFIRMED
CLASS:PUBLIC
URL:https://www.golnetwork.com/game/v/99375/
X-MICROSOFT-CDO-BUSYSTATUS:BUSY
X-MICROSOFT-CDO-IMPORTANCE:1
END:VEVENT
BEGIN:VEVENT
UID:ga5a5@games.golnetwork.com
LOCATION:Central Tech - Field 1
GEO:43.6637272;-79.4087613
CREATED:20161231T023939Z
DTSTART:20170113T020000Z
DTEND:20170113T025000Z
DTSTAMP:20260422T114649Z
SUMMARY:Offsiders FC vs. Chimichurris
DESCRIPTION:Chimichurris vs. Offsiders FCMore info: #77
X-ALT-DESC;FMTTYPE=text/html:<!DOCTYPE HTML PUBLIC "-//W3C//DTD HTML 3.2//E
	N">\n<HTML>\n<HEAD>\n<TITLE></TITLE>\n</HEAD>\n<BODY>\n<h3>Chimichurris vs.
	 Offsiders FC</h3>More info: <a href="https://www.golnetwork.com/game/v/993
	76/">#77</a>\n\n</BODY>\n</HTML>
STATUS:CONFIRMED
CLASS:PUBLIC
URL:https://www.golnetwork.com/game/v/99376/
X-MICROSOFT-CDO-BUSYSTATUS:BUSY
X-MICROSOFT-CDO-IMPORTANCE:1
END:VEVENT
BEGIN:VEVENT
UID:ga5a7@games.golnetwork.com
LOCATION:Central Tech - Field 2
GEO:43.6637272;-79.4087613
CREATED:20161231T023950Z
DTSTART:20170113T020000Z
DTEND:20170113T025000Z
DTSTAMP:20260422T114649Z
SUMMARY:Pathetic Athletic vs. Papa Barone & the Good Time Gang
DESCRIPTION:Papa Barone & the Good Time Gang vs. Pathetic AthleticMore info
	: #78
X-ALT-DESC;FMTTYPE=text/html:<!DOCTYPE HTML PUBLIC "-//W3C//DTD HTML 3.2//E
	N">\n<HTML>\n<HEAD>\n<TITLE></TITLE>\n</HEAD>\n<BODY>\n<h3>Papa Barone & th
	e Good Time Gang vs. Pathetic Athletic</h3>More info: <a href="https://www.
	golnetwork.com/game/v/99377/">#78</a>\n\n</BODY>\n</HTML>
STATUS:CONFIRMED
CLASS:PUBLIC
URL:https://www.golnetwork.com/game/v/99377/
X-MICROSOFT-CDO-BUSYSTATUS:BUSY
X-MICROSOFT-CDO-IMPORTANCE:1
END:VEVENT
BEGIN:VEVENT
UID:ga5a9@games.golnetwork.com
LOCATION:Central Tech - Field 1
GEO:43.6637272;-79.4087613
CREATED:20161231T024007Z
DTSTART:20170113T040000Z
DTEND:20170113T045000Z
DTSTAMP:20260422T114649Z
SUMMARY:XTSC Loungers vs. Superbad FC
DESCRIPTION:Superbad FC vs. XTSC LoungersMore info: #83
X-ALT-DESC;FMTTYPE=text/html:<!DOCTYPE HTML PUBLIC "-//W3C//DTD HTML 3.2//E
	N">\n<HTML>\n<HEAD>\n<TITLE></TITLE>\n</HEAD>\n<BODY>\n<h3>Superbad FC vs. 
	XTSC Loungers</h3>More info: <a href="https://www.golnetwork.com/game/v/993
	78/">#83</a>\n\n</BODY>\n</HTML>
STATUS:CONFIRMED
CLASS:PUBLIC
URL:https://www.golnetwork.com/game/v/99378/
X-MICROSOFT-CDO-BUSYSTATUS:BUSY
X-MICROSOFT-CDO-IMPORTANCE:1
END:VEVENT
BEGIN:VEVENT
UID:ga5ab@games.golnetwork.com
LOCATION:Central Tech - Field 2
GEO:43.6637272;-79.4087613
CREATED:20161231T024018Z
DTSTART:20170113T040000Z
DTEND:20170113T045000Z
DTSTAMP:20260422T114649Z
SUMMARY:Bonafide FC vs. All City FC
DESCRIPTION:All City FC vs. Bonafide FCMore info: #84
X-ALT-DESC;FMTTYPE=text/html:<!DOCTYPE HTML PUBLIC "-//W3C//DTD HTML 3.2//E
	N">\n<HTML>\n<HEAD>\n<TITLE></TITLE>\n</HEAD>\n<BODY>\n<h3>All City FC vs. 
	Bonafide FC</h3>More info: <a href="https://www.golnetwork.com/game/v/99379
	/">#84</a>\n\n</BODY>\n</HTML>
STATUS:CONFIRMED
CLASS:PUBLIC
URL:https://www.golnetwork.com/game/v/99379/
X-MICROSOFT-CDO-BUSYSTATUS:BUSY
X-MICROSOFT-CDO-IMPORTANCE:1
END:VEVENT
BEGIN:VEVENT
UID:ga5ad@games.golnetwork.com
LOCATION:Central Tech - Field 1
GEO:43.6637272;-79.4087613
CREATED:20161231T024033Z
DTSTART:20170120T010000Z
DTEND:20170120T015000Z
DTSTAMP:20260422T114649Z
SUMMARY:Offsiders FC vs. All City FC
DESCRIPTION:All City FC vs. Offsiders FCMore info: #124
X-ALT-DESC;FMTTYPE=text/html:<!DOCTYPE HTML PUBLIC "-//W3C//DTD HTML 3.2//E
	N">\n<HTML>\n<HEAD>\n<TITLE></TITLE>\n</HEAD>\n<BODY>\n<h3>All City FC vs. 
	Offsiders FC</h3>More info: <a href="https://www.golnetwork.com/game/v/9938
	0/">#124</a>\n\n</BODY>\n</HTML>
STATUS:CONFIRMED
CLASS:PUBLIC
URL:https://www.golnetwork.com/game/v/99380/
X-MICROSOFT-CDO-BUSYSTATUS:BUSY
X-MICROSOFT-CDO-IMPORTANCE:1
END:VEVENT
BEGIN:VEVENT
UID:ga5af@games.golnetwork.com
LOCATION:Central Tech - Field 1
GEO:43.6637272;-79.4087613
CREATED:20161231T024047Z
DTSTART:20170120T020000Z
DTEND:20170120T025000Z
DTSTAMP:20260422T114649Z
SUMMARY:XTSC Loungers vs. Pathetic Athletic
DESCRIPTION:Pathetic Athletic vs. XTSC LoungersMore info: #126
X-ALT-DESC;FMTTYPE=text/html:<!DOCTYPE HTML PUBLIC "-//W3C//DTD HTML 3.2//E
	N">\n<HTML>\n<HEAD>\n<TITLE></TITLE>\n</HEAD>\n<BODY>\n<h3>Pathetic Athleti
	c vs. XTSC Loungers</h3>More info: <a href="https://www.golnetwork.com/game
	/v/99381/">#126</a>\n\n</BODY>\n</HTML>
STATUS:CONFIRMED
CLASS:PUBLIC
URL:https://www.golnetwork.com/game/v/99381/
X-MICROSOFT-CDO-BUSYSTATUS:BUSY
X-MICROSOFT-CDO-IMPORTANCE:1
END:VEVENT
BEGIN:VEVENT
UID:ga5ah@games.golnetwork.com
LOCATION:Central Tech - Field 1
GEO:43.6637272;-79.4087613
CREATED:20161231T024056Z
DTSTART:20170120T030000Z
DTEND:20170120T035000Z
DTSTAMP:20260422T114649Z
SUMMARY:Superbad FC vs. Bonafide FC
DESCRIPTION:Bonafide FC vs. Superbad FCMore info: #129
X-ALT-DESC;FMTTYPE=text/html:<!DOCTYPE HTML PUBLIC "-//W3C//DTD HTML 3.2//E
	N">\n<HTML>\n<HEAD>\n<TITLE></TITLE>\n</HEAD>\n<BODY>\n<h3>Bonafide FC vs. 
	Superbad FC</h3>More info: <a href="https://www.golnetwork.com/game/v/99382
	/">#129</a>\n\n</BODY>\n</HTML>
STATUS:CONFIRMED
CLASS:PUBLIC
URL:https://www.golnetwork.com/game/v/99382/
X-MICROSOFT-CDO-BUSYSTATUS:BUSY
X-MICROSOFT-CDO-IMPORTANCE:1
END:VEVENT
BEGIN:VEVENT
UID:ga5aj@games.golnetwork.com
LOCATION:Central Tech - Field 1
GEO:43.6637272;-79.4087613
CREATED:20161231T024106Z
DTSTART:20170120T040000Z
DTEND:20170120T045000Z
DTSTAMP:20260422T114649Z
SUMMARY:Papa Barone & the Good Time Gang vs. Chimichurris
DESCRIPTION:Chimichurris vs. Papa Barone & the Good Time GangMore info: #13
	2
X-ALT-DESC;FMTTYPE=text/html:<!DOCTYPE HTML PUBLIC "-//W3C//DTD HTML 3.2//E
	N">\n<HTML>\n<HEAD>\n<TITLE></TITLE>\n</HEAD>\n<BODY>\n<h3>Chimichurris vs.
	 Papa Barone & the Good Time Gang</h3>More info: <a href="https://www.golne
	twork.com/game/v/99383/">#132</a>\n\n</BODY>\n</HTML>
STATUS:CONFIRMED
CLASS:PUBLIC
URL:https://www.golnetwork.com/game/v/99383/
X-MICROSOFT-CDO-BUSYSTATUS:BUSY
X-MICROSOFT-CDO-IMPORTANCE:1
END:VEVENT
BEGIN:VEVENT
UID:ga5al@games.golnetwork.com
LOCATION:Central Tech - Field 1
GEO:43.6637272;-79.4087613
CREATED:20161231T024118Z
DTSTART:20170127T020000Z
DTEND:20170127T025000Z
DTSTAMP:20260422T114649Z
SUMMARY:Superbad FC vs. Chimichurris
DESCRIPTION:Chimichurris vs. Superbad FCMore info: #179
X-ALT-DESC;FMTTYPE=text/html:<!DOCTYPE HTML PUBLIC "-//W3C//DTD HTML 3.2//E
	N">\n<HTML>\n<HEAD>\n<TITLE></TITLE>\n</HEAD>\n<BODY>\n<h3>Chimichurris vs.
	 Superbad FC</h3>More info: <a href="https://www.golnetwork.com/game/v/9938
	4/">#179</a>\n\n</BODY>\n</HTML>
STATUS:CONFIRMED
CLASS:PUBLIC
URL:https://www.golnetwork.com/game/v/99384/
X-MICROSOFT-CDO-BUSYSTATUS:BUSY
X-MICROSOFT-CDO-IMPORTANCE:1
END:VEVENT
BEGIN:VEVENT
UID:ga5an@games.golnetwork.com
LOCATION:Central Tech - Field 1
GEO:43.6637272;-79.4087613
CREATED:20161231T024130Z
DTSTART:20170127T030000Z
DTEND:20170127T035000Z
DTSTAMP:20260422T114649Z
SUMMARY:Papa Barone & the Good Time Gang vs. All City FC
DESCRIPTION:All City FC vs. Papa Barone & the Good Time GangMore info: #182
X-ALT-DESC;FMTTYPE=text/html:<!DOCTYPE HTML PUBLIC "-//W3C//DTD HTML 3.2//E
	N">\n<HTML>\n<HEAD>\n<TITLE></TITLE>\n</HEAD>\n<BODY>\n<h3>All City FC vs. 
	Papa Barone & the Good Time Gang</h3>More info: <a href="https://www.golnet
	work.com/game/v/99385/">#182</a>\n\n</BODY>\n</HTML>
STATUS:CONFIRMED
CLASS:PUBLIC
URL:https://www.golnetwork.com/game/v/99385/
X-MICROSOFT-CDO-BUSYSTATUS:BUSY
X-MICROSOFT-CDO-IMPORTANCE:1
END:VEVENT
BEGIN:VEVENT
UID:ga5ap@games.golnetwork.com
LOCATION:Central Tech - Field 2
GEO:43.6637272;-79.4087613
CREATED:20161231T024140Z
DTSTART:20170127T030000Z
DTEND:20170127T035000Z
DTSTAMP:20260422T114649Z
SUMMARY:XTSC Loungers vs. Offsiders FC
DESCRIPTION:Offsiders FC vs. XTSC LoungersMore info: #183
X-ALT-DESC;FMTTYPE=text/html:<!DOCTYPE HTML PUBLIC "-//W3C//DTD HTML 3.2//E
	N">\n<HTML>\n<HEAD>\n<TITLE></TITLE>\n</HEAD>\n<BODY>\n<h3>Offsiders FC vs.
	 XTSC Loungers</h3>More info: <a href="https://www.golnetwork.com/game/v/99
	386/">#183</a>\n\n</BODY>\n</HTML>
STATUS:CONFIRMED
CLASS:PUBLIC
URL:https://www.golnetwork.com/game/v/99386/
X-MICROSOFT-CDO-BUSYSTATUS:BUSY
X-MICROSOFT-CDO-IMPORTANCE:1
END:VEVENT
BEGIN:VEVENT
UID:ga5b0@games.golnetwork.com
LOCATION:Central Tech - Field 1
GEO:43.6637272;-79.4087613
CREATED:20161231T024151Z
DTSTART:20170127T040000Z
DTEND:20170127T045000Z
DTSTAMP:20260422T114649Z
SUMMARY:Pathetic Athletic vs. Bonafide FC
DESCRIPTION:Bonafide FC vs. Pathetic AthleticMore info: #185
X-ALT-DESC;FMTTYPE=text/html:<!DOCTYPE HTML PUBLIC "-//W3C//DTD HTML 3.2//E
	N">\n<HTML>\n<HEAD>\n<TITLE></TITLE>\n</HEAD>\n<BODY>\n<h3>Bonafide FC vs. 
	Pathetic Athletic</h3>More info: <a href="https://www.golnetwork.com/game/v
	/99387/">#185</a>\n\n</BODY>\n</HTML>
STATUS:CONFIRMED
CLASS:PUBLIC
URL:https://www.golnetwork.com/game/v/99387/
X-MICROSOFT-CDO-BUSYSTATUS:BUSY
X-MICROSOFT-CDO-IMPORTANCE:1
END:VEVENT
BEGIN:VEVENT
UID:ga5b2@games.golnetwork.com
LOCATION:Central Tech - Field 1
GEO:43.6637272;-79.4087613
CREATED:20161231T024207Z
DTSTART:20170203T010000Z
DTEND:20170203T015000Z
DTSTAMP:20260422T114649Z
SUMMARY:XTSC Loungers vs. Chimichurris
DESCRIPTION:Chimichurris vs. XTSC LoungersMore info: #250
X-ALT-DESC;FMTTYPE=text/html:<!DOCTYPE HTML PUBLIC "-//W3C//DTD HTML 3.2//E
	N">\n<HTML>\n<HEAD>\n<TITLE></TITLE>\n</HEAD>\n<BODY>\n<h3>Chimichurris vs.
	 XTSC Loungers</h3>More info: <a href="https://www.golnetwork.com/game/v/99
	388/">#250</a>\n\n</BODY>\n</HTML>
STATUS:CONFIRMED
CLASS:PUBLIC
URL:https://www.golnetwork.com/game/v/99388/
X-MICROSOFT-CDO-BUSYSTATUS:BUSY
X-MICROSOFT-CDO-IMPORTANCE:1
END:VEVENT
BEGIN:VEVENT
UID:ga5b4@games.golnetwork.com
LOCATION:Central Tech - Field 1
GEO:43.6637272;-79.4087613
CREATED:20161231T024218Z
DTSTART:20170203T020000Z
DTEND:20170203T025000Z
DTSTAMP:20260422T114649Z
SUMMARY:Papa Barone & the Good Time Gang vs. Bonafide FC
DESCRIPTION:Bonafide FC vs. Papa Barone & the Good Time GangMore info: #252
X-ALT-DESC;FMTTYPE=text/html:<!DOCTYPE HTML PUBLIC "-//W3C//DTD HTML 3.2//E
	N">\n<HTML>\n<HEAD>\n<TITLE></TITLE>\n</HEAD>\n<BODY>\n<h3>Bonafide FC vs. 
	Papa Barone & the Good Time Gang</h3>More info: <a href="https://www.golnet
	work.com/game/v/99389/">#252</a>\n\n</BODY>\n</HTML>
STATUS:CONFIRMED
CLASS:PUBLIC
URL:https://www.golnetwork.com/game/v/99389/
X-MICROSOFT-CDO-BUSYSTATUS:BUSY
X-MICROSOFT-CDO-IMPORTANCE:1
END:VEVENT
BEGIN:VEVENT
UID:ga5b6@games.golnetwork.com
LOCATION:Central Tech - Field 1
GEO:43.6637272;-79.4087613
CREATED:20161231T024228Z
DTSTART:20170203T030000Z
DTEND:20170203T035000Z
DTSTAMP:20260422T114649Z
SUMMARY:Pathetic Athletic vs. All City FC
DESCRIPTION:All City FC vs. Pathetic AthleticMore info: #255
X-ALT-DESC;FMTTYPE=text/html:<!DOCTYPE HTML PUBLIC "-//W3C//DTD HTML 3.2//E
	N">\n<HTML>\n<HEAD>\n<TITLE></TITLE>\n</HEAD>\n<BODY>\n<h3>All City FC vs. 
	Pathetic Athletic</h3>More info: <a href="https://www.golnetwork.com/game/v
	/99390/">#255</a>\n\n</BODY>\n</HTML>
STATUS:CONFIRMED
CLASS:PUBLIC
URL:https://www.golnetwork.com/game/v/99390/
X-MICROSOFT-CDO-BUSYSTATUS:BUSY
X-MICROSOFT-CDO-IMPORTANCE:1
END:VEVENT
BEGIN:VEVENT
UID:ga5b8@games.golnetwork.com
LOCATION:Central Tech - Field 1
GEO:43.6637272;-79.4087613
CREATED:20161231T024241Z
DTSTART:20170203T040000Z
DTEND:20170203T045000Z
DTSTAMP:20260422T114649Z
SUMMARY:Superbad FC vs. Offsiders FC
DESCRIPTION:Offsiders FC vs. Superbad FCMore info: #258
X-ALT-DESC;FMTTYPE=text/html:<!DOCTYPE HTML PUBLIC "-//W3C//DTD HTML 3.2//E
	N">\n<HTML>\n<HEAD>\n<TITLE></TITLE>\n</HEAD>\n<BODY>\n<h3>Offsiders FC vs.
	 Superbad FC</h3>More info: <a href="https://www.golnetwork.com/game/v/9939
	1/">#258</a>\n\n</BODY>\n</HTML>
STATUS:CONFIRMED
CLASS:PUBLIC
URL:https://www.golnetwork.com/game/v/99391/
X-MICROSOFT-CDO-BUSYSTATUS:BUSY
X-MICROSOFT-CDO-IMPORTANCE:1
END:VEVENT
BEGIN:VEVENT
UID:ga5ba@games.golnetwork.com
LOCATION:Central Tech - Field 1
GEO:43.6637272;-79.4087613
CREATED:20161231T024253Z
DTSTART:20170210T020000Z
DTEND:20170210T025000Z
DTSTAMP:20260422T114649Z
SUMMARY:Offsiders FC vs. Bonafide FC
DESCRIPTION:Bonafide FC vs. Offsiders FCMore info: #333
X-ALT-DESC;FMTTYPE=text/html:<!DOCTYPE HTML PUBLIC "-//W3C//DTD HTML 3.2//E
	N">\n<HTML>\n<HEAD>\n<TITLE></TITLE>\n</HEAD>\n<BODY>\n<h3>Bonafide FC vs. 
	Offsiders FC</h3>More info: <a href="https://www.golnetwork.com/game/v/9939
	2/">#333</a>\n\n</BODY>\n</HTML>
STATUS:CONFIRMED
CLASS:PUBLIC
URL:https://www.golnetwork.com/game/v/99392/
X-MICROSOFT-CDO-BUSYSTATUS:BUSY
X-MICROSOFT-CDO-IMPORTANCE:1
END:VEVENT
BEGIN:VEVENT
UID:ga5bc@games.golnetwork.com
LOCATION:Central Tech - Field 1
GEO:43.6637272;-79.4087613
CREATED:20161231T024305Z
DTSTART:20170210T030000Z
DTEND:20170210T035000Z
DTSTAMP:20260422T114649Z
SUMMARY:Pathetic Athletic vs. Chimichurris
DESCRIPTION:Chimichurris vs. Pathetic AthleticMore info: #336
X-ALT-DESC;FMTTYPE=text/html:<!DOCTYPE HTML PUBLIC "-//W3C//DTD HTML 3.2//E
	N">\n<HTML>\n<HEAD>\n<TITLE></TITLE>\n</HEAD>\n<BODY>\n<h3>Chimichurris vs.
	 Pathetic Athletic</h3>More info: <a href="https://www.golnetwork.com/game/
	v/99393/">#336</a>\n\n</BODY>\n</HTML>
STATUS:CONFIRMED
CLASS:PUBLIC
URL:https://www.golnetwork.com/game/v/99393/
X-MICROSOFT-CDO-BUSYSTATUS:BUSY
X-MICROSOFT-CDO-IMPORTANCE:1
END:VEVENT
BEGIN:VEVENT
UID:ga5be@games.golnetwork.com
LOCATION:Central Tech - Field 2
GEO:43.6637272;-79.4087613
CREATED:20161231T024314Z
DTSTART:20170210T030000Z
DTEND:20170210T035000Z
DTSTAMP:20260422T114649Z
SUMMARY:Superbad FC vs. All City FC
DESCRIPTION:All City FC vs. Superbad FCMore info: #337
X-ALT-DESC;FMTTYPE=text/html:<!DOCTYPE HTML PUBLIC "-//W3C//DTD HTML 3.2//E
	N">\n<HTML>\n<HEAD>\n<TITLE></TITLE>\n</HEAD>\n<BODY>\n<h3>All City FC vs. 
	Superbad FC</h3>More info: <a href="https://www.golnetwork.com/game/v/99394
	/">#337</a>\n\n</BODY>\n</HTML>
STATUS:CONFIRMED
CLASS:PUBLIC
URL:https://www.golnetwork.com/game/v/99394/
X-MICROSOFT-CDO-BUSYSTATUS:BUSY
X-MICROSOFT-CDO-IMPORTANCE:1
END:VEVENT
BEGIN:VEVENT
UID:ga5bg@games.golnetwork.com
LOCATION:Central Tech - Field 1
GEO:43.6637272;-79.4087613
CREATED:20161231T024327Z
DTSTART:20170210T040000Z
DTEND:20170210T045000Z
DTSTAMP:20260422T114649Z
SUMMARY:XTSC Loungers vs. Papa Barone & the Good Time Gang
DESCRIPTION:Papa Barone & the Good Time Gang vs. XTSC LoungersMore info: #3
	39
X-ALT-DESC;FMTTYPE=text/html:<!DOCTYPE HTML PUBLIC "-//W3C//DTD HTML 3.2//E
	N">\n<HTML>\n<HEAD>\n<TITLE></TITLE>\n</HEAD>\n<BODY>\n<h3>Papa Barone & th
	e Good Time Gang vs. XTSC Loungers</h3>More info: <a href="https://www.goln
	etwork.com/game/v/99395/">#339</a>\n\n</BODY>\n</HTML>
STATUS:CONFIRMED
CLASS:PUBLIC
URL:https://www.golnetwork.com/game/v/99395/
X-MICROSOFT-CDO-BUSYSTATUS:BUSY
X-MICROSOFT-CDO-IMPORTANCE:1
END:VEVENT
BEGIN:VEVENT
UID:ga5bi@games.golnetwork.com
LOCATION:Central Tech - Field 1
GEO:43.6637272;-79.4087613
CREATED:20161231T024345Z
DTSTART:20170217T010000Z
DTEND:20170217T015000Z
DTSTAMP:20260422T114649Z
SUMMARY:Superbad FC vs. Papa Barone & the Good Time Gang
DESCRIPTION:Papa Barone & the Good Time Gang vs. Superbad FCMore info: #411
X-ALT-DESC;FMTTYPE=text/html:<!DOCTYPE HTML PUBLIC "-//W3C//DTD HTML 3.2//E
	N">\n<HTML>\n<HEAD>\n<TITLE></TITLE>\n</HEAD>\n<BODY>\n<h3>Papa Barone & th
	e Good Time Gang vs. Superbad FC</h3>More info: <a href="https://www.golnet
	work.com/game/v/99396/">#411</a>\n\n</BODY>\n</HTML>
STATUS:CONFIRMED
CLASS:PUBLIC
URL:https://www.golnetwork.com/game/v/99396/
X-MICROSOFT-CDO-BUSYSTATUS:BUSY
X-MICROSOFT-CDO-IMPORTANCE:1
END:VEVENT
BEGIN:VEVENT
UID:ga5bk@games.golnetwork.com
LOCATION:Central Tech - Field 1
GEO:43.6637272;-79.4087613
CREATED:20161231T024354Z
DTSTART:20170217T020000Z
DTEND:20170217T025000Z
DTSTAMP:20260422T114649Z
SUMMARY:XTSC Loungers vs. All City FC
DESCRIPTION:All City FC vs. XTSC LoungersMore info: #413
X-ALT-DESC;FMTTYPE=text/html:<!DOCTYPE HTML PUBLIC "-//W3C//DTD HTML 3.2//E
	N">\n<HTML>\n<HEAD>\n<TITLE></TITLE>\n</HEAD>\n<BODY>\n<h3>All City FC vs. 
	XTSC Loungers</h3>More info: <a href="https://www.golnetwork.com/game/v/993
	97/">#413</a>\n\n</BODY>\n</HTML>
STATUS:CONFIRMED
CLASS:PUBLIC
URL:https://www.golnetwork.com/game/v/99397/
X-MICROSOFT-CDO-BUSYSTATUS:BUSY
X-MICROSOFT-CDO-IMPORTANCE:1
END:VEVENT
BEGIN:VEVENT
UID:ga5bm@games.golnetwork.com
LOCATION:Central Tech - Field 1
GEO:43.6637272;-79.4087613
CREATED:20161231T024407Z
DTSTART:20170217T030000Z
DTEND:20170217T035000Z
DTSTAMP:20260422T114649Z
SUMMARY:Chimichurris vs. Bonafide FC
DESCRIPTION:Bonafide FC vs. ChimichurrisMore info: #417
X-ALT-DESC;FMTTYPE=text/html:<!DOCTYPE HTML PUBLIC "-//W3C//DTD HTML 3.2//E
	N">\n<HTML>\n<HEAD>\n<TITLE></TITLE>\n</HEAD>\n<BODY>\n<h3>Bonafide FC vs. 
	Chimichurris</h3>More info: <a href="https://www.golnetwork.com/game/v/9939
	8/">#417</a>\n\n</BODY>\n</HTML>
STATUS:CONFIRMED
CLASS:PUBLIC
URL:https://www.golnetwork.com/game/v/99398/
X-MICROSOFT-CDO-BUSYSTATUS:BUSY
X-MICROSOFT-CDO-IMPORTANCE:1
END:VEVENT
BEGIN:VEVENT
UID:ga5bo@games.golnetwork.com
LOCATION:Central Tech - Field 1
GEO:43.6637272;-79.4087613
CREATED:20161231T024416Z
DTSTART:20170217T040000Z
DTEND:20170217T045000Z
DTSTAMP:20260422T114649Z
SUMMARY:Pathetic Athletic vs. Offsiders FC
DESCRIPTION:Offsiders FC vs. Pathetic AthleticMore info: #420
X-ALT-DESC;FMTTYPE=text/html:<!DOCTYPE HTML PUBLIC "-//W3C//DTD HTML 3.2//E
	N">\n<HTML>\n<HEAD>\n<TITLE></TITLE>\n</HEAD>\n<BODY>\n<h3>Offsiders FC vs.
	 Pathetic Athletic</h3>More info: <a href="https://www.golnetwork.com/game/
	v/99399/">#420</a>\n\n</BODY>\n</HTML>
STATUS:CONFIRMED
CLASS:PUBLIC
URL:https://www.golnetwork.com/game/v/99399/
X-MICROSOFT-CDO-BUSYSTATUS:BUSY
X-MICROSOFT-CDO-IMPORTANCE:1
END:VEVENT
BEGIN:VEVENT
UID:ga5c1@games.golnetwork.com
LOCATION:Central Tech - Field 1
GEO:43.6637272;-79.4087613
CREATED:20161231T024435Z
DTSTART:20170224T030000Z
DTEND:20170224T035000Z
DTSTAMP:20260422T114649Z
SUMMARY:Superbad FC vs. Pathetic Athletic
DESCRIPTION:Pathetic Athletic vs. Superbad FCMore info: #466
X-ALT-DESC;FMTTYPE=text/html:<!DOCTYPE HTML PUBLIC "-//W3C//DTD HTML 3.2//E
	N">\n<HTML>\n<HEAD>\n<TITLE></TITLE>\n</HEAD>\n<BODY>\n<h3>Pathetic Athleti
	c vs. Superbad FC</h3>More info: <a href="https://www.golnetwork.com/game/v
	/99401/">#466</a>\n\n</BODY>\n</HTML>
STATUS:CONFIRMED
CLASS:PUBLIC
URL:https://www.golnetwork.com/game/v/99401/
X-MICROSOFT-CDO-BUSYSTATUS:BUSY
X-MICROSOFT-CDO-IMPORTANCE:1
END:VEVENT
BEGIN:VEVENT
UID:ga5bq@games.golnetwork.com
LOCATION:Central Tech - Field 1
GEO:43.6637272;-79.4087613
CREATED:20161231T024430Z
DTSTART:20170224T040000Z
DTEND:20170224T045000Z
DTSTAMP:20260422T114649Z
SUMMARY:XTSC Loungers vs. Bonafide FC
DESCRIPTION:Bonafide FC vs. XTSC LoungersMore info: #469
X-ALT-DESC;FMTTYPE=text/html:<!DOCTYPE HTML PUBLIC "-//W3C//DTD HTML 3.2//E
	N">\n<HTML>\n<HEAD>\n<TITLE></TITLE>\n</HEAD>\n<BODY>\n<h3>Bonafide FC vs. 
	XTSC Loungers</h3>More info: <a href="https://www.golnetwork.com/game/v/994
	00/">#469</a>\n\n</BODY>\n</HTML>
STATUS:CONFIRMED
CLASS:PUBLIC
URL:https://www.golnetwork.com/game/v/99400/
X-MICROSOFT-CDO-BUSYSTATUS:BUSY
X-MICROSOFT-CDO-IMPORTANCE:1
END:VEVENT
BEGIN:VEVENT
UID:ga5c3@games.golnetwork.com
LOCATION:Central Tech - Field 1
GEO:43.6637272;-79.4087613
CREATED:20161231T024452Z
DTSTART:20170303T010000Z
DTEND:20170303T015000Z
DTSTAMP:20260422T114649Z
SUMMARY:Pathetic Athletic vs. Bonafide FC
DESCRIPTION:Bonafide FC vs. Pathetic AthleticMore info: #538
X-ALT-DESC;FMTTYPE=text/html:<!DOCTYPE HTML PUBLIC "-//W3C//DTD HTML 3.2//E
	N">\n<HTML>\n<HEAD>\n<TITLE></TITLE>\n</HEAD>\n<BODY>\n<h3>Bonafide FC vs. 
	Pathetic Athletic</h3>More info: <a href="https://www.golnetwork.com/game/v
	/99402/">#538</a>\n\n</BODY>\n</HTML>
STATUS:CONFIRMED
CLASS:PUBLIC
URL:https://www.golnetwork.com/game/v/99402/
X-MICROSOFT-CDO-BUSYSTATUS:BUSY
X-MICROSOFT-CDO-IMPORTANCE:1
END:VEVENT
BEGIN:VEVENT
UID:ga5c5@games.golnetwork.com
LOCATION:Central Tech - Field 1
GEO:43.6637272;-79.4087613
CREATED:20161231T024456Z
DTSTART:20170303T030000Z
DTEND:20170303T035000Z
DTSTAMP:20260422T114649Z
SUMMARY:Papa Barone & the Good Time Gang vs. All City FC
DESCRIPTION:All City FC vs. Papa Barone & the Good Time GangMore info: #541
X-ALT-DESC;FMTTYPE=text/html:<!DOCTYPE HTML PUBLIC "-//W3C//DTD HTML 3.2//E
	N">\n<HTML>\n<HEAD>\n<TITLE></TITLE>\n</HEAD>\n<BODY>\n<h3>All City FC vs. 
	Papa Barone & the Good Time Gang</h3>More info: <a href="https://www.golnet
	work.com/game/v/99403/">#541</a>\n\n</BODY>\n</HTML>
STATUS:CONFIRMED
CLASS:PUBLIC
URL:https://www.golnetwork.com/game/v/99403/
X-MICROSOFT-CDO-BUSYSTATUS:BUSY
X-MICROSOFT-CDO-IMPORTANCE:1
END:VEVENT
BEGIN:VEVENT
UID:ga5c7@games.golnetwork.com
LOCATION:Central Tech - Field 1
GEO:43.6637272;-79.4087613
CREATED:20161231T024500Z
DTSTART:20170303T040000Z
DTEND:20170303T045000Z
DTSTAMP:20260422T114649Z
SUMMARY:XTSC Loungers vs. Superbad FC
DESCRIPTION:Superbad FC vs. XTSC LoungersMore info: #543
X-ALT-DESC;FMTTYPE=text/html:<!DOCTYPE HTML PUBLIC "-//W3C//DTD HTML 3.2//E
	N">\n<HTML>\n<HEAD>\n<TITLE></TITLE>\n</HEAD>\n<BODY>\n<h3>Superbad FC vs. 
	XTSC Loungers</h3>More info: <a href="https://www.golnetwork.com/game/v/994
	04/">#543</a>\n\n</BODY>\n</HTML>
STATUS:CONFIRMED
CLASS:PUBLIC
URL:https://www.golnetwork.com/game/v/99404/
X-MICROSOFT-CDO-BUSYSTATUS:BUSY
X-MICROSOFT-CDO-IMPORTANCE:1
END:VEVENT
END:VCALENDAR
