BEGIN:VCALENDAR
PRODID:-//gdesolutions.com//MV Framework 1.0.0.1607 Calendar//EN
VERSION:2.0
METHOD:PUBLISH
CALSCALE:GREGORIAN
BEGIN:VEVENT
UID:ga6bp@games.golnetwork.com
LOCATION:Central Tech - Field 2
GEO:43.6637272;-79.4087613
CREATED:20170104T143350Z
DTSTART:20170108T210000Z
DTEND:20170108T215000Z
DTSTAMP:20260422T171615Z
SUMMARY:Team Nice Friends vs. XTSC Jogo Bonito
DESCRIPTION:XTSC Jogo Bonito vs. Team Nice FriendsMore info: #41
X-ALT-DESC;FMTTYPE=text/html:<!DOCTYPE HTML PUBLIC "-//W3C//DTD HTML 3.2//E
	N">\n<HTML>\n<HEAD>\n<TITLE></TITLE>\n</HEAD>\n<BODY>\n<h3>XTSC Jogo Bonito
	 vs. Team Nice Friends</h3>More info: <a href="https://www.golnetwork.com/g
	ame/v/99764/">#41</a>\n\n</BODY>\n</HTML>
STATUS:CONFIRMED
CLASS:PUBLIC
URL:https://www.golnetwork.com/game/v/99764/
X-MICROSOFT-CDO-BUSYSTATUS:BUSY
X-MICROSOFT-CDO-IMPORTANCE:1
END:VEVENT
BEGIN:VEVENT
UID:ga6c0@games.golnetwork.com
LOCATION:Central Tech - Field 2
GEO:43.6637272;-79.4087613
CREATED:20170104T143358Z
DTSTART:20170108T220000Z
DTEND:20170108T225000Z
DTSTAMP:20260422T171615Z
SUMMARY:Team Nice Friends vs.  Hangover 96
DESCRIPTION: Hangover 96 vs. Team Nice FriendsMore info: #43
X-ALT-DESC;FMTTYPE=text/html:<!DOCTYPE HTML PUBLIC "-//W3C//DTD HTML 3.2//E
	N">\n<HTML>\n<HEAD>\n<TITLE></TITLE>\n</HEAD>\n<BODY>\n<h3> Hangover 96 vs.
	 Team Nice Friends</h3>More info: <a href="https://www.golnetwork.com/game/
	v/99765/">#43</a>\n\n</BODY>\n</HTML>
STATUS:CONFIRMED
CLASS:PUBLIC
URL:https://www.golnetwork.com/game/v/99765/
X-MICROSOFT-CDO-BUSYSTATUS:BUSY
X-MICROSOFT-CDO-IMPORTANCE:1
END:VEVENT
BEGIN:VEVENT
UID:ga6c2@games.golnetwork.com
LOCATION:Central Tech - Field 2
GEO:43.6637272;-79.4087613
CREATED:20170104T143407Z
DTSTART:20170108T230000Z
DTEND:20170108T235000Z
DTSTAMP:20260422T171615Z
SUMMARY:Ballin' Munich vs. Wolf Dick PI
DESCRIPTION:Wolf Dick PI vs. Ballin' MunichMore info: #45
X-ALT-DESC;FMTTYPE=text/html:<!DOCTYPE HTML PUBLIC "-//W3C//DTD HTML 3.2//E
	N">\n<HTML>\n<HEAD>\n<TITLE></TITLE>\n</HEAD>\n<BODY>\n<h3>Wolf Dick PI vs.
	 Ballin' Munich</h3>More info: <a href="https://www.golnetwork.com/game/v/9
	9766/">#45</a>\n\n</BODY>\n</HTML>
STATUS:CONFIRMED
CLASS:PUBLIC
URL:https://www.golnetwork.com/game/v/99766/
X-MICROSOFT-CDO-BUSYSTATUS:BUSY
X-MICROSOFT-CDO-IMPORTANCE:1
END:VEVENT
BEGIN:VEVENT
UID:ga6c4@games.golnetwork.com
LOCATION:Central Tech - Field 2
GEO:43.6637272;-79.4087613
CREATED:20170104T143419Z
DTSTART:20170115T210000Z
DTEND:20170115T215000Z
DTSTAMP:20260422T171615Z
SUMMARY: Hangover 96 vs. XTSC Jogo Bonito
DESCRIPTION:XTSC Jogo Bonito vs.  Hangover 96More info: #89
X-ALT-DESC;FMTTYPE=text/html:<!DOCTYPE HTML PUBLIC "-//W3C//DTD HTML 3.2//E
	N">\n<HTML>\n<HEAD>\n<TITLE></TITLE>\n</HEAD>\n<BODY>\n<h3>XTSC Jogo Bonito
	 vs.  Hangover 96</h3>More info: <a href="https://www.golnetwork.com/game/v
	/99767/">#89</a>\n\n</BODY>\n</HTML>
STATUS:CONFIRMED
CLASS:PUBLIC
URL:https://www.golnetwork.com/game/v/99767/
X-MICROSOFT-CDO-BUSYSTATUS:BUSY
X-MICROSOFT-CDO-IMPORTANCE:1
END:VEVENT
BEGIN:VEVENT
UID:ga6c6@games.golnetwork.com
LOCATION:Central Tech - Field 2
GEO:43.6637272;-79.4087613
CREATED:20170104T143427Z
DTSTART:20170115T220000Z
DTEND:20170115T225000Z
DTSTAMP:20260422T171615Z
SUMMARY:Ballin' Munich vs. XTSC Jogo Bonito
DESCRIPTION:XTSC Jogo Bonito vs. Ballin' MunichMore info: #91
X-ALT-DESC;FMTTYPE=text/html:<!DOCTYPE HTML PUBLIC "-//W3C//DTD HTML 3.2//E
	N">\n<HTML>\n<HEAD>\n<TITLE></TITLE>\n</HEAD>\n<BODY>\n<h3>XTSC Jogo Bonito
	 vs. Ballin' Munich</h3>More info: <a href="https://www.golnetwork.com/game
	/v/99768/">#91</a>\n\n</BODY>\n</HTML>
STATUS:CONFIRMED
CLASS:PUBLIC
URL:https://www.golnetwork.com/game/v/99768/
X-MICROSOFT-CDO-BUSYSTATUS:BUSY
X-MICROSOFT-CDO-IMPORTANCE:1
END:VEVENT
BEGIN:VEVENT
UID:ga6c8@games.golnetwork.com
LOCATION:Central Tech - Field 2
GEO:43.6637272;-79.4087613
CREATED:20170104T143439Z
DTSTART:20170115T230000Z
DTEND:20170115T235000Z
DTSTAMP:20260422T171615Z
SUMMARY:Team Nice Friends vs. Wolf Dick PI
DESCRIPTION:Wolf Dick PI vs. Team Nice FriendsMore info: #93
X-ALT-DESC;FMTTYPE=text/html:<!DOCTYPE HTML PUBLIC "-//W3C//DTD HTML 3.2//E
	N">\n<HTML>\n<HEAD>\n<TITLE></TITLE>\n</HEAD>\n<BODY>\n<h3>Wolf Dick PI vs.
	 Team Nice Friends</h3>More info: <a href="https://www.golnetwork.com/game/
	v/99769/">#93</a>\n\n</BODY>\n</HTML>
STATUS:CONFIRMED
CLASS:PUBLIC
URL:https://www.golnetwork.com/game/v/99769/
X-MICROSOFT-CDO-BUSYSTATUS:BUSY
X-MICROSOFT-CDO-IMPORTANCE:1
END:VEVENT
BEGIN:VEVENT
UID:ga6ca@games.golnetwork.com
LOCATION:Central Tech - Field 2
GEO:43.6637272;-79.4087613
CREATED:20170104T143459Z
DTSTART:20170122T210000Z
DTEND:20170122T215000Z
DTSTAMP:20260422T171615Z
SUMMARY: Hangover 96 vs. Wolf Dick PI
DESCRIPTION:Wolf Dick PI vs.  Hangover 96More info: #139
X-ALT-DESC;FMTTYPE=text/html:<!DOCTYPE HTML PUBLIC "-//W3C//DTD HTML 3.2//E
	N">\n<HTML>\n<HEAD>\n<TITLE></TITLE>\n</HEAD>\n<BODY>\n<h3>Wolf Dick PI vs.
	  Hangover 96</h3>More info: <a href="https://www.golnetwork.com/game/v/997
	70/">#139</a>\n\n</BODY>\n</HTML>
STATUS:CONFIRMED
CLASS:PUBLIC
URL:https://www.golnetwork.com/game/v/99770/
X-MICROSOFT-CDO-BUSYSTATUS:BUSY
X-MICROSOFT-CDO-IMPORTANCE:1
END:VEVENT
BEGIN:VEVENT
UID:ga6cc@games.golnetwork.com
LOCATION:Central Tech - Field 2
GEO:43.6637272;-79.4087613
CREATED:20170104T143508Z
DTSTART:20170122T220000Z
DTEND:20170122T225000Z
DTSTAMP:20260422T171615Z
SUMMARY:XTSC Jogo Bonito vs. Wolf Dick PI
DESCRIPTION:Wolf Dick PI vs. XTSC Jogo BonitoMore info: #141
X-ALT-DESC;FMTTYPE=text/html:<!DOCTYPE HTML PUBLIC "-//W3C//DTD HTML 3.2//E
	N">\n<HTML>\n<HEAD>\n<TITLE></TITLE>\n</HEAD>\n<BODY>\n<h3>Wolf Dick PI vs.
	 XTSC Jogo Bonito</h3>More info: <a href="https://www.golnetwork.com/game/v
	/99771/">#141</a>\n\n</BODY>\n</HTML>
STATUS:CONFIRMED
CLASS:PUBLIC
URL:https://www.golnetwork.com/game/v/99771/
X-MICROSOFT-CDO-BUSYSTATUS:BUSY
X-MICROSOFT-CDO-IMPORTANCE:1
END:VEVENT
BEGIN:VEVENT
UID:ga6ce@games.golnetwork.com
LOCATION:Central Tech - Field 2
GEO:43.6637272;-79.4087613
CREATED:20170104T143517Z
DTSTART:20170122T230000Z
DTEND:20170122T235000Z
DTSTAMP:20260422T171615Z
SUMMARY:Ballin' Munich vs. Team Nice Friends
DESCRIPTION:Team Nice Friends vs. Ballin' MunichMore info: #143
X-ALT-DESC;FMTTYPE=text/html:<!DOCTYPE HTML PUBLIC "-//W3C//DTD HTML 3.2//E
	N">\n<HTML>\n<HEAD>\n<TITLE></TITLE>\n</HEAD>\n<BODY>\n<h3>Team Nice Friend
	s vs. Ballin' Munich</h3>More info: <a href="https://www.golnetwork.com/gam
	e/v/99772/">#143</a>\n\n</BODY>\n</HTML>
STATUS:CONFIRMED
CLASS:PUBLIC
URL:https://www.golnetwork.com/game/v/99772/
X-MICROSOFT-CDO-BUSYSTATUS:BUSY
X-MICROSOFT-CDO-IMPORTANCE:1
END:VEVENT
BEGIN:VEVENT
UID:ga6cg@games.golnetwork.com
LOCATION:Central Tech - Field 2
GEO:43.6637272;-79.4087613
CREATED:20170104T143531Z
DTSTART:20170129T210000Z
DTEND:20170129T215000Z
DTSTAMP:20260422T171615Z
SUMMARY:Wolf Dick PI vs. Ballin' Munich
DESCRIPTION:Ballin' Munich vs. Wolf Dick PIMore info: #202
X-ALT-DESC;FMTTYPE=text/html:<!DOCTYPE HTML PUBLIC "-//W3C//DTD HTML 3.2//E
	N">\n<HTML>\n<HEAD>\n<TITLE></TITLE>\n</HEAD>\n<BODY>\n<h3>Ballin' Munich v
	s. Wolf Dick PI</h3>More info: <a href="https://www.golnetwork.com/game/v/9
	9773/">#202</a>\n\n</BODY>\n</HTML>
STATUS:CONFIRMED
CLASS:PUBLIC
URL:https://www.golnetwork.com/game/v/99773/
X-MICROSOFT-CDO-BUSYSTATUS:BUSY
X-MICROSOFT-CDO-IMPORTANCE:1
END:VEVENT
BEGIN:VEVENT
UID:ga6ci@games.golnetwork.com
LOCATION:Central Tech - Field 2
GEO:43.6637272;-79.4087613
CREATED:20170104T143539Z
DTSTART:20170129T220000Z
DTEND:20170129T225000Z
DTSTAMP:20260422T171615Z
SUMMARY: Hangover 96 vs. Ballin' Munich
DESCRIPTION:Ballin' Munich vs.  Hangover 96More info: #204
X-ALT-DESC;FMTTYPE=text/html:<!DOCTYPE HTML PUBLIC "-//W3C//DTD HTML 3.2//E
	N">\n<HTML>\n<HEAD>\n<TITLE></TITLE>\n</HEAD>\n<BODY>\n<h3>Ballin' Munich v
	s.  Hangover 96</h3>More info: <a href="https://www.golnetwork.com/game/v/9
	9774/">#204</a>\n\n</BODY>\n</HTML>
STATUS:CONFIRMED
CLASS:PUBLIC
URL:https://www.golnetwork.com/game/v/99774/
X-MICROSOFT-CDO-BUSYSTATUS:BUSY
X-MICROSOFT-CDO-IMPORTANCE:1
END:VEVENT
BEGIN:VEVENT
UID:ga6ck@games.golnetwork.com
LOCATION:Central Tech - Field 2
GEO:43.6637272;-79.4087613
CREATED:20170104T143547Z
DTSTART:20170129T230000Z
DTEND:20170129T235000Z
DTSTAMP:20260422T171615Z
SUMMARY:XTSC Jogo Bonito vs. Team Nice Friends
DESCRIPTION:Team Nice Friends vs. XTSC Jogo BonitoMore info: #206
X-ALT-DESC;FMTTYPE=text/html:<!DOCTYPE HTML PUBLIC "-//W3C//DTD HTML 3.2//E
	N">\n<HTML>\n<HEAD>\n<TITLE></TITLE>\n</HEAD>\n<BODY>\n<h3>Team Nice Friend
	s vs. XTSC Jogo Bonito</h3>More info: <a href="https://www.golnetwork.com/g
	ame/v/99775/">#206</a>\n\n</BODY>\n</HTML>
STATUS:CONFIRMED
CLASS:PUBLIC
URL:https://www.golnetwork.com/game/v/99775/
X-MICROSOFT-CDO-BUSYSTATUS:BUSY
X-MICROSOFT-CDO-IMPORTANCE:1
END:VEVENT
BEGIN:VEVENT
UID:ga6cm@games.golnetwork.com
LOCATION:Central Tech - Field 2
GEO:43.6637272;-79.4087613
CREATED:20170104T143600Z
DTSTART:20170205T200000Z
DTEND:20170205T205000Z
DTSTAMP:20260422T171615Z
SUMMARY:Team Nice Friends vs. Ballin' Munich
DESCRIPTION:Ballin' Munich vs. Team Nice FriendsMore info: #283
X-ALT-DESC;FMTTYPE=text/html:<!DOCTYPE HTML PUBLIC "-//W3C//DTD HTML 3.2//E
	N">\n<HTML>\n<HEAD>\n<TITLE></TITLE>\n</HEAD>\n<BODY>\n<h3>Ballin' Munich v
	s. Team Nice Friends</h3>More info: <a href="https://www.golnetwork.com/gam
	e/v/99776/">#283</a>\n\n</BODY>\n</HTML>
STATUS:CONFIRMED
CLASS:PUBLIC
URL:https://www.golnetwork.com/game/v/99776/
X-MICROSOFT-CDO-BUSYSTATUS:BUSY
X-MICROSOFT-CDO-IMPORTANCE:1
END:VEVENT
BEGIN:VEVENT
UID:ga6co@games.golnetwork.com
LOCATION:Central Tech - Field 2
GEO:43.6637272;-79.4087613
CREATED:20170104T143610Z
DTSTART:20170205T210000Z
DTEND:20170205T215000Z
DTSTAMP:20260422T171615Z
SUMMARY: Hangover 96 vs. Wolf Dick PI
DESCRIPTION:Wolf Dick PI vs.  Hangover 96More info: #285
X-ALT-DESC;FMTTYPE=text/html:<!DOCTYPE HTML PUBLIC "-//W3C//DTD HTML 3.2//E
	N">\n<HTML>\n<HEAD>\n<TITLE></TITLE>\n</HEAD>\n<BODY>\n<h3>Wolf Dick PI vs.
	  Hangover 96</h3>More info: <a href="https://www.golnetwork.com/game/v/997
	77/">#285</a>\n\n</BODY>\n</HTML>
STATUS:CONFIRMED
CLASS:PUBLIC
URL:https://www.golnetwork.com/game/v/99777/
X-MICROSOFT-CDO-BUSYSTATUS:BUSY
X-MICROSOFT-CDO-IMPORTANCE:1
END:VEVENT
BEGIN:VEVENT
UID:ga6cq@games.golnetwork.com
LOCATION:Central Tech - Field 2
GEO:43.6637272;-79.4087613
CREATED:20170104T143618Z
DTSTART:20170205T220000Z
DTEND:20170205T225000Z
DTSTAMP:20260422T171615Z
SUMMARY: Hangover 96 vs. XTSC Jogo Bonito
DESCRIPTION:XTSC Jogo Bonito vs.  Hangover 96More info: #287
X-ALT-DESC;FMTTYPE=text/html:<!DOCTYPE HTML PUBLIC "-//W3C//DTD HTML 3.2//E
	N">\n<HTML>\n<HEAD>\n<TITLE></TITLE>\n</HEAD>\n<BODY>\n<h3>XTSC Jogo Bonito
	 vs.  Hangover 96</h3>More info: <a href="https://www.golnetwork.com/game/v
	/99778/">#287</a>\n\n</BODY>\n</HTML>
STATUS:CONFIRMED
CLASS:PUBLIC
URL:https://www.golnetwork.com/game/v/99778/
X-MICROSOFT-CDO-BUSYSTATUS:BUSY
X-MICROSOFT-CDO-IMPORTANCE:1
END:VEVENT
BEGIN:VEVENT
UID:ga6d1@games.golnetwork.com
LOCATION:Central Tech - Field 2
GEO:43.6637272;-79.4087613
CREATED:20170104T143632Z
DTSTART:20170212T210000Z
DTEND:20170212T215000Z
DTSTAMP:20260422T171615Z
SUMMARY:Team Nice Friends vs.  Hangover 96
DESCRIPTION: Hangover 96 vs. Team Nice FriendsMore info: #364
X-ALT-DESC;FMTTYPE=text/html:<!DOCTYPE HTML PUBLIC "-//W3C//DTD HTML 3.2//E
	N">\n<HTML>\n<HEAD>\n<TITLE></TITLE>\n</HEAD>\n<BODY>\n<h3> Hangover 96 vs.
	 Team Nice Friends</h3>More info: <a href="https://www.golnetwork.com/game/
	v/99779/">#364</a>\n\n</BODY>\n</HTML>
STATUS:CONFIRMED
CLASS:PUBLIC
URL:https://www.golnetwork.com/game/v/99779/
X-MICROSOFT-CDO-BUSYSTATUS:BUSY
X-MICROSOFT-CDO-IMPORTANCE:1
END:VEVENT
BEGIN:VEVENT
UID:ga6d3@games.golnetwork.com
LOCATION:Central Tech - Field 2
GEO:43.6637272;-79.4087613
CREATED:20170104T143645Z
DTSTART:20170212T220000Z
DTEND:20170212T225000Z
DTSTAMP:20260422T171615Z
SUMMARY:Team Nice Friends vs. Wolf Dick PI
DESCRIPTION:Wolf Dick PI vs. Team Nice FriendsMore info: #366
X-ALT-DESC;FMTTYPE=text/html:<!DOCTYPE HTML PUBLIC "-//W3C//DTD HTML 3.2//E
	N">\n<HTML>\n<HEAD>\n<TITLE></TITLE>\n</HEAD>\n<BODY>\n<h3>Wolf Dick PI vs.
	 Team Nice Friends</h3>More info: <a href="https://www.golnetwork.com/game/
	v/99780/">#366</a>\n\n</BODY>\n</HTML>
STATUS:CONFIRMED
CLASS:PUBLIC
URL:https://www.golnetwork.com/game/v/99780/
X-MICROSOFT-CDO-BUSYSTATUS:BUSY
X-MICROSOFT-CDO-IMPORTANCE:1
END:VEVENT
BEGIN:VEVENT
UID:ga6d5@games.golnetwork.com
LOCATION:Central Tech - Field 2
GEO:43.6637272;-79.4087613
CREATED:20170104T143656Z
DTSTART:20170212T230000Z
DTEND:20170212T235000Z
DTSTAMP:20260422T171615Z
SUMMARY:Ballin' Munich vs. XTSC Jogo Bonito
DESCRIPTION:XTSC Jogo Bonito vs. Ballin' MunichMore info: #368
X-ALT-DESC;FMTTYPE=text/html:<!DOCTYPE HTML PUBLIC "-//W3C//DTD HTML 3.2//E
	N">\n<HTML>\n<HEAD>\n<TITLE></TITLE>\n</HEAD>\n<BODY>\n<h3>XTSC Jogo Bonito
	 vs. Ballin' Munich</h3>More info: <a href="https://www.golnetwork.com/game
	/v/99781/">#368</a>\n\n</BODY>\n</HTML>
STATUS:CONFIRMED
CLASS:PUBLIC
URL:https://www.golnetwork.com/game/v/99781/
X-MICROSOFT-CDO-BUSYSTATUS:BUSY
X-MICROSOFT-CDO-IMPORTANCE:1
END:VEVENT
BEGIN:VEVENT
UID:ga6d7@games.golnetwork.com
LOCATION:Central Tech - Field 2
GEO:43.6637272;-79.4087613
CREATED:20170104T143706Z
DTSTART:20170226T230000Z
DTEND:20170226T235000Z
DTSTAMP:20260422T171615Z
SUMMARY:Ballin' Munich vs.  Hangover 96
DESCRIPTION: Hangover 96 vs. Ballin' MunichMore info: #498
X-ALT-DESC;FMTTYPE=text/html:<!DOCTYPE HTML PUBLIC "-//W3C//DTD HTML 3.2//E
	N">\n<HTML>\n<HEAD>\n<TITLE></TITLE>\n</HEAD>\n<BODY>\n<h3> Hangover 96 vs.
	 Ballin' Munich</h3>More info: <a href="https://www.golnetwork.com/game/v/9
	9782/">#498</a>\n\n</BODY>\n</HTML>
STATUS:CONFIRMED
CLASS:PUBLIC
URL:https://www.golnetwork.com/game/v/99782/
X-MICROSOFT-CDO-BUSYSTATUS:BUSY
X-MICROSOFT-CDO-IMPORTANCE:1
END:VEVENT
BEGIN:VEVENT
UID:ga6db@games.golnetwork.com
LOCATION:Central Tech - Field 2
GEO:43.6637272;-79.4087613
CREATED:20170104T143719Z
DTSTART:20170305T220000Z
DTEND:20170305T225000Z
DTSTAMP:20260422T171615Z
SUMMARY:XTSC Jogo Bonito vs. Wolf Dick PI
DESCRIPTION:Wolf Dick PI vs. XTSC Jogo BonitoMore info: #569
X-ALT-DESC;FMTTYPE=text/html:<!DOCTYPE HTML PUBLIC "-//W3C//DTD HTML 3.2//E
	N">\n<HTML>\n<HEAD>\n<TITLE></TITLE>\n</HEAD>\n<BODY>\n<h3>Wolf Dick PI vs.
	 XTSC Jogo Bonito</h3>More info: <a href="https://www.golnetwork.com/game/v
	/99784/">#569</a>\n\n</BODY>\n</HTML>
STATUS:CONFIRMED
CLASS:PUBLIC
URL:https://www.golnetwork.com/game/v/99784/
X-MICROSOFT-CDO-BUSYSTATUS:BUSY
X-MICROSOFT-CDO-IMPORTANCE:1
END:VEVENT
BEGIN:VEVENT
UID:ga6d9@games.golnetwork.com
LOCATION:Central Tech - Field 2
GEO:43.6637272;-79.4087613
CREATED:20170104T143715Z
DTSTART:20170305T230000Z
DTEND:20170305T235000Z
DTSTAMP:20260422T171615Z
SUMMARY:Ballin' Munich vs. Wolf Dick PI
DESCRIPTION:Wolf Dick PI vs. Ballin' MunichMore info: #571
X-ALT-DESC;FMTTYPE=text/html:<!DOCTYPE HTML PUBLIC "-//W3C//DTD HTML 3.2//E
	N">\n<HTML>\n<HEAD>\n<TITLE></TITLE>\n</HEAD>\n<BODY>\n<h3>Wolf Dick PI vs.
	 Ballin' Munich</h3>More info: <a href="https://www.golnetwork.com/game/v/9
	9783/">#571</a>\n\n</BODY>\n</HTML>
STATUS:CONFIRMED
CLASS:PUBLIC
URL:https://www.golnetwork.com/game/v/99783/
X-MICROSOFT-CDO-BUSYSTATUS:BUSY
X-MICROSOFT-CDO-IMPORTANCE:1
END:VEVENT
END:VCALENDAR
