BEGIN:VCALENDAR
PRODID:-//gdesolutions.com//MV Framework 1.0.0.1607 Calendar//EN
VERSION:2.0
METHOD:PUBLISH
CALSCALE:GREGORIAN
BEGIN:VEVENT
UID:ga74b@games.golnetwork.com
LOCATION:Central Tech - Field 1
GEO:43.6637272;-79.4087613
CREATED:20170110T173504Z
DTSTART:20170116T010000Z
DTEND:20170116T015000Z
DTSTAMP:20260420T020305Z
SUMMARY:BVB Honeybees vs. Leave My Arselona
DESCRIPTION:Leave My Arselona vs. BVB HoneybeesMore info: #94
X-ALT-DESC;FMTTYPE=text/html:<!DOCTYPE HTML PUBLIC "-//W3C//DTD HTML 3.2//E
	N">\n<HTML>\n<HEAD>\n<TITLE></TITLE>\n</HEAD>\n<BODY>\n<h3>Leave My Arselon
	a vs. BVB Honeybees</h3>More info: <a href="https://www.golnetwork.com/game
	/v/100027/">#94</a>\n\n</BODY>\n</HTML>
STATUS:CONFIRMED
CLASS:PUBLIC
URL:https://www.golnetwork.com/game/v/100027/
X-MICROSOFT-CDO-BUSYSTATUS:BUSY
X-MICROSOFT-CDO-IMPORTANCE:1
END:VEVENT
BEGIN:VEVENT
UID:ga74d@games.golnetwork.com
LOCATION:Central Tech - Field 1
GEO:43.6637272;-79.4087613
CREATED:20170110T173514Z
DTSTART:20170116T020000Z
DTEND:20170116T025000Z
DTSTAMP:20260420T020305Z
SUMMARY:Space JAM vs. Hedgie FC
DESCRIPTION:Hedgie FC vs. Space JAMMore info: #96
X-ALT-DESC;FMTTYPE=text/html:<!DOCTYPE HTML PUBLIC "-//W3C//DTD HTML 3.2//E
	N">\n<HTML>\n<HEAD>\n<TITLE></TITLE>\n</HEAD>\n<BODY>\n<h3>Hedgie FC vs. Sp
	ace JAM</h3>More info: <a href="https://www.golnetwork.com/game/v/100028/">
	#96</a>\n\n</BODY>\n</HTML>
STATUS:CONFIRMED
CLASS:PUBLIC
URL:https://www.golnetwork.com/game/v/100028/
X-MICROSOFT-CDO-BUSYSTATUS:BUSY
X-MICROSOFT-CDO-IMPORTANCE:1
END:VEVENT
BEGIN:VEVENT
UID:ga74j@games.golnetwork.com
LOCATION:Central Tech - Field 1
GEO:43.6637272;-79.4087613
CREATED:20170110T173547Z
DTSTART:20170123T010000Z
DTEND:20170123T015000Z
DTSTAMP:20260420T020305Z
SUMMARY:Hedgie FC vs. Leave My Arselona
DESCRIPTION:Leave My Arselona vs. Hedgie FCMore info: #145
X-ALT-DESC;FMTTYPE=text/html:<!DOCTYPE HTML PUBLIC "-//W3C//DTD HTML 3.2//E
	N">\n<HTML>\n<HEAD>\n<TITLE></TITLE>\n</HEAD>\n<BODY>\n<h3>Leave My Arselon
	a vs. Hedgie FC</h3>More info: <a href="https://www.golnetwork.com/game/v/1
	00031/">#145</a>\n\n</BODY>\n</HTML>
STATUS:CONFIRMED
CLASS:PUBLIC
URL:https://www.golnetwork.com/game/v/100031/
X-MICROSOFT-CDO-BUSYSTATUS:BUSY
X-MICROSOFT-CDO-IMPORTANCE:1
END:VEVENT
BEGIN:VEVENT
UID:ga74h@games.golnetwork.com
LOCATION:Central Tech - Field 1
GEO:43.6637272;-79.4087613
CREATED:20170110T173538Z
DTSTART:20170123T020000Z
DTEND:20170123T025000Z
DTSTAMP:20260420T020305Z
SUMMARY:Space JAM vs. Leave My Arselona
DESCRIPTION:Leave My Arselona vs. Space JAMMore info: #146
X-ALT-DESC;FMTTYPE=text/html:<!DOCTYPE HTML PUBLIC "-//W3C//DTD HTML 3.2//E
	N">\n<HTML>\n<HEAD>\n<TITLE></TITLE>\n</HEAD>\n<BODY>\n<h3>Leave My Arselon
	a vs. Space JAM</h3>More info: <a href="https://www.golnetwork.com/game/v/1
	00030/">#146</a>\n\n</BODY>\n</HTML>
STATUS:CONFIRMED
CLASS:PUBLIC
URL:https://www.golnetwork.com/game/v/100030/
X-MICROSOFT-CDO-BUSYSTATUS:BUSY
X-MICROSOFT-CDO-IMPORTANCE:1
END:VEVENT
BEGIN:VEVENT
UID:ga74f@games.golnetwork.com
LOCATION:Central Tech - Field 1
GEO:43.6637272;-79.4087613
CREATED:20170110T173530Z
DTSTART:20170123T030000Z
DTEND:20170123T035000Z
DTSTAMP:20260420T020305Z
SUMMARY:Space JAM vs. BVB Honeybees
DESCRIPTION:BVB Honeybees vs. Space JAMMore info: #148
X-ALT-DESC;FMTTYPE=text/html:<!DOCTYPE HTML PUBLIC "-//W3C//DTD HTML 3.2//E
	N">\n<HTML>\n<HEAD>\n<TITLE></TITLE>\n</HEAD>\n<BODY>\n<h3>BVB Honeybees vs
	. Space JAM</h3>More info: <a href="https://www.golnetwork.com/game/v/10002
	9/">#148</a>\n\n</BODY>\n</HTML>
STATUS:CONFIRMED
CLASS:PUBLIC
URL:https://www.golnetwork.com/game/v/100029/
X-MICROSOFT-CDO-BUSYSTATUS:BUSY
X-MICROSOFT-CDO-IMPORTANCE:1
END:VEVENT
BEGIN:VEVENT
UID:ga74l@games.golnetwork.com
LOCATION:Central Tech - Field 1
GEO:43.6637272;-79.4087613
CREATED:20170110T175203Z
DTSTART:20170130T010000Z
DTEND:20170130T015000Z
DTSTAMP:20260420T020305Z
SUMMARY:Space JAM vs. Hedgie FC
DESCRIPTION:Hedgie FC vs. Space JAMMore info: #208
X-ALT-DESC;FMTTYPE=text/html:<!DOCTYPE HTML PUBLIC "-//W3C//DTD HTML 3.2//E
	N">\n<HTML>\n<HEAD>\n<TITLE></TITLE>\n</HEAD>\n<BODY>\n<h3>Hedgie FC vs. Sp
	ace JAM</h3>More info: <a href="https://www.golnetwork.com/game/v/100032/">
	#208</a>\n\n</BODY>\n</HTML>
STATUS:CONFIRMED
CLASS:PUBLIC
URL:https://www.golnetwork.com/game/v/100032/
X-MICROSOFT-CDO-BUSYSTATUS:BUSY
X-MICROSOFT-CDO-IMPORTANCE:1
END:VEVENT
BEGIN:VEVENT
UID:ga74n@games.golnetwork.com
LOCATION:Central Tech - Field 1
GEO:43.6637272;-79.4087613
CREATED:20170110T175213Z
DTSTART:20170130T020000Z
DTEND:20170130T025000Z
DTSTAMP:20260420T020305Z
SUMMARY:BVB Honeybees vs. Hedgie FC
DESCRIPTION:Hedgie FC vs. BVB HoneybeesMore info: #210
X-ALT-DESC;FMTTYPE=text/html:<!DOCTYPE HTML PUBLIC "-//W3C//DTD HTML 3.2//E
	N">\n<HTML>\n<HEAD>\n<TITLE></TITLE>\n</HEAD>\n<BODY>\n<h3>Hedgie FC vs. BV
	B Honeybees</h3>More info: <a href="https://www.golnetwork.com/game/v/10003
	3/">#210</a>\n\n</BODY>\n</HTML>
STATUS:CONFIRMED
CLASS:PUBLIC
URL:https://www.golnetwork.com/game/v/100033/
X-MICROSOFT-CDO-BUSYSTATUS:BUSY
X-MICROSOFT-CDO-IMPORTANCE:1
END:VEVENT
BEGIN:VEVENT
UID:ga74p@games.golnetwork.com
LOCATION:Central Tech - Field 1
GEO:43.6637272;-79.4087613
CREATED:20170110T175221Z
DTSTART:20170130T030000Z
DTEND:20170130T035000Z
DTSTAMP:20260420T020305Z
SUMMARY:BVB Honeybees vs. Leave My Arselona
DESCRIPTION:Leave My Arselona vs. BVB HoneybeesMore info: #211
X-ALT-DESC;FMTTYPE=text/html:<!DOCTYPE HTML PUBLIC "-//W3C//DTD HTML 3.2//E
	N">\n<HTML>\n<HEAD>\n<TITLE></TITLE>\n</HEAD>\n<BODY>\n<h3>Leave My Arselon
	a vs. BVB Honeybees</h3>More info: <a href="https://www.golnetwork.com/game
	/v/100034/">#211</a>\n\n</BODY>\n</HTML>
STATUS:CONFIRMED
CLASS:PUBLIC
URL:https://www.golnetwork.com/game/v/100034/
X-MICROSOFT-CDO-BUSYSTATUS:BUSY
X-MICROSOFT-CDO-IMPORTANCE:1
END:VEVENT
BEGIN:VEVENT
UID:ga750@games.golnetwork.com
LOCATION:Central Tech - Field 1
GEO:43.6637272;-79.4087613
CREATED:20170110T175245Z
DTSTART:20170206T010000Z
DTEND:20170206T015000Z
DTSTAMP:20260420T020305Z
SUMMARY:Hedgie FC vs. Leave My Arselona
DESCRIPTION:Leave My Arselona vs. Hedgie FCMore info: #289
X-ALT-DESC;FMTTYPE=text/html:<!DOCTYPE HTML PUBLIC "-//W3C//DTD HTML 3.2//E
	N">\n<HTML>\n<HEAD>\n<TITLE></TITLE>\n</HEAD>\n<BODY>\n<h3>Leave My Arselon
	a vs. Hedgie FC</h3>More info: <a href="https://www.golnetwork.com/game/v/1
	00035/">#289</a>\n\n</BODY>\n</HTML>
STATUS:CONFIRMED
CLASS:PUBLIC
URL:https://www.golnetwork.com/game/v/100035/
X-MICROSOFT-CDO-BUSYSTATUS:BUSY
X-MICROSOFT-CDO-IMPORTANCE:1
END:VEVENT
BEGIN:VEVENT
UID:ga752@games.golnetwork.com
LOCATION:Central Tech - Field 1
GEO:43.6637272;-79.4087613
CREATED:20170110T175303Z
DTSTART:20170206T020000Z
DTEND:20170206T025000Z
DTSTAMP:20260420T020305Z
SUMMARY:Space JAM vs. BVB Honeybees
DESCRIPTION:BVB Honeybees vs. Space JAMMore info: #291
X-ALT-DESC;FMTTYPE=text/html:<!DOCTYPE HTML PUBLIC "-//W3C//DTD HTML 3.2//E
	N">\n<HTML>\n<HEAD>\n<TITLE></TITLE>\n</HEAD>\n<BODY>\n<h3>BVB Honeybees vs
	. Space JAM</h3>More info: <a href="https://www.golnetwork.com/game/v/10003
	6/">#291</a>\n\n</BODY>\n</HTML>
STATUS:CONFIRMED
CLASS:PUBLIC
URL:https://www.golnetwork.com/game/v/100036/
X-MICROSOFT-CDO-BUSYSTATUS:BUSY
X-MICROSOFT-CDO-IMPORTANCE:1
END:VEVENT
BEGIN:VEVENT
UID:ga754@games.golnetwork.com
LOCATION:Central Tech - Field 1
GEO:43.6637272;-79.4087613
CREATED:20170110T175316Z
DTSTART:20170213T020000Z
DTEND:20170213T025000Z
DTSTAMP:20260420T020305Z
SUMMARY:BVB Honeybees vs. Hedgie FC
DESCRIPTION:Hedgie FC vs. BVB HoneybeesMore info: #369
X-ALT-DESC;FMTTYPE=text/html:<!DOCTYPE HTML PUBLIC "-//W3C//DTD HTML 3.2//E
	N">\n<HTML>\n<HEAD>\n<TITLE></TITLE>\n</HEAD>\n<BODY>\n<h3>Hedgie FC vs. BV
	B Honeybees</h3>More info: <a href="https://www.golnetwork.com/game/v/10003
	7/">#369</a>\n\n</BODY>\n</HTML>
STATUS:CONFIRMED
CLASS:PUBLIC
URL:https://www.golnetwork.com/game/v/100037/
X-MICROSOFT-CDO-BUSYSTATUS:BUSY
X-MICROSOFT-CDO-IMPORTANCE:1
END:VEVENT
BEGIN:VEVENT
UID:ga756@games.golnetwork.com
LOCATION:Central Tech - Field 2
GEO:43.6637272;-79.4087613
CREATED:20170110T175326Z
DTSTART:20170213T030000Z
DTEND:20170213T035000Z
DTSTAMP:20260420T020305Z
SUMMARY:Space JAM vs. Leave My Arselona
DESCRIPTION:Leave My Arselona vs. Space JAMMore info: #370
X-ALT-DESC;FMTTYPE=text/html:<!DOCTYPE HTML PUBLIC "-//W3C//DTD HTML 3.2//E
	N">\n<HTML>\n<HEAD>\n<TITLE></TITLE>\n</HEAD>\n<BODY>\n<h3>Leave My Arselon
	a vs. Space JAM</h3>More info: <a href="https://www.golnetwork.com/game/v/1
	00038/">#370</a>\n\n</BODY>\n</HTML>
STATUS:CONFIRMED
CLASS:PUBLIC
URL:https://www.golnetwork.com/game/v/100038/
X-MICROSOFT-CDO-BUSYSTATUS:BUSY
X-MICROSOFT-CDO-IMPORTANCE:1
END:VEVENT
BEGIN:VEVENT
UID:ga758@games.golnetwork.com
LOCATION:Central Tech - Field 1
GEO:43.6637272;-79.4087613
CREATED:20170110T175341Z
DTSTART:20170227T010000Z
DTEND:20170227T015000Z
DTSTAMP:20260420T020305Z
SUMMARY:BVB Honeybees vs. Leave My Arselona
DESCRIPTION:Leave My Arselona vs. BVB HoneybeesMore info: #500
X-ALT-DESC;FMTTYPE=text/html:<!DOCTYPE HTML PUBLIC "-//W3C//DTD HTML 3.2//E
	N">\n<HTML>\n<HEAD>\n<TITLE></TITLE>\n</HEAD>\n<BODY>\n<h3>Leave My Arselon
	a vs. BVB Honeybees</h3>More info: <a href="https://www.golnetwork.com/game
	/v/100039/">#500</a>\n\n</BODY>\n</HTML>
STATUS:CONFIRMED
CLASS:PUBLIC
URL:https://www.golnetwork.com/game/v/100039/
X-MICROSOFT-CDO-BUSYSTATUS:BUSY
X-MICROSOFT-CDO-IMPORTANCE:1
END:VEVENT
BEGIN:VEVENT
UID:ga75a@games.golnetwork.com
LOCATION:Central Tech - Field 1
GEO:43.6637272;-79.4087613
CREATED:20170110T175350Z
DTSTART:20170227T021500Z
DTEND:20170227T030500Z
DTSTAMP:20260420T020305Z
SUMMARY:Space JAM vs. Hedgie FC
DESCRIPTION:Hedgie FC vs. Space JAMMore info: #502
X-ALT-DESC;FMTTYPE=text/html:<!DOCTYPE HTML PUBLIC "-//W3C//DTD HTML 3.2//E
	N">\n<HTML>\n<HEAD>\n<TITLE></TITLE>\n</HEAD>\n<BODY>\n<h3>Hedgie FC vs. Sp
	ace JAM</h3>More info: <a href="https://www.golnetwork.com/game/v/100040/">
	#502</a>\n\n</BODY>\n</HTML>
STATUS:CONFIRMED
CLASS:PUBLIC
URL:https://www.golnetwork.com/game/v/100040/
X-MICROSOFT-CDO-BUSYSTATUS:BUSY
X-MICROSOFT-CDO-IMPORTANCE:1
END:VEVENT
BEGIN:VEVENT
UID:ga75c@games.golnetwork.com
LOCATION:Central Tech - Field 2
GEO:43.6637272;-79.4087613
CREATED:20170110T175401Z
DTSTART:20170313T011500Z
DTEND:20170313T020500Z
DTSTAMP:20260420T020305Z
SUMMARY:Leave My Arselona vs. Space JAM
DESCRIPTION:Space JAM vs. Leave My ArselonaMore info: #608
X-ALT-DESC;FMTTYPE=text/html:<!DOCTYPE HTML PUBLIC "-//W3C//DTD HTML 3.2//E
	N">\n<HTML>\n<HEAD>\n<TITLE></TITLE>\n</HEAD>\n<BODY>\n<h3>Space JAM vs. Le
	ave My Arselona</h3>More info: <a href="https://www.golnetwork.com/game/v/1
	00041/">#608</a>\n\n</BODY>\n</HTML>
STATUS:CONFIRMED
CLASS:PUBLIC
URL:https://www.golnetwork.com/game/v/100041/
X-MICROSOFT-CDO-BUSYSTATUS:BUSY
X-MICROSOFT-CDO-IMPORTANCE:1
END:VEVENT
END:VCALENDAR
