BEGIN:VCALENDAR
PRODID:-//gdesolutions.com//MV Framework 1.0.0.1607 Calendar//EN
VERSION:2.0
METHOD:PUBLISH
CALSCALE:GREGORIAN
BEGIN:VEVENT
UID:gack6@games.golnetwork.com
LOCATION:Lamport Stadium - Field 2
GEO:43.6390028;-79.4232104
CREATED:20170126T015412Z
DTSTART:20170405T010000Z
DTEND:20170405T015000Z
DTSTAMP:20260420T020255Z
SUMMARY:You Win Some You Booze Some vs. Goldfish Crackers FC
DESCRIPTION:Goldfish Crackers FC vs. You Win Some You Booze SomeMore info: 
	#703
X-ALT-DESC;FMTTYPE=text/html:<!DOCTYPE HTML PUBLIC "-//W3C//DTD HTML 3.2//E
	N">\n<HTML>\n<HEAD>\n<TITLE></TITLE>\n</HEAD>\n<BODY>\n<h3>Goldfish Cracker
	s FC vs. You Win Some You Booze Some</h3>More info: <a href="https://www.go
	lnetwork.com/game/v/102063/">#703</a>\n\n</BODY>\n</HTML>
STATUS:RESCHEDULED
CLASS:PUBLIC
URL:https://www.golnetwork.com/game/v/102063/
X-MICROSOFT-CDO-BUSYSTATUS:BUSY
X-MICROSOFT-CDO-IMPORTANCE:1
END:VEVENT
BEGIN:VEVENT
UID:gack8@games.golnetwork.com
LOCATION:Lamport Stadium - Field 2
GEO:43.6390028;-79.4232104
CREATED:20170126T015412Z
DTSTART:20170405T020000Z
DTEND:20170405T025000Z
DTSTAMP:20260420T020255Z
SUMMARY:XTSC Flyers vs. Radioactive Smurfs
DESCRIPTION:Radioactive Smurfs vs. XTSC FlyersMore info: #706
X-ALT-DESC;FMTTYPE=text/html:<!DOCTYPE HTML PUBLIC "-//W3C//DTD HTML 3.2//E
	N">\n<HTML>\n<HEAD>\n<TITLE></TITLE>\n</HEAD>\n<BODY>\n<h3>Radioactive Smur
	fs vs. XTSC Flyers</h3>More info: <a href="https://www.golnetwork.com/game/
	v/102064/">#706</a>\n\n</BODY>\n</HTML>
STATUS:RESCHEDULED
CLASS:PUBLIC
URL:https://www.golnetwork.com/game/v/102064/
X-MICROSOFT-CDO-BUSYSTATUS:BUSY
X-MICROSOFT-CDO-IMPORTANCE:1
END:VEVENT
BEGIN:VEVENT
UID:gai6m@games.golnetwork.com
LOCATION:Lamport Stadium - Field 2
GEO:43.6390028;-79.4232104
CREATED:20170405T222146Z
DTSTART:20170412T000000Z
DTEND:20170412T005000Z
DTSTAMP:20260420T020255Z
SUMMARY:You Win Some You Booze Some vs. Goldfish Crackers FC
DESCRIPTION:Goldfish Crackers FC vs. You Win Some You Booze SomeMore info: 
	R#703
X-ALT-DESC;FMTTYPE=text/html:<!DOCTYPE HTML PUBLIC "-//W3C//DTD HTML 3.2//E
	N">\n<HTML>\n<HEAD>\n<TITLE></TITLE>\n</HEAD>\n<BODY>\n<h3>Goldfish Cracker
	s FC vs. You Win Some You Booze Some</h3>More info: <a href="https://www.go
	lnetwork.com/game/v/104069/">R#703</a>\n\n</BODY>\n</HTML>
STATUS:CONFIRMED
CLASS:PUBLIC
URL:https://www.golnetwork.com/game/v/104069/
X-MICROSOFT-CDO-BUSYSTATUS:BUSY
X-MICROSOFT-CDO-IMPORTANCE:1
END:VEVENT
BEGIN:VEVENT
UID:gai6o@games.golnetwork.com
LOCATION:Lamport Stadium - Field 2
GEO:43.6390028;-79.4232104
CREATED:20170405T222205Z
DTSTART:20170412T010000Z
DTEND:20170412T015000Z
DTSTAMP:20260420T020255Z
SUMMARY:XTSC Flyers vs. Radioactive Smurfs
DESCRIPTION:Radioactive Smurfs vs. XTSC FlyersMore info: R#706
X-ALT-DESC;FMTTYPE=text/html:<!DOCTYPE HTML PUBLIC "-//W3C//DTD HTML 3.2//E
	N">\n<HTML>\n<HEAD>\n<TITLE></TITLE>\n</HEAD>\n<BODY>\n<h3>Radioactive Smur
	fs vs. XTSC Flyers</h3>More info: <a href="https://www.golnetwork.com/game/
	v/104070/">R#706</a>\n\n</BODY>\n</HTML>
STATUS:CONFIRMED
CLASS:PUBLIC
URL:https://www.golnetwork.com/game/v/104070/
X-MICROSOFT-CDO-BUSYSTATUS:BUSY
X-MICROSOFT-CDO-IMPORTANCE:1
END:VEVENT
BEGIN:VEVENT
UID:gacka@games.golnetwork.com
LOCATION:Lamport Stadium - Field 2
GEO:43.6390028;-79.4232104
CREATED:20170126T015412Z
DTSTART:20170419T010000Z
DTEND:20170419T015000Z
DTSTAMP:20260420T020255Z
SUMMARY:XTSC Flyers vs. Goldfish Crackers FC
DESCRIPTION:Goldfish Crackers FC vs. XTSC FlyersMore info: #745
X-ALT-DESC;FMTTYPE=text/html:<!DOCTYPE HTML PUBLIC "-//W3C//DTD HTML 3.2//E
	N">\n<HTML>\n<HEAD>\n<TITLE></TITLE>\n</HEAD>\n<BODY>\n<h3>Goldfish Cracker
	s FC vs. XTSC Flyers</h3>More info: <a href="https://www.golnetwork.com/gam
	e/v/102065/">#745</a>\n\n</BODY>\n</HTML>
STATUS:CONFIRMED
CLASS:PUBLIC
URL:https://www.golnetwork.com/game/v/102065/
X-MICROSOFT-CDO-BUSYSTATUS:BUSY
X-MICROSOFT-CDO-IMPORTANCE:1
END:VEVENT
END:VCALENDAR
