BEGIN:VCALENDAR
PRODID:-//gdesolutions.com//MV Framework 1.0.0.1607 Calendar//EN
VERSION:2.0
METHOD:PUBLISH
CALSCALE:GREGORIAN
BEGIN:VEVENT
UID:gafjc@games.golnetwork.com
LOCATION:Jesse Ketchum Public School
GEO:43.6730545;-79.3911034
CREATED:20170306T185317Z
DTSTART:20170508T223000Z
DTEND:20170508T233000Z
DTSTAMP:20260424T151914Z
SUMMARY:Almost Winners vs. Wilcox FC
DESCRIPTION:Wilcox FC vs. Almost WinnersMore info: #22
X-ALT-DESC;FMTTYPE=text/html:<!DOCTYPE HTML PUBLIC "-//W3C//DTD HTML 3.2//E
	N">\n<HTML>\n<HEAD>\n<TITLE></TITLE>\n</HEAD>\n<BODY>\n<h3>Wilcox FC vs. Al
	most Winners</h3>More info: <a href="https://www.golnetwork.com/game/v/1031
	46/">#22</a>\n\n</BODY>\n</HTML>
STATUS:CONFIRMED
CLASS:PUBLIC
URL:https://www.golnetwork.com/game/v/103146/
X-MICROSOFT-CDO-BUSYSTATUS:BUSY
X-MICROSOFT-CDO-IMPORTANCE:1
END:VEVENT
BEGIN:VEVENT
UID:gafja@games.golnetwork.com
LOCATION:Jesse Ketchum Public School
GEO:43.6730545;-79.3911034
CREATED:20170306T185317Z
DTSTART:20170509T003000Z
DTEND:20170509T013000Z
DTSTAMP:20260424T151914Z
SUMMARY:Squirtle Squad vs. ITRG
DESCRIPTION:ITRG vs. Squirtle SquadMore info: #24
X-ALT-DESC;FMTTYPE=text/html:<!DOCTYPE HTML PUBLIC "-//W3C//DTD HTML 3.2//E
	N">\n<HTML>\n<HEAD>\n<TITLE></TITLE>\n</HEAD>\n<BODY>\n<h3>ITRG vs. Squirtl
	e Squad</h3>More info: <a href="https://www.golnetwork.com/game/v/103145/">
	#24</a>\n\n</BODY>\n</HTML>
STATUS:CONFIRMED
CLASS:PUBLIC
URL:https://www.golnetwork.com/game/v/103145/
X-MICROSOFT-CDO-BUSYSTATUS:BUSY
X-MICROSOFT-CDO-IMPORTANCE:1
END:VEVENT
BEGIN:VEVENT
UID:gafje@games.golnetwork.com
LOCATION:Jesse Ketchum Public School
GEO:43.6730545;-79.3911034
CREATED:20170306T185317Z
DTSTART:20170515T223000Z
DTEND:20170515T233000Z
DTSTAMP:20260424T151914Z
SUMMARY:Wilcox FC vs. ITRG
DESCRIPTION:ITRG vs. Wilcox FCMore info: #25
X-ALT-DESC;FMTTYPE=text/html:<!DOCTYPE HTML PUBLIC "-//W3C//DTD HTML 3.2//E
	N">\n<HTML>\n<HEAD>\n<TITLE></TITLE>\n</HEAD>\n<BODY>\n<h3>ITRG vs. Wilcox 
	FC</h3>More info: <a href="https://www.golnetwork.com/game/v/103147/">#25</
	a>\n\n</BODY>\n</HTML>
STATUS:CONFIRMED
CLASS:PUBLIC
URL:https://www.golnetwork.com/game/v/103147/
X-MICROSOFT-CDO-BUSYSTATUS:BUSY
X-MICROSOFT-CDO-IMPORTANCE:1
END:VEVENT
END:VCALENDAR
