BEGIN:VCALENDAR
PRODID:-//gdesolutions.com//MV Framework 1.0.0.1607 Calendar//EN
VERSION:2.0
METHOD:PUBLISH
CALSCALE:GREGORIAN
BEGIN:VEVENT
UID:gaf27@games.golnetwork.com
LOCATION:Central Tech - Field 3
CREATED:20170227T192948Z
DTSTART:20170505T000000Z
DTEND:20170505T010000Z
DTSTAMP:20260420T144814Z
SUMMARY:Bonafide FC vs. Drinkalots FC
DESCRIPTION:Drinkalots FC vs. Bonafide FCMore info: #330
X-ALT-DESC;FMTTYPE=text/html:<!DOCTYPE HTML PUBLIC "-//W3C//DTD HTML 3.2//E
	N">\n<HTML>\n<HEAD>\n<TITLE></TITLE>\n</HEAD>\n<BODY>\n<h3>Drinkalots FC vs
	. Bonafide FC</h3>More info: <a href="https://www.golnetwork.com/game/v/102
	914/">#330</a>\n\n</BODY>\n</HTML>
STATUS:CONFIRMED
CLASS:PUBLIC
URL:https://www.golnetwork.com/game/v/102914/
X-MICROSOFT-CDO-BUSYSTATUS:BUSY
X-MICROSOFT-CDO-IMPORTANCE:1
END:VEVENT
BEGIN:VEVENT
UID:gaf29@games.golnetwork.com
LOCATION:Central Tech - Field 4
CREATED:20170227T192948Z
DTSTART:20170512T000000Z
DTEND:20170512T010000Z
DTSTAMP:20260420T144814Z
SUMMARY:Papa Barone & the Good Time Gang vs. Superbad FC
DESCRIPTION:Superbad FC vs. Papa Barone & the Good Time GangMore info: #352
X-ALT-DESC;FMTTYPE=text/html:<!DOCTYPE HTML PUBLIC "-//W3C//DTD HTML 3.2//E
	N">\n<HTML>\n<HEAD>\n<TITLE></TITLE>\n</HEAD>\n<BODY>\n<h3>Superbad FC vs. 
	Papa Barone & the Good Time Gang</h3>More info: <a href="https://www.golnet
	work.com/game/v/102915/">#352</a>\n\n</BODY>\n</HTML>
STATUS:CONFIRMED
CLASS:PUBLIC
URL:https://www.golnetwork.com/game/v/102915/
X-MICROSOFT-CDO-BUSYSTATUS:BUSY
X-MICROSOFT-CDO-IMPORTANCE:1
END:VEVENT
BEGIN:VEVENT
UID:gaf2b@games.golnetwork.com
LOCATION:Central Tech - Field 4
CREATED:20170227T192948Z
DTSTART:20170519T000000Z
DTEND:20170519T010000Z
DTSTAMP:20260420T144814Z
SUMMARY:Superbad FC vs. Drinkalots FC
DESCRIPTION:Drinkalots FC vs. Superbad FCMore info: #363
X-ALT-DESC;FMTTYPE=text/html:<!DOCTYPE HTML PUBLIC "-//W3C//DTD HTML 3.2//E
	N">\n<HTML>\n<HEAD>\n<TITLE></TITLE>\n</HEAD>\n<BODY>\n<h3>Drinkalots FC vs
	. Superbad FC</h3>More info: <a href="https://www.golnetwork.com/game/v/102
	916/">#363</a>\n\n</BODY>\n</HTML>
STATUS:CONFIRMED
CLASS:PUBLIC
URL:https://www.golnetwork.com/game/v/102916/
X-MICROSOFT-CDO-BUSYSTATUS:BUSY
X-MICROSOFT-CDO-IMPORTANCE:1
END:VEVENT
END:VCALENDAR
