BEGIN:VCALENDAR
PRODID:-//gdesolutions.com//MV Framework 1.0.0.1607 Calendar//EN
VERSION:2.0
METHOD:PUBLISH
CALSCALE:GREGORIAN
BEGIN:VEVENT
UID:gaeqo@games.golnetwork.com
LOCATION:Central Tech - Field 1
GEO:43.6637272;-79.4087613
CREATED:20170227T191845Z
DTSTART:20170310T010000Z
DTEND:20170310T020000Z
DTSTAMP:20260422T194219Z
SUMMARY:Papa Barone & the Good Time Gang vs. Bonafide FC
DESCRIPTION:Bonafide FC vs. Papa Barone & the Good Time GangMore info: #27
X-ALT-DESC;FMTTYPE=text/html:<!DOCTYPE HTML PUBLIC "-//W3C//DTD HTML 3.2//E
	N">\n<HTML>\n<HEAD>\n<TITLE></TITLE>\n</HEAD>\n<BODY>\n<h3>Bonafide FC vs. 
	Papa Barone & the Good Time Gang</h3>More info: <a href="https://www.golnet
	work.com/game/v/102882/">#27</a>\n\n</BODY>\n</HTML>
STATUS:CONFIRMED
CLASS:PUBLIC
URL:https://www.golnetwork.com/game/v/102882/
X-MICROSOFT-CDO-BUSYSTATUS:BUSY
X-MICROSOFT-CDO-IMPORTANCE:1
END:VEVENT
BEGIN:VEVENT
UID:gaeqm@games.golnetwork.com
LOCATION:Central Tech - Field 1
GEO:43.6637272;-79.4087613
CREATED:20170227T191833Z
DTSTART:20170310T020000Z
DTEND:20170310T030000Z
DTSTAMP:20260422T194219Z
SUMMARY:All City FC vs. XTSC Stars
DESCRIPTION:XTSC Stars vs. All City FCMore info: #29
X-ALT-DESC;FMTTYPE=text/html:<!DOCTYPE HTML PUBLIC "-//W3C//DTD HTML 3.2//E
	N">\n<HTML>\n<HEAD>\n<TITLE></TITLE>\n</HEAD>\n<BODY>\n<h3>XTSC Stars vs. A
	ll City FC</h3>More info: <a href="https://www.golnetwork.com/game/v/102881
	/">#29</a>\n\n</BODY>\n</HTML>
STATUS:CONFIRMED
CLASS:PUBLIC
URL:https://www.golnetwork.com/game/v/102881/
X-MICROSOFT-CDO-BUSYSTATUS:BUSY
X-MICROSOFT-CDO-IMPORTANCE:1
END:VEVENT
BEGIN:VEVENT
UID:gaeqq@games.golnetwork.com
LOCATION:Central Tech - Field 1
GEO:43.6637272;-79.4087613
CREATED:20170227T191855Z
DTSTART:20170310T020000Z
DTEND:20170310T030000Z
DTSTAMP:20260422T194219Z
SUMMARY:Drinkalots FC vs. TRUEBADOURS
DESCRIPTION:TRUEBADOURS vs. Drinkalots FCMore info: #30
X-ALT-DESC;FMTTYPE=text/html:<!DOCTYPE HTML PUBLIC "-//W3C//DTD HTML 3.2//E
	N">\n<HTML>\n<HEAD>\n<TITLE></TITLE>\n</HEAD>\n<BODY>\n<h3>TRUEBADOURS vs. 
	Drinkalots FC</h3>More info: <a href="https://www.golnetwork.com/game/v/102
	883/">#30</a>\n\n</BODY>\n</HTML>
STATUS:CONFIRMED
CLASS:PUBLIC
URL:https://www.golnetwork.com/game/v/102883/
X-MICROSOFT-CDO-BUSYSTATUS:BUSY
X-MICROSOFT-CDO-IMPORTANCE:1
END:VEVENT
BEGIN:VEVENT
UID:gaf01@games.golnetwork.com
LOCATION:Central Tech - Field 1
GEO:43.6637272;-79.4087613
CREATED:20170227T191904Z
DTSTART:20170310T030000Z
DTEND:20170310T040000Z
DTSTAMP:20260422T194219Z
SUMMARY:RUN DFC vs. Superbad FC
DESCRIPTION:Superbad FC vs. RUN DFCMore info: #32
X-ALT-DESC;FMTTYPE=text/html:<!DOCTYPE HTML PUBLIC "-//W3C//DTD HTML 3.2//E
	N">\n<HTML>\n<HEAD>\n<TITLE></TITLE>\n</HEAD>\n<BODY>\n<h3>Superbad FC vs. 
	RUN DFC</h3>More info: <a href="https://www.golnetwork.com/game/v/102884/">
	#32</a>\n\n</BODY>\n</HTML>
STATUS:CONFIRMED
CLASS:PUBLIC
URL:https://www.golnetwork.com/game/v/102884/
X-MICROSOFT-CDO-BUSYSTATUS:BUSY
X-MICROSOFT-CDO-IMPORTANCE:1
END:VEVENT
BEGIN:VEVENT
UID:gaf03@games.golnetwork.com
LOCATION:Central Tech - Field 3
CREATED:20170227T191946Z
DTSTART:20170317T000000Z
DTEND:20170317T010000Z
DTSTAMP:20260422T194219Z
SUMMARY:RUN DFC vs. Papa Barone & the Good Time Gang
DESCRIPTION:Papa Barone & the Good Time Gang vs. RUN DFCMore info: #68
X-ALT-DESC;FMTTYPE=text/html:<!DOCTYPE HTML PUBLIC "-//W3C//DTD HTML 3.2//E
	N">\n<HTML>\n<HEAD>\n<TITLE></TITLE>\n</HEAD>\n<BODY>\n<h3>Papa Barone & th
	e Good Time Gang vs. RUN DFC</h3>More info: <a href="https://www.golnetwork
	.com/game/v/102885/">#68</a>\n\n</BODY>\n</HTML>
STATUS:CONFIRMED
CLASS:PUBLIC
URL:https://www.golnetwork.com/game/v/102885/
X-MICROSOFT-CDO-BUSYSTATUS:BUSY
X-MICROSOFT-CDO-IMPORTANCE:1
END:VEVENT
BEGIN:VEVENT
UID:gaf05@games.golnetwork.com
LOCATION:Central Tech - Field 3
CREATED:20170227T191955Z
DTSTART:20170317T010000Z
DTEND:20170317T020000Z
DTSTAMP:20260422T194219Z
SUMMARY:Superbad FC vs. All City FC
DESCRIPTION:All City FC vs. Superbad FCMore info: #71
X-ALT-DESC;FMTTYPE=text/html:<!DOCTYPE HTML PUBLIC "-//W3C//DTD HTML 3.2//E
	N">\n<HTML>\n<HEAD>\n<TITLE></TITLE>\n</HEAD>\n<BODY>\n<h3>All City FC vs. 
	Superbad FC</h3>More info: <a href="https://www.golnetwork.com/game/v/10288
	6/">#71</a>\n\n</BODY>\n</HTML>
STATUS:CONFIRMED
CLASS:PUBLIC
URL:https://www.golnetwork.com/game/v/102886/
X-MICROSOFT-CDO-BUSYSTATUS:BUSY
X-MICROSOFT-CDO-IMPORTANCE:1
END:VEVENT
BEGIN:VEVENT
UID:gaf09@games.golnetwork.com
LOCATION:Central Tech - Field 2
GEO:43.6637272;-79.4087613
CREATED:20170227T192019Z
DTSTART:20170317T020000Z
DTEND:20170317T030000Z
DTSTAMP:20260422T194219Z
SUMMARY:TRUEBADOURS vs. Bonafide FC
DESCRIPTION:Bonafide FC vs. TRUEBADOURSMore info: #72
X-ALT-DESC;FMTTYPE=text/html:<!DOCTYPE HTML PUBLIC "-//W3C//DTD HTML 3.2//E
	N">\n<HTML>\n<HEAD>\n<TITLE></TITLE>\n</HEAD>\n<BODY>\n<h3>Bonafide FC vs. 
	TRUEBADOURS</h3>More info: <a href="https://www.golnetwork.com/game/v/10288
	8/">#72</a>\n\n</BODY>\n</HTML>
STATUS:CONFIRMED
CLASS:PUBLIC
URL:https://www.golnetwork.com/game/v/102888/
X-MICROSOFT-CDO-BUSYSTATUS:BUSY
X-MICROSOFT-CDO-IMPORTANCE:1
END:VEVENT
BEGIN:VEVENT
UID:gaf07@games.golnetwork.com
LOCATION:Central Tech - Field 3
CREATED:20170227T192002Z
DTSTART:20170317T020000Z
DTEND:20170317T030000Z
DTSTAMP:20260422T194219Z
SUMMARY:Drinkalots FC vs. XTSC Stars
DESCRIPTION:XTSC Stars vs. Drinkalots FCMore info: #74
X-ALT-DESC;FMTTYPE=text/html:<!DOCTYPE HTML PUBLIC "-//W3C//DTD HTML 3.2//E
	N">\n<HTML>\n<HEAD>\n<TITLE></TITLE>\n</HEAD>\n<BODY>\n<h3>XTSC Stars vs. D
	rinkalots FC</h3>More info: <a href="https://www.golnetwork.com/game/v/1028
	87/">#74</a>\n\n</BODY>\n</HTML>
STATUS:CONFIRMED
CLASS:PUBLIC
URL:https://www.golnetwork.com/game/v/102887/
X-MICROSOFT-CDO-BUSYSTATUS:BUSY
X-MICROSOFT-CDO-IMPORTANCE:1
END:VEVENT
BEGIN:VEVENT
UID:gaf0b@games.golnetwork.com
LOCATION:Central Tech - Field 3
CREATED:20170227T192031Z
DTSTART:20170324T000000Z
DTEND:20170324T010000Z
DTSTAMP:20260422T194219Z
SUMMARY:TRUEBADOURS vs. All City FC
DESCRIPTION:All City FC vs. TRUEBADOURSMore info: #111
X-ALT-DESC;FMTTYPE=text/html:<!DOCTYPE HTML PUBLIC "-//W3C//DTD HTML 3.2//E
	N">\n<HTML>\n<HEAD>\n<TITLE></TITLE>\n</HEAD>\n<BODY>\n<h3>All City FC vs. 
	TRUEBADOURS</h3>More info: <a href="https://www.golnetwork.com/game/v/10288
	9/">#111</a>\n\n</BODY>\n</HTML>
STATUS:CONFIRMED
CLASS:PUBLIC
URL:https://www.golnetwork.com/game/v/102889/
X-MICROSOFT-CDO-BUSYSTATUS:BUSY
X-MICROSOFT-CDO-IMPORTANCE:1
END:VEVENT
BEGIN:VEVENT
UID:gaf0d@games.golnetwork.com
LOCATION:Central Tech - Field 3
CREATED:20170227T192047Z
DTSTART:20170324T010000Z
DTEND:20170324T020000Z
DTSTAMP:20260422T194219Z
SUMMARY:Papa Barone & the Good Time Gang vs. Drinkalots FC
DESCRIPTION:Drinkalots FC vs. Papa Barone & the Good Time GangMore info: #1
	14
X-ALT-DESC;FMTTYPE=text/html:<!DOCTYPE HTML PUBLIC "-//W3C//DTD HTML 3.2//E
	N">\n<HTML>\n<HEAD>\n<TITLE></TITLE>\n</HEAD>\n<BODY>\n<h3>Drinkalots FC vs
	. Papa Barone & the Good Time Gang</h3>More info: <a href="https://www.goln
	etwork.com/game/v/102890/">#114</a>\n\n</BODY>\n</HTML>
STATUS:CONFIRMED
CLASS:PUBLIC
URL:https://www.golnetwork.com/game/v/102890/
X-MICROSOFT-CDO-BUSYSTATUS:BUSY
X-MICROSOFT-CDO-IMPORTANCE:1
END:VEVENT
BEGIN:VEVENT
UID:gaf0h@games.golnetwork.com
LOCATION:Central Tech - Field 2
GEO:43.6637272;-79.4087613
CREATED:20170227T192105Z
DTSTART:20170324T030000Z
DTEND:20170324T040000Z
DTSTAMP:20260422T194219Z
SUMMARY:XTSC Stars vs. RUN DFC
DESCRIPTION:RUN DFC vs. XTSC StarsMore info: #118
X-ALT-DESC;FMTTYPE=text/html:<!DOCTYPE HTML PUBLIC "-//W3C//DTD HTML 3.2//E
	N">\n<HTML>\n<HEAD>\n<TITLE></TITLE>\n</HEAD>\n<BODY>\n<h3>RUN DFC vs. XTSC
	 Stars</h3>More info: <a href="https://www.golnetwork.com/game/v/102892/">#
	118</a>\n\n</BODY>\n</HTML>
STATUS:CONFIRMED
CLASS:PUBLIC
URL:https://www.golnetwork.com/game/v/102892/
X-MICROSOFT-CDO-BUSYSTATUS:BUSY
X-MICROSOFT-CDO-IMPORTANCE:1
END:VEVENT
BEGIN:VEVENT
UID:gaf0f@games.golnetwork.com
LOCATION:Central Tech - Field 3
CREATED:20170227T192056Z
DTSTART:20170324T030000Z
DTEND:20170324T040000Z
DTSTAMP:20260422T194219Z
SUMMARY:Bonafide FC vs. Superbad FC
DESCRIPTION:Superbad FC vs. Bonafide FCMore info: #120
X-ALT-DESC;FMTTYPE=text/html:<!DOCTYPE HTML PUBLIC "-//W3C//DTD HTML 3.2//E
	N">\n<HTML>\n<HEAD>\n<TITLE></TITLE>\n</HEAD>\n<BODY>\n<h3>Superbad FC vs. 
	Bonafide FC</h3>More info: <a href="https://www.golnetwork.com/game/v/10289
	1/">#120</a>\n\n</BODY>\n</HTML>
STATUS:CONFIRMED
CLASS:PUBLIC
URL:https://www.golnetwork.com/game/v/102891/
X-MICROSOFT-CDO-BUSYSTATUS:BUSY
X-MICROSOFT-CDO-IMPORTANCE:1
END:VEVENT
BEGIN:VEVENT
UID:gaf0j@games.golnetwork.com
LOCATION:Central Tech - Field 3
CREATED:20170227T192206Z
DTSTART:20170331T000000Z
DTEND:20170331T010000Z
DTSTAMP:20260422T194219Z
SUMMARY:Superbad FC vs. XTSC Stars
DESCRIPTION:XTSC Stars vs. Superbad FCMore info: #154
X-ALT-DESC;FMTTYPE=text/html:<!DOCTYPE HTML PUBLIC "-//W3C//DTD HTML 3.2//E
	N">\n<HTML>\n<HEAD>\n<TITLE></TITLE>\n</HEAD>\n<BODY>\n<h3>XTSC Stars vs. S
	uperbad FC</h3>More info: <a href="https://www.golnetwork.com/game/v/102893
	/">#154</a>\n\n</BODY>\n</HTML>
STATUS:CONFIRMED
CLASS:PUBLIC
URL:https://www.golnetwork.com/game/v/102893/
X-MICROSOFT-CDO-BUSYSTATUS:BUSY
X-MICROSOFT-CDO-IMPORTANCE:1
END:VEVENT
BEGIN:VEVENT
UID:gaf0l@games.golnetwork.com
LOCATION:Central Tech - Field 3
CREATED:20170227T192215Z
DTSTART:20170331T010000Z
DTEND:20170331T020000Z
DTSTAMP:20260422T194219Z
SUMMARY:Bonafide FC vs. RUN DFC
DESCRIPTION:RUN DFC vs. Bonafide FCMore info: #157
X-ALT-DESC;FMTTYPE=text/html:<!DOCTYPE HTML PUBLIC "-//W3C//DTD HTML 3.2//E
	N">\n<HTML>\n<HEAD>\n<TITLE></TITLE>\n</HEAD>\n<BODY>\n<h3>RUN DFC vs. Bona
	fide FC</h3>More info: <a href="https://www.golnetwork.com/game/v/102894/">
	#157</a>\n\n</BODY>\n</HTML>
STATUS:CONFIRMED
CLASS:PUBLIC
URL:https://www.golnetwork.com/game/v/102894/
X-MICROSOFT-CDO-BUSYSTATUS:BUSY
X-MICROSOFT-CDO-IMPORTANCE:1
END:VEVENT
BEGIN:VEVENT
UID:gaf0n@games.golnetwork.com
LOCATION:Central Tech - Field 2
GEO:43.6637272;-79.4087613
CREATED:20170227T192231Z
DTSTART:20170331T030000Z
DTEND:20170331T040000Z
DTSTAMP:20260422T194219Z
SUMMARY:Papa Barone & the Good Time Gang vs. TRUEBADOURS
DESCRIPTION:TRUEBADOURS vs. Papa Barone & the Good Time GangMore info: #161
X-ALT-DESC;FMTTYPE=text/html:<!DOCTYPE HTML PUBLIC "-//W3C//DTD HTML 3.2//E
	N">\n<HTML>\n<HEAD>\n<TITLE></TITLE>\n</HEAD>\n<BODY>\n<h3>TRUEBADOURS vs. 
	Papa Barone & the Good Time Gang</h3>More info: <a href="https://www.golnet
	work.com/game/v/102895/">#161</a>\n\n</BODY>\n</HTML>
STATUS:CONFIRMED
CLASS:PUBLIC
URL:https://www.golnetwork.com/game/v/102895/
X-MICROSOFT-CDO-BUSYSTATUS:BUSY
X-MICROSOFT-CDO-IMPORTANCE:1
END:VEVENT
BEGIN:VEVENT
UID:gaf0p@games.golnetwork.com
LOCATION:Central Tech - Field 3
CREATED:20170227T192242Z
DTSTART:20170331T030000Z
DTEND:20170331T040000Z
DTSTAMP:20260422T194219Z
SUMMARY:All City FC vs. Drinkalots FC
DESCRIPTION:Drinkalots FC vs. All City FCMore info: #163
X-ALT-DESC;FMTTYPE=text/html:<!DOCTYPE HTML PUBLIC "-//W3C//DTD HTML 3.2//E
	N">\n<HTML>\n<HEAD>\n<TITLE></TITLE>\n</HEAD>\n<BODY>\n<h3>Drinkalots FC vs
	. All City FC</h3>More info: <a href="https://www.golnetwork.com/game/v/102
	896/">#163</a>\n\n</BODY>\n</HTML>
STATUS:CONFIRMED
CLASS:PUBLIC
URL:https://www.golnetwork.com/game/v/102896/
X-MICROSOFT-CDO-BUSYSTATUS:BUSY
X-MICROSOFT-CDO-IMPORTANCE:1
END:VEVENT
BEGIN:VEVENT
UID:gaf12@games.golnetwork.com
LOCATION:Central Tech - Field 2
GEO:43.6637272;-79.4087613
CREATED:20170227T192309Z
DTSTART:20170407T020000Z
DTEND:20170407T030000Z
DTSTAMP:20260422T194219Z
SUMMARY:Superbad FC vs. Drinkalots FC
DESCRIPTION:Drinkalots FC vs. Superbad FCMore info: #201
X-ALT-DESC;FMTTYPE=text/html:<!DOCTYPE HTML PUBLIC "-//W3C//DTD HTML 3.2//E
	N">\n<HTML>\n<HEAD>\n<TITLE></TITLE>\n</HEAD>\n<BODY>\n<h3>Drinkalots FC vs
	. Superbad FC</h3>More info: <a href="https://www.golnetwork.com/game/v/102
	898/">#201</a>\n\n</BODY>\n</HTML>
STATUS:CONFIRMED
CLASS:PUBLIC
URL:https://www.golnetwork.com/game/v/102898/
X-MICROSOFT-CDO-BUSYSTATUS:BUSY
X-MICROSOFT-CDO-IMPORTANCE:1
END:VEVENT
BEGIN:VEVENT
UID:gaf10@games.golnetwork.com
LOCATION:Central Tech - Field 3
CREATED:20170227T192255Z
DTSTART:20170407T020000Z
DTEND:20170407T030000Z
DTSTAMP:20260422T194219Z
SUMMARY:RUN DFC vs. TRUEBADOURS
DESCRIPTION:TRUEBADOURS vs. RUN DFCMore info: #203
X-ALT-DESC;FMTTYPE=text/html:<!DOCTYPE HTML PUBLIC "-//W3C//DTD HTML 3.2//E
	N">\n<HTML>\n<HEAD>\n<TITLE></TITLE>\n</HEAD>\n<BODY>\n<h3>TRUEBADOURS vs. 
	RUN DFC</h3>More info: <a href="https://www.golnetwork.com/game/v/102897/">
	#203</a>\n\n</BODY>\n</HTML>
STATUS:CONFIRMED
CLASS:PUBLIC
URL:https://www.golnetwork.com/game/v/102897/
X-MICROSOFT-CDO-BUSYSTATUS:BUSY
X-MICROSOFT-CDO-IMPORTANCE:1
END:VEVENT
BEGIN:VEVENT
UID:gaf16@games.golnetwork.com
LOCATION:Central Tech - Field 2
GEO:43.6637272;-79.4087613
CREATED:20170227T192331Z
DTSTART:20170407T030000Z
DTEND:20170407T040000Z
DTSTAMP:20260422T194219Z
SUMMARY:Papa Barone & the Good Time Gang vs. All City FC
DESCRIPTION:All City FC vs. Papa Barone & the Good Time GangMore info: #204
X-ALT-DESC;FMTTYPE=text/html:<!DOCTYPE HTML PUBLIC "-//W3C//DTD HTML 3.2//E
	N">\n<HTML>\n<HEAD>\n<TITLE></TITLE>\n</HEAD>\n<BODY>\n<h3>All City FC vs. 
	Papa Barone & the Good Time Gang</h3>More info: <a href="https://www.golnet
	work.com/game/v/102900/">#204</a>\n\n</BODY>\n</HTML>
STATUS:CONFIRMED
CLASS:PUBLIC
URL:https://www.golnetwork.com/game/v/102900/
X-MICROSOFT-CDO-BUSYSTATUS:BUSY
X-MICROSOFT-CDO-IMPORTANCE:1
END:VEVENT
BEGIN:VEVENT
UID:gaf14@games.golnetwork.com
LOCATION:Central Tech - Field 3
CREATED:20170227T192323Z
DTSTART:20170407T030000Z
DTEND:20170407T040000Z
DTSTAMP:20260422T194219Z
SUMMARY:XTSC Stars vs. Bonafide FC
DESCRIPTION:Bonafide FC vs. XTSC StarsMore info: #206
X-ALT-DESC;FMTTYPE=text/html:<!DOCTYPE HTML PUBLIC "-//W3C//DTD HTML 3.2//E
	N">\n<HTML>\n<HEAD>\n<TITLE></TITLE>\n</HEAD>\n<BODY>\n<h3>Bonafide FC vs. 
	XTSC Stars</h3>More info: <a href="https://www.golnetwork.com/game/v/102899
	/">#206</a>\n\n</BODY>\n</HTML>
STATUS:CONFIRMED
CLASS:PUBLIC
URL:https://www.golnetwork.com/game/v/102899/
X-MICROSOFT-CDO-BUSYSTATUS:BUSY
X-MICROSOFT-CDO-IMPORTANCE:1
END:VEVENT
BEGIN:VEVENT
UID:gaf18@games.golnetwork.com
LOCATION:Central Tech - Field 2
GEO:43.6637272;-79.4087613
CREATED:20170227T192400Z
DTSTART:20170414T010000Z
DTEND:20170414T020000Z
DTSTAMP:20260422T194219Z
SUMMARY:Drinkalots FC vs. Bonafide FC
DESCRIPTION:Bonafide FC vs. Drinkalots FCMore info: #241
X-ALT-DESC;FMTTYPE=text/html:<!DOCTYPE HTML PUBLIC "-//W3C//DTD HTML 3.2//E
	N">\n<HTML>\n<HEAD>\n<TITLE></TITLE>\n</HEAD>\n<BODY>\n<h3>Bonafide FC vs. 
	Drinkalots FC</h3>More info: <a href="https://www.golnetwork.com/game/v/102
	901/">#241</a>\n\n</BODY>\n</HTML>
STATUS:CONFIRMED
CLASS:PUBLIC
URL:https://www.golnetwork.com/game/v/102901/
X-MICROSOFT-CDO-BUSYSTATUS:BUSY
X-MICROSOFT-CDO-IMPORTANCE:1
END:VEVENT
BEGIN:VEVENT
UID:gaf1a@games.golnetwork.com
LOCATION:Central Tech - Field 3
CREATED:20170227T192412Z
DTSTART:20170414T010000Z
DTEND:20170414T020000Z
DTSTAMP:20260422T194219Z
SUMMARY:RUN DFC vs. All City FC
DESCRIPTION:All City FC vs. RUN DFCMore info: #243
X-ALT-DESC;FMTTYPE=text/html:<!DOCTYPE HTML PUBLIC "-//W3C//DTD HTML 3.2//E
	N">\n<HTML>\n<HEAD>\n<TITLE></TITLE>\n</HEAD>\n<BODY>\n<h3>All City FC vs. 
	RUN DFC</h3>More info: <a href="https://www.golnetwork.com/game/v/102902/">
	#243</a>\n\n</BODY>\n</HTML>
STATUS:CONFIRMED
CLASS:PUBLIC
URL:https://www.golnetwork.com/game/v/102902/
X-MICROSOFT-CDO-BUSYSTATUS:BUSY
X-MICROSOFT-CDO-IMPORTANCE:1
END:VEVENT
BEGIN:VEVENT
UID:gaf1c@games.golnetwork.com
LOCATION:Central Tech - Field 3
CREATED:20170227T192645Z
DTSTART:20170414T020000Z
DTEND:20170414T030000Z
DTSTAMP:20260422T194219Z
SUMMARY:XTSC Stars vs. Papa Barone & the Good Time Gang
DESCRIPTION:Papa Barone & the Good Time Gang vs. XTSC StarsMore info: #246
X-ALT-DESC;FMTTYPE=text/html:<!DOCTYPE HTML PUBLIC "-//W3C//DTD HTML 3.2//E
	N">\n<HTML>\n<HEAD>\n<TITLE></TITLE>\n</HEAD>\n<BODY>\n<h3>Papa Barone & th
	e Good Time Gang vs. XTSC Stars</h3>More info: <a href="https://www.golnetw
	ork.com/game/v/102903/">#246</a>\n\n</BODY>\n</HTML>
STATUS:CONFIRMED
CLASS:PUBLIC
URL:https://www.golnetwork.com/game/v/102903/
X-MICROSOFT-CDO-BUSYSTATUS:BUSY
X-MICROSOFT-CDO-IMPORTANCE:1
END:VEVENT
BEGIN:VEVENT
UID:gaf1e@games.golnetwork.com
LOCATION:Central Tech - Field 3
CREATED:20170227T192700Z
DTSTART:20170414T030000Z
DTEND:20170414T040000Z
DTSTAMP:20260422T194219Z
SUMMARY:TRUEBADOURS vs. Superbad FC
DESCRIPTION:Superbad FC vs. TRUEBADOURSMore info: #250
X-ALT-DESC;FMTTYPE=text/html:<!DOCTYPE HTML PUBLIC "-//W3C//DTD HTML 3.2//E
	N">\n<HTML>\n<HEAD>\n<TITLE></TITLE>\n</HEAD>\n<BODY>\n<h3>Superbad FC vs. 
	TRUEBADOURS</h3>More info: <a href="https://www.golnetwork.com/game/v/10290
	4/">#250</a>\n\n</BODY>\n</HTML>
STATUS:CONFIRMED
CLASS:PUBLIC
URL:https://www.golnetwork.com/game/v/102904/
X-MICROSOFT-CDO-BUSYSTATUS:BUSY
X-MICROSOFT-CDO-IMPORTANCE:1
END:VEVENT
BEGIN:VEVENT
UID:gaf1g@games.golnetwork.com
LOCATION:Central Tech - Field 1
GEO:43.6637272;-79.4087613
CREATED:20170227T192719Z
DTSTART:20170421T010000Z
DTEND:20170421T020000Z
DTSTAMP:20260422T194219Z
SUMMARY:XTSC Stars vs. TRUEBADOURS
DESCRIPTION:TRUEBADOURS vs. XTSC StarsMore info: #275
X-ALT-DESC;FMTTYPE=text/html:<!DOCTYPE HTML PUBLIC "-//W3C//DTD HTML 3.2//E
	N">\n<HTML>\n<HEAD>\n<TITLE></TITLE>\n</HEAD>\n<BODY>\n<h3>TRUEBADOURS vs. 
	XTSC Stars</h3>More info: <a href="https://www.golnetwork.com/game/v/102905
	/">#275</a>\n\n</BODY>\n</HTML>
STATUS:CONFIRMED
CLASS:PUBLIC
URL:https://www.golnetwork.com/game/v/102905/
X-MICROSOFT-CDO-BUSYSTATUS:BUSY
X-MICROSOFT-CDO-IMPORTANCE:1
END:VEVENT
BEGIN:VEVENT
UID:gaf1i@games.golnetwork.com
LOCATION:Central Tech - Field 1
GEO:43.6637272;-79.4087613
CREATED:20170227T192739Z
DTSTART:20170421T020000Z
DTEND:20170421T030000Z
DTSTAMP:20260422T194219Z
SUMMARY:All City FC vs. Bonafide FC
DESCRIPTION:Bonafide FC vs. All City FCMore info: #278
X-ALT-DESC;FMTTYPE=text/html:<!DOCTYPE HTML PUBLIC "-//W3C//DTD HTML 3.2//E
	N">\n<HTML>\n<HEAD>\n<TITLE></TITLE>\n</HEAD>\n<BODY>\n<h3>Bonafide FC vs. 
	All City FC</h3>More info: <a href="https://www.golnetwork.com/game/v/10290
	6/">#278</a>\n\n</BODY>\n</HTML>
STATUS:CONFIRMED
CLASS:PUBLIC
URL:https://www.golnetwork.com/game/v/102906/
X-MICROSOFT-CDO-BUSYSTATUS:BUSY
X-MICROSOFT-CDO-IMPORTANCE:1
END:VEVENT
BEGIN:VEVENT
UID:gaf1k@games.golnetwork.com
LOCATION:Central Tech - Field 2
GEO:43.6637272;-79.4087613
CREATED:20170227T192748Z
DTSTART:20170421T020000Z
DTEND:20170421T030000Z
DTSTAMP:20260422T194219Z
SUMMARY:Superbad FC vs. Papa Barone & the Good Time Gang
DESCRIPTION:Papa Barone & the Good Time Gang vs. Superbad FCMore info: #279
X-ALT-DESC;FMTTYPE=text/html:<!DOCTYPE HTML PUBLIC "-//W3C//DTD HTML 3.2//E
	N">\n<HTML>\n<HEAD>\n<TITLE></TITLE>\n</HEAD>\n<BODY>\n<h3>Papa Barone & th
	e Good Time Gang vs. Superbad FC</h3>More info: <a href="https://www.golnet
	work.com/game/v/102907/">#279</a>\n\n</BODY>\n</HTML>
STATUS:CONFIRMED
CLASS:PUBLIC
URL:https://www.golnetwork.com/game/v/102907/
X-MICROSOFT-CDO-BUSYSTATUS:BUSY
X-MICROSOFT-CDO-IMPORTANCE:1
END:VEVENT
BEGIN:VEVENT
UID:gaf1m@games.golnetwork.com
LOCATION:Central Tech - Field 1
GEO:43.6637272;-79.4087613
CREATED:20170227T192801Z
DTSTART:20170421T030000Z
DTEND:20170421T040000Z
DTSTAMP:20260422T194219Z
SUMMARY:Drinkalots FC vs. RUN DFC
DESCRIPTION:RUN DFC vs. Drinkalots FCMore info: #281
X-ALT-DESC;FMTTYPE=text/html:<!DOCTYPE HTML PUBLIC "-//W3C//DTD HTML 3.2//E
	N">\n<HTML>\n<HEAD>\n<TITLE></TITLE>\n</HEAD>\n<BODY>\n<h3>RUN DFC vs. Drin
	kalots FC</h3>More info: <a href="https://www.golnetwork.com/game/v/102908/
	">#281</a>\n\n</BODY>\n</HTML>
STATUS:CONFIRMED
CLASS:PUBLIC
URL:https://www.golnetwork.com/game/v/102908/
X-MICROSOFT-CDO-BUSYSTATUS:BUSY
X-MICROSOFT-CDO-IMPORTANCE:1
END:VEVENT
BEGIN:VEVENT
UID:gaf1o@games.golnetwork.com
LOCATION:Central Tech - Field 3
CREATED:20170227T192838Z
DTSTART:20170505T010000Z
DTEND:20170505T020000Z
DTSTAMP:20260422T194219Z
SUMMARY:XTSC Stars vs. RUN DFC
DESCRIPTION:RUN DFC vs. XTSC StarsMore info: #332
X-ALT-DESC;FMTTYPE=text/html:<!DOCTYPE HTML PUBLIC "-//W3C//DTD HTML 3.2//E
	N">\n<HTML>\n<HEAD>\n<TITLE></TITLE>\n</HEAD>\n<BODY>\n<h3>RUN DFC vs. XTSC
	 Stars</h3>More info: <a href="https://www.golnetwork.com/game/v/102909/">#
	332</a>\n\n</BODY>\n</HTML>
STATUS:CONFIRMED
CLASS:PUBLIC
URL:https://www.golnetwork.com/game/v/102909/
X-MICROSOFT-CDO-BUSYSTATUS:BUSY
X-MICROSOFT-CDO-IMPORTANCE:1
END:VEVENT
BEGIN:VEVENT
UID:gaf1q@games.golnetwork.com
LOCATION:Central Tech - Field 3
CREATED:20170227T192843Z
DTSTART:20170505T020000Z
DTEND:20170505T030000Z
DTSTAMP:20260422T194219Z
SUMMARY:All City FC vs. TRUEBADOURS
DESCRIPTION:TRUEBADOURS vs. All City FCMore info: #334
X-ALT-DESC;FMTTYPE=text/html:<!DOCTYPE HTML PUBLIC "-//W3C//DTD HTML 3.2//E
	N">\n<HTML>\n<HEAD>\n<TITLE></TITLE>\n</HEAD>\n<BODY>\n<h3>TRUEBADOURS vs. 
	All City FC</h3>More info: <a href="https://www.golnetwork.com/game/v/10291
	0/">#334</a>\n\n</BODY>\n</HTML>
STATUS:CONFIRMED
CLASS:PUBLIC
URL:https://www.golnetwork.com/game/v/102910/
X-MICROSOFT-CDO-BUSYSTATUS:BUSY
X-MICROSOFT-CDO-IMPORTANCE:1
END:VEVENT
BEGIN:VEVENT
UID:gaf23@games.golnetwork.com
LOCATION:Central Tech - Field 4
CREATED:20170227T192850Z
DTSTART:20170512T010000Z
DTEND:20170512T020000Z
DTSTAMP:20260422T194219Z
SUMMARY:RUN DFC vs. TRUEBADOURS
DESCRIPTION:TRUEBADOURS vs. RUN DFCMore info: #354
X-ALT-DESC;FMTTYPE=text/html:<!DOCTYPE HTML PUBLIC "-//W3C//DTD HTML 3.2//E
	N">\n<HTML>\n<HEAD>\n<TITLE></TITLE>\n</HEAD>\n<BODY>\n<h3>TRUEBADOURS vs. 
	RUN DFC</h3>More info: <a href="https://www.golnetwork.com/game/v/102912/">
	#354</a>\n\n</BODY>\n</HTML>
STATUS:CONFIRMED
CLASS:PUBLIC
URL:https://www.golnetwork.com/game/v/102912/
X-MICROSOFT-CDO-BUSYSTATUS:BUSY
X-MICROSOFT-CDO-IMPORTANCE:1
END:VEVENT
BEGIN:VEVENT
UID:gaf21@games.golnetwork.com
LOCATION:Central Tech - Field 4
CREATED:20170227T192847Z
DTSTART:20170512T020000Z
DTEND:20170512T030000Z
DTSTAMP:20260422T194219Z
SUMMARY:All City FC vs. XTSC Stars
DESCRIPTION:XTSC Stars vs. All City FCMore info: #356
X-ALT-DESC;FMTTYPE=text/html:<!DOCTYPE HTML PUBLIC "-//W3C//DTD HTML 3.2//E
	N">\n<HTML>\n<HEAD>\n<TITLE></TITLE>\n</HEAD>\n<BODY>\n<h3>XTSC Stars vs. A
	ll City FC</h3>More info: <a href="https://www.golnetwork.com/game/v/102911
	/">#356</a>\n\n</BODY>\n</HTML>
STATUS:CONFIRMED
CLASS:PUBLIC
URL:https://www.golnetwork.com/game/v/102911/
X-MICROSOFT-CDO-BUSYSTATUS:BUSY
X-MICROSOFT-CDO-IMPORTANCE:1
END:VEVENT
BEGIN:VEVENT
UID:gaf25@games.golnetwork.com
LOCATION:Central Tech - Field 4
CREATED:20170227T192854Z
DTSTART:20170519T010000Z
DTEND:20170519T020000Z
DTSTAMP:20260422T194219Z
SUMMARY:Papa Barone & the Good Time Gang vs. Bonafide FC
DESCRIPTION:Bonafide FC vs. Papa Barone & the Good Time GangMore info: #364
X-ALT-DESC;FMTTYPE=text/html:<!DOCTYPE HTML PUBLIC "-//W3C//DTD HTML 3.2//E
	N">\n<HTML>\n<HEAD>\n<TITLE></TITLE>\n</HEAD>\n<BODY>\n<h3>Bonafide FC vs. 
	Papa Barone & the Good Time Gang</h3>More info: <a href="https://www.golnet
	work.com/game/v/102913/">#364</a>\n\n</BODY>\n</HTML>
STATUS:CONFIRMED
CLASS:PUBLIC
URL:https://www.golnetwork.com/game/v/102913/
X-MICROSOFT-CDO-BUSYSTATUS:BUSY
X-MICROSOFT-CDO-IMPORTANCE:1
END:VEVENT
END:VCALENDAR
