BEGIN:VCALENDAR
PRODID:-//gdesolutions.com//MV Framework 1.0.0.1607 Calendar//EN
VERSION:2.0
METHOD:PUBLISH
CALSCALE:GREGORIAN
BEGIN:VEVENT
UID:gao13@games.golnetwork.com
LOCATION:McNicoll Park - Field 1
CREATED:20170512T193054Z
DTSTART:20170514T210000Z
DTEND:20170514T220000Z
DTSTAMP:20260419T132737Z
SUMMARY:Formerly in Shape FC vs. Blazin Ballerz
DESCRIPTION:Blazin Ballerz vs. Formerly in Shape FCMore info: #58
X-ALT-DESC;FMTTYPE=text/html:<!DOCTYPE HTML PUBLIC "-//W3C//DTD HTML 3.2//E
	N">\n<HTML>\n<HEAD>\n<TITLE></TITLE>\n</HEAD>\n<BODY>\n<h3>Blazin Ballerz v
	s. Formerly in Shape FC</h3>More info: <a href="https://www.golnetwork.com/
	game/v/106179/">#58</a>\n\n</BODY>\n</HTML>
STATUS:CONFIRMED
CLASS:PUBLIC
URL:https://www.golnetwork.com/game/v/106179/
X-MICROSOFT-CDO-BUSYSTATUS:BUSY
X-MICROSOFT-CDO-IMPORTANCE:1
END:VEVENT
BEGIN:VEVENT
UID:gakgk@games.golnetwork.com
LOCATION:McNicoll Park - Field 2
CREATED:20170506T041550Z
DTSTART:20170514T210000Z
DTEND:20170514T220000Z
DTSTAMP:20260419T132737Z
SUMMARY:FoShizzle vs. XTSC Hawks
DESCRIPTION:XTSC Hawks vs. FoShizzleMore info: #59
X-ALT-DESC;FMTTYPE=text/html:<!DOCTYPE HTML PUBLIC "-//W3C//DTD HTML 3.2//E
	N">\n<HTML>\n<HEAD>\n<TITLE></TITLE>\n</HEAD>\n<BODY>\n<h3>XTSC Hawks vs. F
	oShizzle</h3>More info: <a href="https://www.golnetwork.com/game/v/104932/"
	>#59</a>\n\n</BODY>\n</HTML>
STATUS:CONFIRMED
CLASS:PUBLIC
URL:https://www.golnetwork.com/game/v/104932/
X-MICROSOFT-CDO-BUSYSTATUS:BUSY
X-MICROSOFT-CDO-IMPORTANCE:1
END:VEVENT
BEGIN:VEVENT
UID:gakgi@games.golnetwork.com
LOCATION:McNicoll Park - Field 1
CREATED:20170506T041541Z
DTSTART:20170514T220000Z
DTEND:20170514T230000Z
DTSTAMP:20260419T132737Z
SUMMARY:Friends FC vs. Scotia REDS
DESCRIPTION:Scotia REDS vs. Friends FCMore info: #64
X-ALT-DESC;FMTTYPE=text/html:<!DOCTYPE HTML PUBLIC "-//W3C//DTD HTML 3.2//E
	N">\n<HTML>\n<HEAD>\n<TITLE></TITLE>\n</HEAD>\n<BODY>\n<h3>Scotia REDS vs. 
	Friends FC</h3>More info: <a href="https://www.golnetwork.com/game/v/104931
	/">#64</a>\n\n</BODY>\n</HTML>
STATUS:CONFIRMED
CLASS:PUBLIC
URL:https://www.golnetwork.com/game/v/104931/
X-MICROSOFT-CDO-BUSYSTATUS:BUSY
X-MICROSOFT-CDO-IMPORTANCE:1
END:VEVENT
BEGIN:VEVENT
UID:gakgm@games.golnetwork.com
LOCATION:McNicoll Park - Field 2
CREATED:20170506T041603Z
DTSTART:20170514T220000Z
DTEND:20170514T230000Z
DTSTAMP:20260419T132737Z
SUMMARY:Formerly in Shape FC vs. XTSC Northern Lights
DESCRIPTION:XTSC Northern Lights vs. Formerly in Shape FCMore info: #65
X-ALT-DESC;FMTTYPE=text/html:<!DOCTYPE HTML PUBLIC "-//W3C//DTD HTML 3.2//E
	N">\n<HTML>\n<HEAD>\n<TITLE></TITLE>\n</HEAD>\n<BODY>\n<h3>XTSC Northern Li
	ghts vs. Formerly in Shape FC</h3>More info: <a href="https://www.golnetwor
	k.com/game/v/104933/">#65</a>\n\n</BODY>\n</HTML>
STATUS:CONFIRMED
CLASS:PUBLIC
URL:https://www.golnetwork.com/game/v/104933/
X-MICROSOFT-CDO-BUSYSTATUS:BUSY
X-MICROSOFT-CDO-IMPORTANCE:1
END:VEVENT
BEGIN:VEVENT
UID:gapbo@games.golnetwork.com
LOCATION:McNicoll Park - Field 1
CREATED:20170519T025926Z
DTSTART:20170528T220000Z
DTEND:20170528T230000Z
DTSTAMP:20260419T132737Z
SUMMARY:Scotia REDS vs. FoShizzle
DESCRIPTION:FoShizzle vs. Scotia REDSMore info: #183
X-ALT-DESC;FMTTYPE=text/html:<!DOCTYPE HTML PUBLIC "-//W3C//DTD HTML 3.2//E
	N">\n<HTML>\n<HEAD>\n<TITLE></TITLE>\n</HEAD>\n<BODY>\n<h3>FoShizzle vs. Sc
	otia REDS</h3>More info: <a href="https://www.golnetwork.com/game/v/106689/
	">#183</a>\n\n</BODY>\n</HTML>
STATUS:CONFIRMED
CLASS:PUBLIC
URL:https://www.golnetwork.com/game/v/106689/
X-MICROSOFT-CDO-BUSYSTATUS:BUSY
X-MICROSOFT-CDO-IMPORTANCE:1
END:VEVENT
BEGIN:VEVENT
UID:gapbq@games.golnetwork.com
LOCATION:McNicoll Park - Field 2
CREATED:20170519T025937Z
DTSTART:20170528T220000Z
DTEND:20170528T230000Z
DTSTAMP:20260419T132737Z
SUMMARY:Friends FC vs. XTSC Northern Lights
DESCRIPTION:XTSC Northern Lights vs. Friends FCMore info: #184
X-ALT-DESC;FMTTYPE=text/html:<!DOCTYPE HTML PUBLIC "-//W3C//DTD HTML 3.2//E
	N">\n<HTML>\n<HEAD>\n<TITLE></TITLE>\n</HEAD>\n<BODY>\n<h3>XTSC Northern Li
	ghts vs. Friends FC</h3>More info: <a href="https://www.golnetwork.com/game
	/v/106690/">#184</a>\n\n</BODY>\n</HTML>
STATUS:CONFIRMED
CLASS:PUBLIC
URL:https://www.golnetwork.com/game/v/106690/
X-MICROSOFT-CDO-BUSYSTATUS:BUSY
X-MICROSOFT-CDO-IMPORTANCE:1
END:VEVENT
BEGIN:VEVENT
UID:gapc3@games.golnetwork.com
LOCATION:McNicoll Park - Field 1
CREATED:20170519T025957Z
DTSTART:20170528T230000Z
DTEND:20170529T000000Z
DTSTAMP:20260419T132737Z
SUMMARY:Scotia REDS vs. XTSC Northern Lights
DESCRIPTION:XTSC Northern Lights vs. Scotia REDSMore info: #190
X-ALT-DESC;FMTTYPE=text/html:<!DOCTYPE HTML PUBLIC "-//W3C//DTD HTML 3.2//E
	N">\n<HTML>\n<HEAD>\n<TITLE></TITLE>\n</HEAD>\n<BODY>\n<h3>XTSC Northern Li
	ghts vs. Scotia REDS</h3>More info: <a href="https://www.golnetwork.com/gam
	e/v/106692/">#190</a>\n\n</BODY>\n</HTML>
STATUS:CONFIRMED
CLASS:PUBLIC
URL:https://www.golnetwork.com/game/v/106692/
X-MICROSOFT-CDO-BUSYSTATUS:BUSY
X-MICROSOFT-CDO-IMPORTANCE:1
END:VEVENT
BEGIN:VEVENT
UID:gapc1@games.golnetwork.com
LOCATION:McNicoll Park - Field 2
CREATED:20170519T025947Z
DTSTART:20170528T230000Z
DTEND:20170529T000000Z
DTSTAMP:20260419T132737Z
SUMMARY:XTSC Hawks vs. Blazin Ballerz
DESCRIPTION:Blazin Ballerz vs. XTSC HawksMore info: #191
X-ALT-DESC;FMTTYPE=text/html:<!DOCTYPE HTML PUBLIC "-//W3C//DTD HTML 3.2//E
	N">\n<HTML>\n<HEAD>\n<TITLE></TITLE>\n</HEAD>\n<BODY>\n<h3>Blazin Ballerz v
	s. XTSC Hawks</h3>More info: <a href="https://www.golnetwork.com/game/v/106
	691/">#191</a>\n\n</BODY>\n</HTML>
STATUS:CONFIRMED
CLASS:PUBLIC
URL:https://www.golnetwork.com/game/v/106691/
X-MICROSOFT-CDO-BUSYSTATUS:BUSY
X-MICROSOFT-CDO-IMPORTANCE:1
END:VEVENT
BEGIN:VEVENT
UID:gapc5@games.golnetwork.com
LOCATION:McNicoll Park - Field 1
CREATED:20170519T030008Z
DTSTART:20170529T000000Z
DTEND:20170529T010000Z
DTSTAMP:20260419T132737Z
SUMMARY:New Degeneration vs. Formerly in Shape FC
DESCRIPTION:Formerly in Shape FC vs. New DegenerationMore info: #197
X-ALT-DESC;FMTTYPE=text/html:<!DOCTYPE HTML PUBLIC "-//W3C//DTD HTML 3.2//E
	N">\n<HTML>\n<HEAD>\n<TITLE></TITLE>\n</HEAD>\n<BODY>\n<h3>Formerly in Shap
	e FC vs. New Degeneration</h3>More info: <a href="https://www.golnetwork.co
	m/game/v/106693/">#197</a>\n\n</BODY>\n</HTML>
STATUS:CONFIRMED
CLASS:PUBLIC
URL:https://www.golnetwork.com/game/v/106693/
X-MICROSOFT-CDO-BUSYSTATUS:BUSY
X-MICROSOFT-CDO-IMPORTANCE:1
END:VEVENT
BEGIN:VEVENT
UID:gapc7@games.golnetwork.com
LOCATION:McNicoll Park - Field 1
CREATED:20170519T030020Z
DTSTART:20170604T220000Z
DTEND:20170604T230000Z
DTSTAMP:20260419T132737Z
SUMMARY:FoShizzle vs. Blazin Ballerz
DESCRIPTION:Blazin Ballerz vs. FoShizzleMore info: #264
X-ALT-DESC;FMTTYPE=text/html:<!DOCTYPE HTML PUBLIC "-//W3C//DTD HTML 3.2//E
	N">\n<HTML>\n<HEAD>\n<TITLE></TITLE>\n</HEAD>\n<BODY>\n<h3>Blazin Ballerz v
	s. FoShizzle</h3>More info: <a href="https://www.golnetwork.com/game/v/1066
	94/">#264</a>\n\n</BODY>\n</HTML>
STATUS:CONFIRMED
CLASS:PUBLIC
URL:https://www.golnetwork.com/game/v/106694/
X-MICROSOFT-CDO-BUSYSTATUS:BUSY
X-MICROSOFT-CDO-IMPORTANCE:1
END:VEVENT
BEGIN:VEVENT
UID:gapc9@games.golnetwork.com
LOCATION:McNicoll Park - Field 2
CREATED:20170519T030028Z
DTSTART:20170604T220000Z
DTEND:20170604T230000Z
DTSTAMP:20260419T132737Z
SUMMARY:Scotia REDS vs. XTSC Hawks
DESCRIPTION:XTSC Hawks vs. Scotia REDSMore info: #265
X-ALT-DESC;FMTTYPE=text/html:<!DOCTYPE HTML PUBLIC "-//W3C//DTD HTML 3.2//E
	N">\n<HTML>\n<HEAD>\n<TITLE></TITLE>\n</HEAD>\n<BODY>\n<h3>XTSC Hawks vs. S
	cotia REDS</h3>More info: <a href="https://www.golnetwork.com/game/v/106695
	/">#265</a>\n\n</BODY>\n</HTML>
STATUS:CONFIRMED
CLASS:PUBLIC
URL:https://www.golnetwork.com/game/v/106695/
X-MICROSOFT-CDO-BUSYSTATUS:BUSY
X-MICROSOFT-CDO-IMPORTANCE:1
END:VEVENT
BEGIN:VEVENT
UID:gapcb@games.golnetwork.com
LOCATION:McNicoll Park - Field 1
CREATED:20170519T030043Z
DTSTART:20170604T230000Z
DTEND:20170605T000000Z
DTSTAMP:20260419T132737Z
SUMMARY:New Degeneration vs. XTSC Northern Lights
DESCRIPTION:XTSC Northern Lights vs. New DegenerationMore info: #272
X-ALT-DESC;FMTTYPE=text/html:<!DOCTYPE HTML PUBLIC "-//W3C//DTD HTML 3.2//E
	N">\n<HTML>\n<HEAD>\n<TITLE></TITLE>\n</HEAD>\n<BODY>\n<h3>XTSC Northern Li
	ghts vs. New Degeneration</h3>More info: <a href="https://www.golnetwork.co
	m/game/v/106696/">#272</a>\n\n</BODY>\n</HTML>
STATUS:CONFIRMED
CLASS:PUBLIC
URL:https://www.golnetwork.com/game/v/106696/
X-MICROSOFT-CDO-BUSYSTATUS:BUSY
X-MICROSOFT-CDO-IMPORTANCE:1
END:VEVENT
BEGIN:VEVENT
UID:gapcd@games.golnetwork.com
LOCATION:McNicoll Park - Field 2
CREATED:20170519T030054Z
DTSTART:20170604T230000Z
DTEND:20170605T000000Z
DTSTAMP:20260419T132737Z
SUMMARY:Formerly in Shape FC vs. XTSC Hawks
DESCRIPTION:XTSC Hawks vs. Formerly in Shape FCMore info: #273
X-ALT-DESC;FMTTYPE=text/html:<!DOCTYPE HTML PUBLIC "-//W3C//DTD HTML 3.2//E
	N">\n<HTML>\n<HEAD>\n<TITLE></TITLE>\n</HEAD>\n<BODY>\n<h3>XTSC Hawks vs. F
	ormerly in Shape FC</h3>More info: <a href="https://www.golnetwork.com/game
	/v/106697/">#273</a>\n\n</BODY>\n</HTML>
STATUS:CONFIRMED
CLASS:PUBLIC
URL:https://www.golnetwork.com/game/v/106697/
X-MICROSOFT-CDO-BUSYSTATUS:BUSY
X-MICROSOFT-CDO-IMPORTANCE:1
END:VEVENT
BEGIN:VEVENT
UID:gapcf@games.golnetwork.com
LOCATION:McNicoll Park - Field 1
CREATED:20170519T030106Z
DTSTART:20170605T000000Z
DTEND:20170605T010000Z
DTSTAMP:20260419T132737Z
SUMMARY:New Degeneration vs. Friends FC
DESCRIPTION:Friends FC vs. New DegenerationMore info: #277
X-ALT-DESC;FMTTYPE=text/html:<!DOCTYPE HTML PUBLIC "-//W3C//DTD HTML 3.2//E
	N">\n<HTML>\n<HEAD>\n<TITLE></TITLE>\n</HEAD>\n<BODY>\n<h3>Friends FC vs. N
	ew Degeneration</h3>More info: <a href="https://www.golnetwork.com/game/v/1
	06698/">#277</a>\n\n</BODY>\n</HTML>
STATUS:CONFIRMED
CLASS:PUBLIC
URL:https://www.golnetwork.com/game/v/106698/
X-MICROSOFT-CDO-BUSYSTATUS:BUSY
X-MICROSOFT-CDO-IMPORTANCE:1
END:VEVENT
BEGIN:VEVENT
UID:gapch@games.golnetwork.com
LOCATION:McNicoll Park - Field 1
CREATED:20170519T030124Z
DTSTART:20170611T220000Z
DTEND:20170611T230000Z
DTSTAMP:20260419T132737Z
SUMMARY:Formerly in Shape FC vs. Friends FC
DESCRIPTION:Friends FC vs. Formerly in Shape FCMore info: #344
X-ALT-DESC;FMTTYPE=text/html:<!DOCTYPE HTML PUBLIC "-//W3C//DTD HTML 3.2//E
	N">\n<HTML>\n<HEAD>\n<TITLE></TITLE>\n</HEAD>\n<BODY>\n<h3>Friends FC vs. F
	ormerly in Shape FC</h3>More info: <a href="https://www.golnetwork.com/game
	/v/106699/">#344</a>\n\n</BODY>\n</HTML>
STATUS:CONFIRMED
CLASS:PUBLIC
URL:https://www.golnetwork.com/game/v/106699/
X-MICROSOFT-CDO-BUSYSTATUS:BUSY
X-MICROSOFT-CDO-IMPORTANCE:1
END:VEVENT
BEGIN:VEVENT
UID:gapcj@games.golnetwork.com
LOCATION:McNicoll Park - Field 2
CREATED:20170519T030132Z
DTSTART:20170611T220000Z
DTEND:20170611T230000Z
DTSTAMP:20260419T132737Z
SUMMARY:FoShizzle vs. New Degeneration
DESCRIPTION:New Degeneration vs. FoShizzleMore info: #345
X-ALT-DESC;FMTTYPE=text/html:<!DOCTYPE HTML PUBLIC "-//W3C//DTD HTML 3.2//E
	N">\n<HTML>\n<HEAD>\n<TITLE></TITLE>\n</HEAD>\n<BODY>\n<h3>New Degeneration
	 vs. FoShizzle</h3>More info: <a href="https://www.golnetwork.com/game/v/10
	6700/">#345</a>\n\n</BODY>\n</HTML>
STATUS:CONFIRMED
CLASS:PUBLIC
URL:https://www.golnetwork.com/game/v/106700/
X-MICROSOFT-CDO-BUSYSTATUS:BUSY
X-MICROSOFT-CDO-IMPORTANCE:1
END:VEVENT
BEGIN:VEVENT
UID:gapcl@games.golnetwork.com
LOCATION:McNicoll Park - Field 1
CREATED:20170519T030145Z
DTSTART:20170611T230000Z
DTEND:20170612T000000Z
DTSTAMP:20260419T132737Z
SUMMARY:XTSC Hawks vs. XTSC Northern Lights
DESCRIPTION:XTSC Northern Lights vs. XTSC HawksMore info: #350
X-ALT-DESC;FMTTYPE=text/html:<!DOCTYPE HTML PUBLIC "-//W3C//DTD HTML 3.2//E
	N">\n<HTML>\n<HEAD>\n<TITLE></TITLE>\n</HEAD>\n<BODY>\n<h3>XTSC Northern Li
	ghts vs. XTSC Hawks</h3>More info: <a href="https://www.golnetwork.com/game
	/v/106701/">#350</a>\n\n</BODY>\n</HTML>
STATUS:CONFIRMED
CLASS:PUBLIC
URL:https://www.golnetwork.com/game/v/106701/
X-MICROSOFT-CDO-BUSYSTATUS:BUSY
X-MICROSOFT-CDO-IMPORTANCE:1
END:VEVENT
BEGIN:VEVENT
UID:gapcn@games.golnetwork.com
LOCATION:McNicoll Park - Field 2
CREATED:20170519T030154Z
DTSTART:20170611T230000Z
DTEND:20170612T000000Z
DTSTAMP:20260419T132737Z
SUMMARY:FoShizzle vs. Friends FC
DESCRIPTION:Friends FC vs. FoShizzleMore info: #351
X-ALT-DESC;FMTTYPE=text/html:<!DOCTYPE HTML PUBLIC "-//W3C//DTD HTML 3.2//E
	N">\n<HTML>\n<HEAD>\n<TITLE></TITLE>\n</HEAD>\n<BODY>\n<h3>Friends FC vs. F
	oShizzle</h3>More info: <a href="https://www.golnetwork.com/game/v/106702/"
	>#351</a>\n\n</BODY>\n</HTML>
STATUS:CONFIRMED
CLASS:PUBLIC
URL:https://www.golnetwork.com/game/v/106702/
X-MICROSOFT-CDO-BUSYSTATUS:BUSY
X-MICROSOFT-CDO-IMPORTANCE:1
END:VEVENT
BEGIN:VEVENT
UID:gapcp@games.golnetwork.com
LOCATION:McNicoll Park - Field 2
CREATED:20170519T030205Z
DTSTART:20170612T000000Z
DTEND:20170612T010000Z
DTSTAMP:20260419T132737Z
SUMMARY:Blazin Ballerz vs. Scotia REDS
DESCRIPTION:Scotia REDS vs. Blazin BallerzMore info: #358
X-ALT-DESC;FMTTYPE=text/html:<!DOCTYPE HTML PUBLIC "-//W3C//DTD HTML 3.2//E
	N">\n<HTML>\n<HEAD>\n<TITLE></TITLE>\n</HEAD>\n<BODY>\n<h3>Scotia REDS vs. 
	Blazin Ballerz</h3>More info: <a href="https://www.golnetwork.com/game/v/10
	6703/">#358</a>\n\n</BODY>\n</HTML>
STATUS:CONFIRMED
CLASS:PUBLIC
URL:https://www.golnetwork.com/game/v/106703/
X-MICROSOFT-CDO-BUSYSTATUS:BUSY
X-MICROSOFT-CDO-IMPORTANCE:1
END:VEVENT
BEGIN:VEVENT
UID:gapd0@games.golnetwork.com
LOCATION:McNicoll Park - Field 1
CREATED:20170519T030219Z
DTSTART:20170618T220000Z
DTEND:20170618T230000Z
DTSTAMP:20260419T132737Z
SUMMARY:Blazin Ballerz vs. Friends FC
DESCRIPTION:Friends FC vs. Blazin BallerzMore info: #424
X-ALT-DESC;FMTTYPE=text/html:<!DOCTYPE HTML PUBLIC "-//W3C//DTD HTML 3.2//E
	N">\n<HTML>\n<HEAD>\n<TITLE></TITLE>\n</HEAD>\n<BODY>\n<h3>Friends FC vs. B
	lazin Ballerz</h3>More info: <a href="https://www.golnetwork.com/game/v/106
	704/">#424</a>\n\n</BODY>\n</HTML>
STATUS:CONFIRMED
CLASS:PUBLIC
URL:https://www.golnetwork.com/game/v/106704/
X-MICROSOFT-CDO-BUSYSTATUS:BUSY
X-MICROSOFT-CDO-IMPORTANCE:1
END:VEVENT
BEGIN:VEVENT
UID:gapd2@games.golnetwork.com
LOCATION:McNicoll Park - Field 2
CREATED:20170519T030228Z
DTSTART:20170618T220000Z
DTEND:20170618T230000Z
DTSTAMP:20260419T132737Z
SUMMARY:XTSC Hawks vs. New Degeneration
DESCRIPTION:New Degeneration vs. XTSC HawksMore info: #425
X-ALT-DESC;FMTTYPE=text/html:<!DOCTYPE HTML PUBLIC "-//W3C//DTD HTML 3.2//E
	N">\n<HTML>\n<HEAD>\n<TITLE></TITLE>\n</HEAD>\n<BODY>\n<h3>New Degeneration
	 vs. XTSC Hawks</h3>More info: <a href="https://www.golnetwork.com/game/v/1
	06705/">#425</a>\n\n</BODY>\n</HTML>
STATUS:CONFIRMED
CLASS:PUBLIC
URL:https://www.golnetwork.com/game/v/106705/
X-MICROSOFT-CDO-BUSYSTATUS:BUSY
X-MICROSOFT-CDO-IMPORTANCE:1
END:VEVENT
BEGIN:VEVENT
UID:gapd4@games.golnetwork.com
LOCATION:McNicoll Park - Field 1
CREATED:20170519T030241Z
DTSTART:20170618T230000Z
DTEND:20170619T000000Z
DTSTAMP:20260419T132737Z
SUMMARY:Blazin Ballerz vs. New Degeneration
DESCRIPTION:New Degeneration vs. Blazin BallerzMore info: #430
X-ALT-DESC;FMTTYPE=text/html:<!DOCTYPE HTML PUBLIC "-//W3C//DTD HTML 3.2//E
	N">\n<HTML>\n<HEAD>\n<TITLE></TITLE>\n</HEAD>\n<BODY>\n<h3>New Degeneration
	 vs. Blazin Ballerz</h3>More info: <a href="https://www.golnetwork.com/game
	/v/106706/">#430</a>\n\n</BODY>\n</HTML>
STATUS:CONFIRMED
CLASS:PUBLIC
URL:https://www.golnetwork.com/game/v/106706/
X-MICROSOFT-CDO-BUSYSTATUS:BUSY
X-MICROSOFT-CDO-IMPORTANCE:1
END:VEVENT
BEGIN:VEVENT
UID:gapd6@games.golnetwork.com
LOCATION:McNicoll Park - Field 2
CREATED:20170519T030252Z
DTSTART:20170618T230000Z
DTEND:20170619T000000Z
DTSTAMP:20260419T132737Z
SUMMARY:Formerly in Shape FC vs. Scotia REDS
DESCRIPTION:Scotia REDS vs. Formerly in Shape FCMore info: #431
X-ALT-DESC;FMTTYPE=text/html:<!DOCTYPE HTML PUBLIC "-//W3C//DTD HTML 3.2//E
	N">\n<HTML>\n<HEAD>\n<TITLE></TITLE>\n</HEAD>\n<BODY>\n<h3>Scotia REDS vs. 
	Formerly in Shape FC</h3>More info: <a href="https://www.golnetwork.com/gam
	e/v/106707/">#431</a>\n\n</BODY>\n</HTML>
STATUS:CONFIRMED
CLASS:PUBLIC
URL:https://www.golnetwork.com/game/v/106707/
X-MICROSOFT-CDO-BUSYSTATUS:BUSY
X-MICROSOFT-CDO-IMPORTANCE:1
END:VEVENT
BEGIN:VEVENT
UID:gapd8@games.golnetwork.com
LOCATION:McNicoll Park - Field 1
CREATED:20170519T030304Z
DTSTART:20170619T000000Z
DTEND:20170619T010000Z
DTSTAMP:20260419T132737Z
SUMMARY:FoShizzle vs. XTSC Northern Lights
DESCRIPTION:XTSC Northern Lights vs. FoShizzleMore info: #438
X-ALT-DESC;FMTTYPE=text/html:<!DOCTYPE HTML PUBLIC "-//W3C//DTD HTML 3.2//E
	N">\n<HTML>\n<HEAD>\n<TITLE></TITLE>\n</HEAD>\n<BODY>\n<h3>XTSC Northern Li
	ghts vs. FoShizzle</h3>More info: <a href="https://www.golnetwork.com/game/
	v/106708/">#438</a>\n\n</BODY>\n</HTML>
STATUS:CONFIRMED
CLASS:PUBLIC
URL:https://www.golnetwork.com/game/v/106708/
X-MICROSOFT-CDO-BUSYSTATUS:BUSY
X-MICROSOFT-CDO-IMPORTANCE:1
END:VEVENT
BEGIN:VEVENT
UID:gapda@games.golnetwork.com
LOCATION:McNicoll Park - Field 1
CREATED:20170519T030318Z
DTSTART:20170625T220000Z
DTEND:20170625T230000Z
DTSTAMP:20260419T132737Z
SUMMARY:FoShizzle vs. Formerly in Shape FC
DESCRIPTION:Formerly in Shape FC vs. FoShizzleMore info: #507
X-ALT-DESC;FMTTYPE=text/html:<!DOCTYPE HTML PUBLIC "-//W3C//DTD HTML 3.2//E
	N">\n<HTML>\n<HEAD>\n<TITLE></TITLE>\n</HEAD>\n<BODY>\n<h3>Formerly in Shap
	e FC vs. FoShizzle</h3>More info: <a href="https://www.golnetwork.com/game/
	v/106709/">#507</a>\n\n</BODY>\n</HTML>
STATUS:CONFIRMED
CLASS:PUBLIC
URL:https://www.golnetwork.com/game/v/106709/
X-MICROSOFT-CDO-BUSYSTATUS:BUSY
X-MICROSOFT-CDO-IMPORTANCE:1
END:VEVENT
BEGIN:VEVENT
UID:gapdc@games.golnetwork.com
LOCATION:McNicoll Park - Field 2
CREATED:20170519T030327Z
DTSTART:20170625T220000Z
DTEND:20170625T230000Z
DTSTAMP:20260419T132737Z
SUMMARY:New Degeneration vs. Scotia REDS
DESCRIPTION:Scotia REDS vs. New DegenerationMore info: #508
X-ALT-DESC;FMTTYPE=text/html:<!DOCTYPE HTML PUBLIC "-//W3C//DTD HTML 3.2//E
	N">\n<HTML>\n<HEAD>\n<TITLE></TITLE>\n</HEAD>\n<BODY>\n<h3>Scotia REDS vs. 
	New Degeneration</h3>More info: <a href="https://www.golnetwork.com/game/v/
	106710/">#508</a>\n\n</BODY>\n</HTML>
STATUS:CONFIRMED
CLASS:PUBLIC
URL:https://www.golnetwork.com/game/v/106710/
X-MICROSOFT-CDO-BUSYSTATUS:BUSY
X-MICROSOFT-CDO-IMPORTANCE:1
END:VEVENT
BEGIN:VEVENT
UID:gapde@games.golnetwork.com
LOCATION:McNicoll Park - Field 1
CREATED:20170519T030337Z
DTSTART:20170625T230000Z
DTEND:20170626T000000Z
DTSTAMP:20260419T132737Z
SUMMARY:XTSC Northern Lights vs. Blazin Ballerz
DESCRIPTION:Blazin Ballerz vs. XTSC Northern LightsMore info: #514
X-ALT-DESC;FMTTYPE=text/html:<!DOCTYPE HTML PUBLIC "-//W3C//DTD HTML 3.2//E
	N">\n<HTML>\n<HEAD>\n<TITLE></TITLE>\n</HEAD>\n<BODY>\n<h3>Blazin Ballerz v
	s. XTSC Northern Lights</h3>More info: <a href="https://www.golnetwork.com/
	game/v/106711/">#514</a>\n\n</BODY>\n</HTML>
STATUS:CONFIRMED
CLASS:PUBLIC
URL:https://www.golnetwork.com/game/v/106711/
X-MICROSOFT-CDO-BUSYSTATUS:BUSY
X-MICROSOFT-CDO-IMPORTANCE:1
END:VEVENT
BEGIN:VEVENT
UID:gapdg@games.golnetwork.com
LOCATION:McNicoll Park - Field 2
CREATED:20170519T030347Z
DTSTART:20170625T230000Z
DTEND:20170626T000000Z
DTSTAMP:20260419T132737Z
SUMMARY:Friends FC vs. XTSC Hawks
DESCRIPTION:XTSC Hawks vs. Friends FCMore info: #515
X-ALT-DESC;FMTTYPE=text/html:<!DOCTYPE HTML PUBLIC "-//W3C//DTD HTML 3.2//E
	N">\n<HTML>\n<HEAD>\n<TITLE></TITLE>\n</HEAD>\n<BODY>\n<h3>XTSC Hawks vs. F
	riends FC</h3>More info: <a href="https://www.golnetwork.com/game/v/106712/
	">#515</a>\n\n</BODY>\n</HTML>
STATUS:CONFIRMED
CLASS:PUBLIC
URL:https://www.golnetwork.com/game/v/106712/
X-MICROSOFT-CDO-BUSYSTATUS:BUSY
X-MICROSOFT-CDO-IMPORTANCE:1
END:VEVENT
BEGIN:VEVENT
UID:gapdk@games.golnetwork.com
LOCATION:McNicoll Park - Field 1
CREATED:20170519T030409Z
DTSTART:20170709T220000Z
DTEND:20170709T230000Z
DTSTAMP:20260419T132737Z
SUMMARY:XTSC Hawks vs. Blazin Ballerz
DESCRIPTION:Blazin Ballerz vs. XTSC HawksMore info: #629
X-ALT-DESC;FMTTYPE=text/html:<!DOCTYPE HTML PUBLIC "-//W3C//DTD HTML 3.2//E
	N">\n<HTML>\n<HEAD>\n<TITLE></TITLE>\n</HEAD>\n<BODY>\n<h3>Blazin Ballerz v
	s. XTSC Hawks</h3>More info: <a href="https://www.golnetwork.com/game/v/106
	714/">#629</a>\n\n</BODY>\n</HTML>
STATUS:CONFIRMED
CLASS:PUBLIC
URL:https://www.golnetwork.com/game/v/106714/
X-MICROSOFT-CDO-BUSYSTATUS:BUSY
X-MICROSOFT-CDO-IMPORTANCE:1
END:VEVENT
BEGIN:VEVENT
UID:gapdi@games.golnetwork.com
LOCATION:McNicoll Park - Field 2
CREATED:20170519T030405Z
DTSTART:20170709T220000Z
DTEND:20170709T230000Z
DTSTAMP:20260419T132737Z
SUMMARY:XTSC Northern Lights vs. Scotia REDS
DESCRIPTION:Scotia REDS vs. XTSC Northern LightsMore info: #630
X-ALT-DESC;FMTTYPE=text/html:<!DOCTYPE HTML PUBLIC "-//W3C//DTD HTML 3.2//E
	N">\n<HTML>\n<HEAD>\n<TITLE></TITLE>\n</HEAD>\n<BODY>\n<h3>Scotia REDS vs. 
	XTSC Northern Lights</h3>More info: <a href="https://www.golnetwork.com/gam
	e/v/106713/">#630</a>\n\n</BODY>\n</HTML>
STATUS:CONFIRMED
CLASS:PUBLIC
URL:https://www.golnetwork.com/game/v/106713/
X-MICROSOFT-CDO-BUSYSTATUS:BUSY
X-MICROSOFT-CDO-IMPORTANCE:1
END:VEVENT
BEGIN:VEVENT
UID:gapdm@games.golnetwork.com
LOCATION:McNicoll Park - Field 1
CREATED:20170519T030416Z
DTSTART:20170716T220000Z
DTEND:20170716T230000Z
DTSTAMP:20260419T132737Z
SUMMARY:Formerly in Shape FC vs. FoShizzle
DESCRIPTION:FoShizzle vs. Formerly in Shape FCMore info: #687
X-ALT-DESC;FMTTYPE=text/html:<!DOCTYPE HTML PUBLIC "-//W3C//DTD HTML 3.2//E
	N">\n<HTML>\n<HEAD>\n<TITLE></TITLE>\n</HEAD>\n<BODY>\n<h3>FoShizzle vs. Fo
	rmerly in Shape FC</h3>More info: <a href="https://www.golnetwork.com/game/
	v/106715/">#687</a>\n\n</BODY>\n</HTML>
STATUS:CONFIRMED
CLASS:PUBLIC
URL:https://www.golnetwork.com/game/v/106715/
X-MICROSOFT-CDO-BUSYSTATUS:BUSY
X-MICROSOFT-CDO-IMPORTANCE:1
END:VEVENT
BEGIN:VEVENT
UID:gapdo@games.golnetwork.com
LOCATION:McNicoll Park - Field 2
CREATED:20170519T030422Z
DTSTART:20170716T220000Z
DTEND:20170716T230000Z
DTSTAMP:20260419T132737Z
SUMMARY:Blazin Ballerz vs. Scotia REDS
DESCRIPTION:Scotia REDS vs. Blazin BallerzMore info: #688
X-ALT-DESC;FMTTYPE=text/html:<!DOCTYPE HTML PUBLIC "-//W3C//DTD HTML 3.2//E
	N">\n<HTML>\n<HEAD>\n<TITLE></TITLE>\n</HEAD>\n<BODY>\n<h3>Scotia REDS vs. 
	Blazin Ballerz</h3>More info: <a href="https://www.golnetwork.com/game/v/10
	6716/">#688</a>\n\n</BODY>\n</HTML>
STATUS:CONFIRMED
CLASS:PUBLIC
URL:https://www.golnetwork.com/game/v/106716/
X-MICROSOFT-CDO-BUSYSTATUS:BUSY
X-MICROSOFT-CDO-IMPORTANCE:1
END:VEVENT
BEGIN:VEVENT
UID:gapdq@games.golnetwork.com
LOCATION:McNicoll Park - Field 2
CREATED:20170519T030427Z
DTSTART:20170716T230000Z
DTEND:20170717T000000Z
DTSTAMP:20260419T132737Z
SUMMARY:XTSC Hawks vs. XTSC Northern Lights
DESCRIPTION:XTSC Northern Lights vs. XTSC HawksMore info: #694
X-ALT-DESC;FMTTYPE=text/html:<!DOCTYPE HTML PUBLIC "-//W3C//DTD HTML 3.2//E
	N">\n<HTML>\n<HEAD>\n<TITLE></TITLE>\n</HEAD>\n<BODY>\n<h3>XTSC Northern Li
	ghts vs. XTSC Hawks</h3>More info: <a href="https://www.golnetwork.com/game
	/v/106717/">#694</a>\n\n</BODY>\n</HTML>
STATUS:CONFIRMED
CLASS:PUBLIC
URL:https://www.golnetwork.com/game/v/106717/
X-MICROSOFT-CDO-BUSYSTATUS:BUSY
X-MICROSOFT-CDO-IMPORTANCE:1
END:VEVENT
END:VCALENDAR
