BEGIN:VCALENDAR
PRODID:-//gdesolutions.com//MV Framework 1.0.0.1607 Calendar//EN
VERSION:2.0
METHOD:PUBLISH
CALSCALE:GREGORIAN
BEGIN:VEVENT
UID:gb00h@games.golnetwork.com
LOCATION:Central Tech - Field 2
GEO:43.6637272;-79.4087613
CREATED:20170530T135148Z
DTSTART:20170710T000000Z
DTEND:20170710T005000Z
DTSTAMP:20260419T211438Z
SUMMARY:Blazing Blumpkins vs. Real Gunners
DESCRIPTION:Real Gunners vs. Blazing BlumpkinsMore info: #285
X-ALT-DESC;FMTTYPE=text/html:<!DOCTYPE HTML PUBLIC "-//W3C//DTD HTML 3.2//E
	N">\n<HTML>\n<HEAD>\n<TITLE></TITLE>\n</HEAD>\n<BODY>\n<h3>Real Gunners vs.
	 Blazing Blumpkins</h3>More info: <a href="https://www.golnetwork.com/game/
	v/107266/">#285</a>\n\n</BODY>\n</HTML>
STATUS:CONFIRMED
CLASS:PUBLIC
URL:https://www.golnetwork.com/game/v/107266/
X-MICROSOFT-CDO-BUSYSTATUS:BUSY
X-MICROSOFT-CDO-IMPORTANCE:1
END:VEVENT
BEGIN:VEVENT
UID:gb00j@games.golnetwork.com
LOCATION:Central Tech - Field 2
GEO:43.6637272;-79.4087613
CREATED:20170530T135148Z
DTSTART:20170710T010000Z
DTEND:20170710T015000Z
DTSTAMP:20260419T211438Z
SUMMARY:2 Goals\, 1 Cup FC vs. King City
DESCRIPTION:King City vs. 2 Goals\, 1 Cup FCMore info: #288
X-ALT-DESC;FMTTYPE=text/html:<!DOCTYPE HTML PUBLIC "-//W3C//DTD HTML 3.2//E
	N">\n<HTML>\n<HEAD>\n<TITLE></TITLE>\n</HEAD>\n<BODY>\n<h3>King City vs. 2 
	Goals\, 1 Cup FC</h3>More info: <a href="https://www.golnetwork.com/game/v/
	107267/">#288</a>\n\n</BODY>\n</HTML>
STATUS:CONFIRMED
CLASS:PUBLIC
URL:https://www.golnetwork.com/game/v/107267/
X-MICROSOFT-CDO-BUSYSTATUS:BUSY
X-MICROSOFT-CDO-IMPORTANCE:1
END:VEVENT
BEGIN:VEVENT
UID:gb00l@games.golnetwork.com
LOCATION:Central Tech - Field 2
GEO:43.6637272;-79.4087613
CREATED:20170530T135148Z
DTSTART:20170717T000000Z
DTEND:20170717T005000Z
DTSTAMP:20260419T211438Z
SUMMARY:King City vs. Real Gunners
DESCRIPTION:Real Gunners vs. King CityMore info: #307
X-ALT-DESC;FMTTYPE=text/html:<!DOCTYPE HTML PUBLIC "-//W3C//DTD HTML 3.2//E
	N">\n<HTML>\n<HEAD>\n<TITLE></TITLE>\n</HEAD>\n<BODY>\n<h3>Real Gunners vs.
	 King City</h3>More info: <a href="https://www.golnetwork.com/game/v/107268
	/">#307</a>\n\n</BODY>\n</HTML>
STATUS:CONFIRMED
CLASS:PUBLIC
URL:https://www.golnetwork.com/game/v/107268/
X-MICROSOFT-CDO-BUSYSTATUS:BUSY
X-MICROSOFT-CDO-IMPORTANCE:1
END:VEVENT
END:VCALENDAR
