BEGIN:VCALENDAR
PRODID:-//gdesolutions.com//MV Framework 1.0.0.1607 Calendar//EN
VERSION:2.0
METHOD:PUBLISH
CALSCALE:GREGORIAN
BEGIN:VEVENT
UID:gan2l@games.golnetwork.com
LOCATION:Cherry Beach East 1
CREATED:20170511T014701Z
DTSTART:20170517T010000Z
DTEND:20170517T020000Z
DTSTAMP:20260421T165657Z
SUMMARY:Little Kickers FC vs. Billy Zane and the Walk-Offs
DESCRIPTION:Billy Zane and the Walk-Offs vs. Little Kickers FCMore info: #8
	8
X-ALT-DESC;FMTTYPE=text/html:<!DOCTYPE HTML PUBLIC "-//W3C//DTD HTML 3.2//E
	N">\n<HTML>\n<HEAD>\n<TITLE></TITLE>\n</HEAD>\n<BODY>\n<h3>Billy Zane and t
	he Walk-Offs vs. Little Kickers FC</h3>More info: <a href="https://www.goln
	etwork.com/game/v/105837/">#88</a>\n\n</BODY>\n</HTML>
STATUS:CONFIRMED
CLASS:PUBLIC
URL:https://www.golnetwork.com/game/v/105837/
X-MICROSOFT-CDO-BUSYSTATUS:BUSY
X-MICROSOFT-CDO-IMPORTANCE:1
END:VEVENT
BEGIN:VEVENT
UID:gan2n@games.golnetwork.com
LOCATION:Cherry Beach East 1
CREATED:20170511T015225Z
DTSTART:20170517T020000Z
DTEND:20170517T030000Z
DTSTAMP:20260421T165657Z
SUMMARY:SAS vs. Richmond Day FC
DESCRIPTION:Richmond Day FC vs. SASMore info: #92
X-ALT-DESC;FMTTYPE=text/html:<!DOCTYPE HTML PUBLIC "-//W3C//DTD HTML 3.2//E
	N">\n<HTML>\n<HEAD>\n<TITLE></TITLE>\n</HEAD>\n<BODY>\n<h3>Richmond Day FC 
	vs. SAS</h3>More info: <a href="https://www.golnetwork.com/game/v/105838/">
	#92</a>\n\n</BODY>\n</HTML>
STATUS:CONFIRMED
CLASS:PUBLIC
URL:https://www.golnetwork.com/game/v/105838/
X-MICROSOFT-CDO-BUSYSTATUS:BUSY
X-MICROSOFT-CDO-IMPORTANCE:1
END:VEVENT
BEGIN:VEVENT
UID:gan2p@games.golnetwork.com
LOCATION:Cherry Beach East 1
CREATED:20170511T015311Z
DTSTART:20170517T030000Z
DTEND:20170517T040000Z
DTSTAMP:20260421T165657Z
SUMMARY:XTSC Goal Diggers vs. Sharp Shooters
DESCRIPTION:Sharp Shooters vs. XTSC Goal DiggersMore info: #96
X-ALT-DESC;FMTTYPE=text/html:<!DOCTYPE HTML PUBLIC "-//W3C//DTD HTML 3.2//E
	N">\n<HTML>\n<HEAD>\n<TITLE></TITLE>\n</HEAD>\n<BODY>\n<h3>Sharp Shooters v
	s. XTSC Goal Diggers</h3>More info: <a href="https://www.golnetwork.com/gam
	e/v/105839/">#96</a>\n\n</BODY>\n</HTML>
STATUS:CONFIRMED
CLASS:PUBLIC
URL:https://www.golnetwork.com/game/v/105839/
X-MICROSOFT-CDO-BUSYSTATUS:BUSY
X-MICROSOFT-CDO-IMPORTANCE:1
END:VEVENT
BEGIN:VEVENT
UID:gan30@games.golnetwork.com
LOCATION:Cherry Beach East 1
CREATED:20170511T015321Z
DTSTART:20170524T010000Z
DTEND:20170524T020000Z
DTSTAMP:20260421T165657Z
SUMMARY:SAS vs. XTSC Goal Diggers
DESCRIPTION:XTSC Goal Diggers vs. SASMore info: #133
X-ALT-DESC;FMTTYPE=text/html:<!DOCTYPE HTML PUBLIC "-//W3C//DTD HTML 3.2//E
	N">\n<HTML>\n<HEAD>\n<TITLE></TITLE>\n</HEAD>\n<BODY>\n<h3>XTSC Goal Digger
	s vs. SAS</h3>More info: <a href="https://www.golnetwork.com/game/v/105840/
	">#133</a>\n\n</BODY>\n</HTML>
STATUS:CONFIRMED
CLASS:PUBLIC
URL:https://www.golnetwork.com/game/v/105840/
X-MICROSOFT-CDO-BUSYSTATUS:BUSY
X-MICROSOFT-CDO-IMPORTANCE:1
END:VEVENT
BEGIN:VEVENT
UID:gan32@games.golnetwork.com
LOCATION:Cherry Beach East 1
CREATED:20170511T015331Z
DTSTART:20170524T020000Z
DTEND:20170524T030000Z
DTSTAMP:20260421T165657Z
SUMMARY:Little Kickers FC vs. Sharp Shooters
DESCRIPTION:Sharp Shooters vs. Little Kickers FCMore info: #137
X-ALT-DESC;FMTTYPE=text/html:<!DOCTYPE HTML PUBLIC "-//W3C//DTD HTML 3.2//E
	N">\n<HTML>\n<HEAD>\n<TITLE></TITLE>\n</HEAD>\n<BODY>\n<h3>Sharp Shooters v
	s. Little Kickers FC</h3>More info: <a href="https://www.golnetwork.com/gam
	e/v/105841/">#137</a>\n\n</BODY>\n</HTML>
STATUS:CONFIRMED
CLASS:PUBLIC
URL:https://www.golnetwork.com/game/v/105841/
X-MICROSOFT-CDO-BUSYSTATUS:BUSY
X-MICROSOFT-CDO-IMPORTANCE:1
END:VEVENT
BEGIN:VEVENT
UID:gan34@games.golnetwork.com
LOCATION:Cherry Beach East 1
CREATED:20170511T015340Z
DTSTART:20170524T030000Z
DTEND:20170524T040000Z
DTSTAMP:20260421T165657Z
SUMMARY:Richmond Day FC vs. Billy Zane and the Walk-Offs
DESCRIPTION:Billy Zane and the Walk-Offs vs. Richmond Day FCMore info: #141
X-ALT-DESC;FMTTYPE=text/html:<!DOCTYPE HTML PUBLIC "-//W3C//DTD HTML 3.2//E
	N">\n<HTML>\n<HEAD>\n<TITLE></TITLE>\n</HEAD>\n<BODY>\n<h3>Billy Zane and t
	he Walk-Offs vs. Richmond Day FC</h3>More info: <a href="https://www.golnet
	work.com/game/v/105842/">#141</a>\n\n</BODY>\n</HTML>
STATUS:CONFIRMED
CLASS:PUBLIC
URL:https://www.golnetwork.com/game/v/105842/
X-MICROSOFT-CDO-BUSYSTATUS:BUSY
X-MICROSOFT-CDO-IMPORTANCE:1
END:VEVENT
BEGIN:VEVENT
UID:gan36@games.golnetwork.com
LOCATION:Cherry Beach East 1
CREATED:20170511T015357Z
DTSTART:20170531T010000Z
DTEND:20170531T020000Z
DTSTAMP:20260421T165657Z
SUMMARY:Richmond Day FC vs. XTSC Goal Diggers
DESCRIPTION:XTSC Goal Diggers vs. Richmond Day FCMore info: #214
X-ALT-DESC;FMTTYPE=text/html:<!DOCTYPE HTML PUBLIC "-//W3C//DTD HTML 3.2//E
	N">\n<HTML>\n<HEAD>\n<TITLE></TITLE>\n</HEAD>\n<BODY>\n<h3>XTSC Goal Digger
	s vs. Richmond Day FC</h3>More info: <a href="https://www.golnetwork.com/ga
	me/v/105843/">#214</a>\n\n</BODY>\n</HTML>
STATUS:CONFIRMED
CLASS:PUBLIC
URL:https://www.golnetwork.com/game/v/105843/
X-MICROSOFT-CDO-BUSYSTATUS:BUSY
X-MICROSOFT-CDO-IMPORTANCE:1
END:VEVENT
BEGIN:VEVENT
UID:gan38@games.golnetwork.com
LOCATION:Cherry Beach East 1
CREATED:20170511T015406Z
DTSTART:20170531T020000Z
DTEND:20170531T030000Z
DTSTAMP:20260421T165657Z
SUMMARY:Sharp Shooters vs. Billy Zane and the Walk-Offs
DESCRIPTION:Billy Zane and the Walk-Offs vs. Sharp ShootersMore info: #218
X-ALT-DESC;FMTTYPE=text/html:<!DOCTYPE HTML PUBLIC "-//W3C//DTD HTML 3.2//E
	N">\n<HTML>\n<HEAD>\n<TITLE></TITLE>\n</HEAD>\n<BODY>\n<h3>Billy Zane and t
	he Walk-Offs vs. Sharp Shooters</h3>More info: <a href="https://www.golnetw
	ork.com/game/v/105844/">#218</a>\n\n</BODY>\n</HTML>
STATUS:CONFIRMED
CLASS:PUBLIC
URL:https://www.golnetwork.com/game/v/105844/
X-MICROSOFT-CDO-BUSYSTATUS:BUSY
X-MICROSOFT-CDO-IMPORTANCE:1
END:VEVENT
BEGIN:VEVENT
UID:gan3a@games.golnetwork.com
LOCATION:Cherry Beach East 1
CREATED:20170511T015415Z
DTSTART:20170531T030000Z
DTEND:20170531T040000Z
DTSTAMP:20260421T165657Z
SUMMARY:Little Kickers FC vs. SAS
DESCRIPTION:SAS vs. Little Kickers FCMore info: #222
X-ALT-DESC;FMTTYPE=text/html:<!DOCTYPE HTML PUBLIC "-//W3C//DTD HTML 3.2//E
	N">\n<HTML>\n<HEAD>\n<TITLE></TITLE>\n</HEAD>\n<BODY>\n<h3>SAS vs. Little K
	ickers FC</h3>More info: <a href="https://www.golnetwork.com/game/v/105845/
	">#222</a>\n\n</BODY>\n</HTML>
STATUS:RESCHEDULED
CLASS:PUBLIC
URL:https://www.golnetwork.com/game/v/105845/
X-MICROSOFT-CDO-BUSYSTATUS:BUSY
X-MICROSOFT-CDO-IMPORTANCE:1
END:VEVENT
BEGIN:VEVENT
UID:gan3c@games.golnetwork.com
LOCATION:Cherry Beach East 1
CREATED:20170511T015429Z
DTSTART:20170607T010000Z
DTEND:20170607T020000Z
DTSTAMP:20260421T165657Z
SUMMARY:Sharp Shooters vs. SAS
DESCRIPTION:SAS vs. Sharp ShootersMore info: #291
X-ALT-DESC;FMTTYPE=text/html:<!DOCTYPE HTML PUBLIC "-//W3C//DTD HTML 3.2//E
	N">\n<HTML>\n<HEAD>\n<TITLE></TITLE>\n</HEAD>\n<BODY>\n<h3>SAS vs. Sharp Sh
	ooters</h3>More info: <a href="https://www.golnetwork.com/game/v/105846/">#
	291</a>\n\n</BODY>\n</HTML>
STATUS:CONFIRMED
CLASS:PUBLIC
URL:https://www.golnetwork.com/game/v/105846/
X-MICROSOFT-CDO-BUSYSTATUS:BUSY
X-MICROSOFT-CDO-IMPORTANCE:1
END:VEVENT
BEGIN:VEVENT
UID:gan3e@games.golnetwork.com
LOCATION:Cherry Beach East 1
CREATED:20170511T015437Z
DTSTART:20170607T020000Z
DTEND:20170607T030000Z
DTSTAMP:20260421T165657Z
SUMMARY:Billy Zane and the Walk-Offs vs. XTSC Goal Diggers
DESCRIPTION:XTSC Goal Diggers vs. Billy Zane and the Walk-OffsMore info: #2
	95
X-ALT-DESC;FMTTYPE=text/html:<!DOCTYPE HTML PUBLIC "-//W3C//DTD HTML 3.2//E
	N">\n<HTML>\n<HEAD>\n<TITLE></TITLE>\n</HEAD>\n<BODY>\n<h3>XTSC Goal Digger
	s vs. Billy Zane and the Walk-Offs</h3>More info: <a href="https://www.goln
	etwork.com/game/v/105847/">#295</a>\n\n</BODY>\n</HTML>
STATUS:CONFIRMED
CLASS:PUBLIC
URL:https://www.golnetwork.com/game/v/105847/
X-MICROSOFT-CDO-BUSYSTATUS:BUSY
X-MICROSOFT-CDO-IMPORTANCE:1
END:VEVENT
BEGIN:VEVENT
UID:gan3g@games.golnetwork.com
LOCATION:Cherry Beach East 1
CREATED:20170511T015446Z
DTSTART:20170607T030000Z
DTEND:20170607T040000Z
DTSTAMP:20260421T165657Z
SUMMARY:Richmond Day FC vs. Little Kickers FC
DESCRIPTION:Little Kickers FC vs. Richmond Day FCMore info: #299
X-ALT-DESC;FMTTYPE=text/html:<!DOCTYPE HTML PUBLIC "-//W3C//DTD HTML 3.2//E
	N">\n<HTML>\n<HEAD>\n<TITLE></TITLE>\n</HEAD>\n<BODY>\n<h3>Little Kickers F
	C vs. Richmond Day FC</h3>More info: <a href="https://www.golnetwork.com/ga
	me/v/105848/">#299</a>\n\n</BODY>\n</HTML>
STATUS:CONFIRMED
CLASS:PUBLIC
URL:https://www.golnetwork.com/game/v/105848/
X-MICROSOFT-CDO-BUSYSTATUS:BUSY
X-MICROSOFT-CDO-IMPORTANCE:1
END:VEVENT
BEGIN:VEVENT
UID:gan3i@games.golnetwork.com
LOCATION:Cherry Beach East 1
CREATED:20170511T015501Z
DTSTART:20170614T010000Z
DTEND:20170614T020000Z
DTSTAMP:20260421T165657Z
SUMMARY:Sharp Shooters vs. Richmond Day FC
DESCRIPTION:Richmond Day FC vs. Sharp ShootersMore info: #375
X-ALT-DESC;FMTTYPE=text/html:<!DOCTYPE HTML PUBLIC "-//W3C//DTD HTML 3.2//E
	N">\n<HTML>\n<HEAD>\n<TITLE></TITLE>\n</HEAD>\n<BODY>\n<h3>Richmond Day FC 
	vs. Sharp Shooters</h3>More info: <a href="https://www.golnetwork.com/game/
	v/105849/">#375</a>\n\n</BODY>\n</HTML>
STATUS:CONFIRMED
CLASS:PUBLIC
URL:https://www.golnetwork.com/game/v/105849/
X-MICROSOFT-CDO-BUSYSTATUS:BUSY
X-MICROSOFT-CDO-IMPORTANCE:1
END:VEVENT
BEGIN:VEVENT
UID:gan3k@games.golnetwork.com
LOCATION:Cherry Beach East 1
CREATED:20170511T015556Z
DTSTART:20170614T020000Z
DTEND:20170614T030000Z
DTSTAMP:20260421T165657Z
SUMMARY:XTSC Goal Diggers vs. Little Kickers FC
DESCRIPTION:Little Kickers FC vs. XTSC Goal DiggersMore info: #379
X-ALT-DESC;FMTTYPE=text/html:<!DOCTYPE HTML PUBLIC "-//W3C//DTD HTML 3.2//E
	N">\n<HTML>\n<HEAD>\n<TITLE></TITLE>\n</HEAD>\n<BODY>\n<h3>Little Kickers F
	C vs. XTSC Goal Diggers</h3>More info: <a href="https://www.golnetwork.com/
	game/v/105850/">#379</a>\n\n</BODY>\n</HTML>
STATUS:CONFIRMED
CLASS:PUBLIC
URL:https://www.golnetwork.com/game/v/105850/
X-MICROSOFT-CDO-BUSYSTATUS:BUSY
X-MICROSOFT-CDO-IMPORTANCE:1
END:VEVENT
BEGIN:VEVENT
UID:gan3m@games.golnetwork.com
LOCATION:Cherry Beach East 1
CREATED:20170511T015605Z
DTSTART:20170614T030000Z
DTEND:20170614T040000Z
DTSTAMP:20260421T165657Z
SUMMARY:SAS vs. Billy Zane and the Walk-Offs
DESCRIPTION:Billy Zane and the Walk-Offs vs. SASMore info: #383
X-ALT-DESC;FMTTYPE=text/html:<!DOCTYPE HTML PUBLIC "-//W3C//DTD HTML 3.2//E
	N">\n<HTML>\n<HEAD>\n<TITLE></TITLE>\n</HEAD>\n<BODY>\n<h3>Billy Zane and t
	he Walk-Offs vs. SAS</h3>More info: <a href="https://www.golnetwork.com/gam
	e/v/105851/">#383</a>\n\n</BODY>\n</HTML>
STATUS:CONFIRMED
CLASS:PUBLIC
URL:https://www.golnetwork.com/game/v/105851/
X-MICROSOFT-CDO-BUSYSTATUS:BUSY
X-MICROSOFT-CDO-IMPORTANCE:1
END:VEVENT
BEGIN:VEVENT
UID:gan3o@games.golnetwork.com
LOCATION:Cherry Beach East 1
CREATED:20170511T015616Z
DTSTART:20170621T010000Z
DTEND:20170621T020000Z
DTSTAMP:20260421T165657Z
SUMMARY:Little Kickers FC vs. Billy Zane and the Walk-Offs
DESCRIPTION:Billy Zane and the Walk-Offs vs. Little Kickers FCMore info: #4
	54
X-ALT-DESC;FMTTYPE=text/html:<!DOCTYPE HTML PUBLIC "-//W3C//DTD HTML 3.2//E
	N">\n<HTML>\n<HEAD>\n<TITLE></TITLE>\n</HEAD>\n<BODY>\n<h3>Billy Zane and t
	he Walk-Offs vs. Little Kickers FC</h3>More info: <a href="https://www.goln
	etwork.com/game/v/105852/">#454</a>\n\n</BODY>\n</HTML>
STATUS:CONFIRMED
CLASS:PUBLIC
URL:https://www.golnetwork.com/game/v/105852/
X-MICROSOFT-CDO-BUSYSTATUS:BUSY
X-MICROSOFT-CDO-IMPORTANCE:1
END:VEVENT
BEGIN:VEVENT
UID:gan3q@games.golnetwork.com
LOCATION:Cherry Beach East 1
CREATED:20170511T015625Z
DTSTART:20170621T020000Z
DTEND:20170621T030000Z
DTSTAMP:20260421T165657Z
SUMMARY:SAS vs. Richmond Day FC
DESCRIPTION:Richmond Day FC vs. SASMore info: #458
X-ALT-DESC;FMTTYPE=text/html:<!DOCTYPE HTML PUBLIC "-//W3C//DTD HTML 3.2//E
	N">\n<HTML>\n<HEAD>\n<TITLE></TITLE>\n</HEAD>\n<BODY>\n<h3>Richmond Day FC 
	vs. SAS</h3>More info: <a href="https://www.golnetwork.com/game/v/105853/">
	#458</a>\n\n</BODY>\n</HTML>
STATUS:CONFIRMED
CLASS:PUBLIC
URL:https://www.golnetwork.com/game/v/105853/
X-MICROSOFT-CDO-BUSYSTATUS:BUSY
X-MICROSOFT-CDO-IMPORTANCE:1
END:VEVENT
BEGIN:VEVENT
UID:gan41@games.golnetwork.com
LOCATION:Cherry Beach East 1
CREATED:20170511T015635Z
DTSTART:20170621T030000Z
DTEND:20170621T040000Z
DTSTAMP:20260421T165657Z
SUMMARY:XTSC Goal Diggers vs. Sharp Shooters
DESCRIPTION:Sharp Shooters vs. XTSC Goal DiggersMore info: #462
X-ALT-DESC;FMTTYPE=text/html:<!DOCTYPE HTML PUBLIC "-//W3C//DTD HTML 3.2//E
	N">\n<HTML>\n<HEAD>\n<TITLE></TITLE>\n</HEAD>\n<BODY>\n<h3>Sharp Shooters v
	s. XTSC Goal Diggers</h3>More info: <a href="https://www.golnetwork.com/gam
	e/v/105854/">#462</a>\n\n</BODY>\n</HTML>
STATUS:CONFIRMED
CLASS:PUBLIC
URL:https://www.golnetwork.com/game/v/105854/
X-MICROSOFT-CDO-BUSYSTATUS:BUSY
X-MICROSOFT-CDO-IMPORTANCE:1
END:VEVENT
BEGIN:VEVENT
UID:gb0l4@games.golnetwork.com
LOCATION:Central Tech - Field 3
CREATED:20170608T171059Z
DTSTART:20170626T020000Z
DTEND:20170626T030000Z
DTSTAMP:20260421T165657Z
SUMMARY:Little Kickers FC vs. SAS
DESCRIPTION:SAS vs. Little Kickers FCMore info: R#222
X-ALT-DESC;FMTTYPE=text/html:<!DOCTYPE HTML PUBLIC "-//W3C//DTD HTML 3.2//E
	N">\n<HTML>\n<HEAD>\n<TITLE></TITLE>\n</HEAD>\n<BODY>\n<h3>SAS vs. Little K
	ickers FC</h3>More info: <a href="https://www.golnetwork.com/game/v/107543/
	">R#222</a>\n\n</BODY>\n</HTML>
STATUS:CONFIRMED
CLASS:PUBLIC
URL:https://www.golnetwork.com/game/v/107543/
X-MICROSOFT-CDO-BUSYSTATUS:BUSY
X-MICROSOFT-CDO-IMPORTANCE:1
END:VEVENT
BEGIN:VEVENT
UID:gan43@games.golnetwork.com
LOCATION:Cherry Beach East 1
CREATED:20170511T015648Z
DTSTART:20170628T010000Z
DTEND:20170628T020000Z
DTSTAMP:20260421T165657Z
SUMMARY:SAS vs. XTSC Goal Diggers
DESCRIPTION:XTSC Goal Diggers vs. SASMore info: #539
X-ALT-DESC;FMTTYPE=text/html:<!DOCTYPE HTML PUBLIC "-//W3C//DTD HTML 3.2//E
	N">\n<HTML>\n<HEAD>\n<TITLE></TITLE>\n</HEAD>\n<BODY>\n<h3>XTSC Goal Digger
	s vs. SAS</h3>More info: <a href="https://www.golnetwork.com/game/v/105855/
	">#539</a>\n\n</BODY>\n</HTML>
STATUS:CONFIRMED
CLASS:PUBLIC
URL:https://www.golnetwork.com/game/v/105855/
X-MICROSOFT-CDO-BUSYSTATUS:BUSY
X-MICROSOFT-CDO-IMPORTANCE:1
END:VEVENT
BEGIN:VEVENT
UID:gan45@games.golnetwork.com
LOCATION:Cherry Beach East 1
CREATED:20170511T015657Z
DTSTART:20170628T020000Z
DTEND:20170628T030000Z
DTSTAMP:20260421T165657Z
SUMMARY:Little Kickers FC vs. Sharp Shooters
DESCRIPTION:Sharp Shooters vs. Little Kickers FCMore info: #543
X-ALT-DESC;FMTTYPE=text/html:<!DOCTYPE HTML PUBLIC "-//W3C//DTD HTML 3.2//E
	N">\n<HTML>\n<HEAD>\n<TITLE></TITLE>\n</HEAD>\n<BODY>\n<h3>Sharp Shooters v
	s. Little Kickers FC</h3>More info: <a href="https://www.golnetwork.com/gam
	e/v/105856/">#543</a>\n\n</BODY>\n</HTML>
STATUS:CONFIRMED
CLASS:PUBLIC
URL:https://www.golnetwork.com/game/v/105856/
X-MICROSOFT-CDO-BUSYSTATUS:BUSY
X-MICROSOFT-CDO-IMPORTANCE:1
END:VEVENT
BEGIN:VEVENT
UID:gan47@games.golnetwork.com
LOCATION:Cherry Beach East 1
CREATED:20170511T015706Z
DTSTART:20170628T030000Z
DTEND:20170628T040000Z
DTSTAMP:20260421T165657Z
SUMMARY:Richmond Day FC vs. Billy Zane and the Walk-Offs
DESCRIPTION:Billy Zane and the Walk-Offs vs. Richmond Day FCMore info: #547
X-ALT-DESC;FMTTYPE=text/html:<!DOCTYPE HTML PUBLIC "-//W3C//DTD HTML 3.2//E
	N">\n<HTML>\n<HEAD>\n<TITLE></TITLE>\n</HEAD>\n<BODY>\n<h3>Billy Zane and t
	he Walk-Offs vs. Richmond Day FC</h3>More info: <a href="https://www.golnet
	work.com/game/v/105857/">#547</a>\n\n</BODY>\n</HTML>
STATUS:CONFIRMED
CLASS:PUBLIC
URL:https://www.golnetwork.com/game/v/105857/
X-MICROSOFT-CDO-BUSYSTATUS:BUSY
X-MICROSOFT-CDO-IMPORTANCE:1
END:VEVENT
BEGIN:VEVENT
UID:gan49@games.golnetwork.com
LOCATION:Cherry Beach East 1
CREATED:20170511T015723Z
DTSTART:20170705T010000Z
DTEND:20170705T020000Z
DTSTAMP:20260421T165657Z
SUMMARY:Sharp Shooters vs. Billy Zane and the Walk-Offs
DESCRIPTION:Billy Zane and the Walk-Offs vs. Sharp ShootersMore info: #588
X-ALT-DESC;FMTTYPE=text/html:<!DOCTYPE HTML PUBLIC "-//W3C//DTD HTML 3.2//E
	N">\n<HTML>\n<HEAD>\n<TITLE></TITLE>\n</HEAD>\n<BODY>\n<h3>Billy Zane and t
	he Walk-Offs vs. Sharp Shooters</h3>More info: <a href="https://www.golnetw
	ork.com/game/v/105858/">#588</a>\n\n</BODY>\n</HTML>
STATUS:CONFIRMED
CLASS:PUBLIC
URL:https://www.golnetwork.com/game/v/105858/
X-MICROSOFT-CDO-BUSYSTATUS:BUSY
X-MICROSOFT-CDO-IMPORTANCE:1
END:VEVENT
BEGIN:VEVENT
UID:gan4b@games.golnetwork.com
LOCATION:Cherry Beach East 1
CREATED:20170511T015734Z
DTSTART:20170705T020000Z
DTEND:20170705T030000Z
DTSTAMP:20260421T165657Z
SUMMARY:Richmond Day FC vs. XTSC Goal Diggers
DESCRIPTION:XTSC Goal Diggers vs. Richmond Day FCMore info: #591
X-ALT-DESC;FMTTYPE=text/html:<!DOCTYPE HTML PUBLIC "-//W3C//DTD HTML 3.2//E
	N">\n<HTML>\n<HEAD>\n<TITLE></TITLE>\n</HEAD>\n<BODY>\n<h3>XTSC Goal Digger
	s vs. Richmond Day FC</h3>More info: <a href="https://www.golnetwork.com/ga
	me/v/105859/">#591</a>\n\n</BODY>\n</HTML>
STATUS:CONFIRMED
CLASS:PUBLIC
URL:https://www.golnetwork.com/game/v/105859/
X-MICROSOFT-CDO-BUSYSTATUS:BUSY
X-MICROSOFT-CDO-IMPORTANCE:1
END:VEVENT
BEGIN:VEVENT
UID:gan4d@games.golnetwork.com
LOCATION:Cherry Beach East 1
CREATED:20170511T015742Z
DTSTART:20170705T030000Z
DTEND:20170705T040000Z
DTSTAMP:20260421T165657Z
SUMMARY:Little Kickers FC vs. SAS
DESCRIPTION:SAS vs. Little Kickers FCMore info: #594
X-ALT-DESC;FMTTYPE=text/html:<!DOCTYPE HTML PUBLIC "-//W3C//DTD HTML 3.2//E
	N">\n<HTML>\n<HEAD>\n<TITLE></TITLE>\n</HEAD>\n<BODY>\n<h3>SAS vs. Little K
	ickers FC</h3>More info: <a href="https://www.golnetwork.com/game/v/105860/
	">#594</a>\n\n</BODY>\n</HTML>
STATUS:CONFIRMED
CLASS:PUBLIC
URL:https://www.golnetwork.com/game/v/105860/
X-MICROSOFT-CDO-BUSYSTATUS:BUSY
X-MICROSOFT-CDO-IMPORTANCE:1
END:VEVENT
BEGIN:VEVENT
UID:gan4f@games.golnetwork.com
LOCATION:Cherry Beach East 1
CREATED:20170511T015757Z
DTSTART:20170712T010000Z
DTEND:20170712T020000Z
DTSTAMP:20260421T165657Z
SUMMARY:Richmond Day FC vs. Little Kickers FC
DESCRIPTION:Little Kickers FC vs. Richmond Day FCMore info: #647
X-ALT-DESC;FMTTYPE=text/html:<!DOCTYPE HTML PUBLIC "-//W3C//DTD HTML 3.2//E
	N">\n<HTML>\n<HEAD>\n<TITLE></TITLE>\n</HEAD>\n<BODY>\n<h3>Little Kickers F
	C vs. Richmond Day FC</h3>More info: <a href="https://www.golnetwork.com/ga
	me/v/105861/">#647</a>\n\n</BODY>\n</HTML>
STATUS:CONFIRMED
CLASS:PUBLIC
URL:https://www.golnetwork.com/game/v/105861/
X-MICROSOFT-CDO-BUSYSTATUS:BUSY
X-MICROSOFT-CDO-IMPORTANCE:1
END:VEVENT
BEGIN:VEVENT
UID:gan4h@games.golnetwork.com
LOCATION:Cherry Beach East 1
CREATED:20170511T015810Z
DTSTART:20170712T020000Z
DTEND:20170712T030000Z
DTSTAMP:20260421T165657Z
SUMMARY:Sharp Shooters vs. SAS
DESCRIPTION:SAS vs. Sharp ShootersMore info: #650
X-ALT-DESC;FMTTYPE=text/html:<!DOCTYPE HTML PUBLIC "-//W3C//DTD HTML 3.2//E
	N">\n<HTML>\n<HEAD>\n<TITLE></TITLE>\n</HEAD>\n<BODY>\n<h3>SAS vs. Sharp Sh
	ooters</h3>More info: <a href="https://www.golnetwork.com/game/v/105862/">#
	650</a>\n\n</BODY>\n</HTML>
STATUS:CONFIRMED
CLASS:PUBLIC
URL:https://www.golnetwork.com/game/v/105862/
X-MICROSOFT-CDO-BUSYSTATUS:BUSY
X-MICROSOFT-CDO-IMPORTANCE:1
END:VEVENT
BEGIN:VEVENT
UID:gan4j@games.golnetwork.com
LOCATION:Cherry Beach East 1
CREATED:20170511T015817Z
DTSTART:20170712T030000Z
DTEND:20170712T040000Z
DTSTAMP:20260421T165657Z
SUMMARY:Billy Zane and the Walk-Offs vs. XTSC Goal Diggers
DESCRIPTION:XTSC Goal Diggers vs. Billy Zane and the Walk-OffsMore info: #6
	53
X-ALT-DESC;FMTTYPE=text/html:<!DOCTYPE HTML PUBLIC "-//W3C//DTD HTML 3.2//E
	N">\n<HTML>\n<HEAD>\n<TITLE></TITLE>\n</HEAD>\n<BODY>\n<h3>XTSC Goal Digger
	s vs. Billy Zane and the Walk-Offs</h3>More info: <a href="https://www.goln
	etwork.com/game/v/105863/">#653</a>\n\n</BODY>\n</HTML>
STATUS:CONFIRMED
CLASS:PUBLIC
URL:https://www.golnetwork.com/game/v/105863/
X-MICROSOFT-CDO-BUSYSTATUS:BUSY
X-MICROSOFT-CDO-IMPORTANCE:1
END:VEVENT
BEGIN:VEVENT
UID:gan4l@games.golnetwork.com
LOCATION:Cherry Beach East 1
CREATED:20170511T015828Z
DTSTART:20170719T010000Z
DTEND:20170719T020000Z
DTSTAMP:20260421T165657Z
SUMMARY:XTSC Goal Diggers vs. Little Kickers FC
DESCRIPTION:Little Kickers FC vs. XTSC Goal DiggersMore info: #706
X-ALT-DESC;FMTTYPE=text/html:<!DOCTYPE HTML PUBLIC "-//W3C//DTD HTML 3.2//E
	N">\n<HTML>\n<HEAD>\n<TITLE></TITLE>\n</HEAD>\n<BODY>\n<h3>Little Kickers F
	C vs. XTSC Goal Diggers</h3>More info: <a href="https://www.golnetwork.com/
	game/v/105864/">#706</a>\n\n</BODY>\n</HTML>
STATUS:CONFIRMED
CLASS:PUBLIC
URL:https://www.golnetwork.com/game/v/105864/
X-MICROSOFT-CDO-BUSYSTATUS:BUSY
X-MICROSOFT-CDO-IMPORTANCE:1
END:VEVENT
BEGIN:VEVENT
UID:gan4n@games.golnetwork.com
LOCATION:Cherry Beach East 1
CREATED:20170511T015838Z
DTSTART:20170719T020000Z
DTEND:20170719T030000Z
DTSTAMP:20260421T165657Z
SUMMARY:SAS vs. Billy Zane and the Walk-Offs
DESCRIPTION:Billy Zane and the Walk-Offs vs. SASMore info: #709
X-ALT-DESC;FMTTYPE=text/html:<!DOCTYPE HTML PUBLIC "-//W3C//DTD HTML 3.2//E
	N">\n<HTML>\n<HEAD>\n<TITLE></TITLE>\n</HEAD>\n<BODY>\n<h3>Billy Zane and t
	he Walk-Offs vs. SAS</h3>More info: <a href="https://www.golnetwork.com/gam
	e/v/105865/">#709</a>\n\n</BODY>\n</HTML>
STATUS:CONFIRMED
CLASS:PUBLIC
URL:https://www.golnetwork.com/game/v/105865/
X-MICROSOFT-CDO-BUSYSTATUS:BUSY
X-MICROSOFT-CDO-IMPORTANCE:1
END:VEVENT
BEGIN:VEVENT
UID:gan4p@games.golnetwork.com
LOCATION:Cherry Beach East 1
CREATED:20170511T015847Z
DTSTART:20170719T030000Z
DTEND:20170719T040000Z
DTSTAMP:20260421T165657Z
SUMMARY:Sharp Shooters vs. Richmond Day FC
DESCRIPTION:Richmond Day FC vs. Sharp ShootersMore info: #712
X-ALT-DESC;FMTTYPE=text/html:<!DOCTYPE HTML PUBLIC "-//W3C//DTD HTML 3.2//E
	N">\n<HTML>\n<HEAD>\n<TITLE></TITLE>\n</HEAD>\n<BODY>\n<h3>Richmond Day FC 
	vs. Sharp Shooters</h3>More info: <a href="https://www.golnetwork.com/game/
	v/105866/">#712</a>\n\n</BODY>\n</HTML>
STATUS:CONFIRMED
CLASS:PUBLIC
URL:https://www.golnetwork.com/game/v/105866/
X-MICROSOFT-CDO-BUSYSTATUS:BUSY
X-MICROSOFT-CDO-IMPORTANCE:1
END:VEVENT
BEGIN:VEVENT
UID:gan50@games.golnetwork.com
LOCATION:Cherry Beach East 1
CREATED:20170511T015853Z
DTSTART:20170726T030000Z
DTEND:20170726T040000Z
DTSTAMP:20260421T165657Z
SUMMARY:Billy Zane and the Walk-Offs vs. Richmond Day FC
DESCRIPTION:Richmond Day FC vs. Billy Zane and the Walk-OffsMore info: #750
X-ALT-DESC;FMTTYPE=text/html:<!DOCTYPE HTML PUBLIC "-//W3C//DTD HTML 3.2//E
	N">\n<HTML>\n<HEAD>\n<TITLE></TITLE>\n</HEAD>\n<BODY>\n<h3>Richmond Day FC 
	vs. Billy Zane and the Walk-Offs</h3>More info: <a href="https://www.golnet
	work.com/game/v/105867/">#750</a>\n\n</BODY>\n</HTML>
STATUS:CONFIRMED
CLASS:PUBLIC
URL:https://www.golnetwork.com/game/v/105867/
X-MICROSOFT-CDO-BUSYSTATUS:BUSY
X-MICROSOFT-CDO-IMPORTANCE:1
END:VEVENT
BEGIN:VEVENT
UID:gan52@games.golnetwork.com
LOCATION:Cherry Beach East 1
CREATED:20170511T015857Z
DTSTART:20170802T020000Z
DTEND:20170802T030000Z
DTSTAMP:20260421T165657Z
SUMMARY:Richmond Day FC vs. SAS
DESCRIPTION:SAS vs. Richmond Day FCMore info: #771
X-ALT-DESC;FMTTYPE=text/html:<!DOCTYPE HTML PUBLIC "-//W3C//DTD HTML 3.2//E
	N">\n<HTML>\n<HEAD>\n<TITLE></TITLE>\n</HEAD>\n<BODY>\n<h3>SAS vs. Richmond
	 Day FC</h3>More info: <a href="https://www.golnetwork.com/game/v/105868/">
	#771</a>\n\n</BODY>\n</HTML>
STATUS:CONFIRMED
CLASS:PUBLIC
URL:https://www.golnetwork.com/game/v/105868/
X-MICROSOFT-CDO-BUSYSTATUS:BUSY
X-MICROSOFT-CDO-IMPORTANCE:1
END:VEVENT
BEGIN:VEVENT
UID:gan54@games.golnetwork.com
LOCATION:Cherry Beach East 1
CREATED:20170511T015901Z
DTSTART:20170802T030000Z
DTEND:20170802T040000Z
DTSTAMP:20260421T165657Z
SUMMARY:Billy Zane and the Walk-Offs vs. XTSC Goal Diggers
DESCRIPTION:XTSC Goal Diggers vs. Billy Zane and the Walk-OffsMore info: #7
	74
X-ALT-DESC;FMTTYPE=text/html:<!DOCTYPE HTML PUBLIC "-//W3C//DTD HTML 3.2//E
	N">\n<HTML>\n<HEAD>\n<TITLE></TITLE>\n</HEAD>\n<BODY>\n<h3>XTSC Goal Digger
	s vs. Billy Zane and the Walk-Offs</h3>More info: <a href="https://www.goln
	etwork.com/game/v/105869/">#774</a>\n\n</BODY>\n</HTML>
STATUS:CONFIRMED
CLASS:PUBLIC
URL:https://www.golnetwork.com/game/v/105869/
X-MICROSOFT-CDO-BUSYSTATUS:BUSY
X-MICROSOFT-CDO-IMPORTANCE:1
END:VEVENT
END:VCALENDAR
