BEGIN:VCALENDAR
PRODID:-//gdesolutions.com//MV Framework 1.0.0.1607 Calendar//EN
VERSION:2.0
METHOD:PUBLISH
CALSCALE:GREGORIAN
BEGIN:VEVENT
UID:gb045@games.golnetwork.com
LOCATION:Central Tech - Field 2
GEO:43.6637272;-79.4087613
CREATED:20170531T192014Z
DTSTART:20170709T220000Z
DTEND:20170709T230000Z
DTSTAMP:20260419T132751Z
SUMMARY:Team Nice Friends vs. Offsiders FC
DESCRIPTION:Offsiders FC vs. Team Nice FriendsMore info: #626
X-ALT-DESC;FMTTYPE=text/html:<!DOCTYPE HTML PUBLIC "-//W3C//DTD HTML 3.2//E
	N">\n<HTML>\n<HEAD>\n<TITLE></TITLE>\n</HEAD>\n<BODY>\n<h3>Offsiders FC vs.
	 Team Nice Friends</h3>More info: <a href="https://www.golnetwork.com/game/
	v/107314/">#626</a>\n\n</BODY>\n</HTML>
STATUS:CONFIRMED
CLASS:PUBLIC
URL:https://www.golnetwork.com/game/v/107314/
X-MICROSOFT-CDO-BUSYSTATUS:BUSY
X-MICROSOFT-CDO-IMPORTANCE:1
END:VEVENT
BEGIN:VEVENT
UID:gb043@games.golnetwork.com
LOCATION:Central Tech - Field 1
GEO:43.6637272;-79.4087613
CREATED:20170531T192014Z
DTSTART:20170709T230000Z
DTEND:20170710T000000Z
DTSTAMP:20260419T132751Z
SUMMARY:Clean Sheet? vs. Zed Score
DESCRIPTION:Zed Score vs. Clean Sheet?More info: #631
X-ALT-DESC;FMTTYPE=text/html:<!DOCTYPE HTML PUBLIC "-//W3C//DTD HTML 3.2//E
	N">\n<HTML>\n<HEAD>\n<TITLE></TITLE>\n</HEAD>\n<BODY>\n<h3>Zed Score vs. Cl
	ean Sheet?</h3>More info: <a href="https://www.golnetwork.com/game/v/107313
	/">#631</a>\n\n</BODY>\n</HTML>
STATUS:CONFIRMED
CLASS:PUBLIC
URL:https://www.golnetwork.com/game/v/107313/
X-MICROSOFT-CDO-BUSYSTATUS:BUSY
X-MICROSOFT-CDO-IMPORTANCE:1
END:VEVENT
BEGIN:VEVENT
UID:gb041@games.golnetwork.com
LOCATION:Central Tech - Field 3
CREATED:20170531T192014Z
DTSTART:20170709T230000Z
DTEND:20170710T000000Z
DTSTAMP:20260419T132751Z
SUMMARY:Tamales FC vs. Manchester Divided
DESCRIPTION:Manchester Divided vs. Tamales FCMore info: #635
X-ALT-DESC;FMTTYPE=text/html:<!DOCTYPE HTML PUBLIC "-//W3C//DTD HTML 3.2//E
	N">\n<HTML>\n<HEAD>\n<TITLE></TITLE>\n</HEAD>\n<BODY>\n<h3>Manchester Divid
	ed vs. Tamales FC</h3>More info: <a href="https://www.golnetwork.com/game/v
	/107312/">#635</a>\n\n</BODY>\n</HTML>
STATUS:CONFIRMED
CLASS:PUBLIC
URL:https://www.golnetwork.com/game/v/107312/
X-MICROSOFT-CDO-BUSYSTATUS:BUSY
X-MICROSOFT-CDO-IMPORTANCE:1
END:VEVENT
BEGIN:VEVENT
UID:gb047@games.golnetwork.com
LOCATION:Central Tech - Field 1
GEO:43.6637272;-79.4087613
CREATED:20170531T192014Z
DTSTART:20170710T000000Z
DTEND:20170710T010000Z
DTSTAMP:20260419T132751Z
SUMMARY:BVB Honeybees vs. The Proletariat
DESCRIPTION:The Proletariat vs. BVB HoneybeesMore info: #638
X-ALT-DESC;FMTTYPE=text/html:<!DOCTYPE HTML PUBLIC "-//W3C//DTD HTML 3.2//E
	N">\n<HTML>\n<HEAD>\n<TITLE></TITLE>\n</HEAD>\n<BODY>\n<h3>The Proletariat 
	vs. BVB Honeybees</h3>More info: <a href="https://www.golnetwork.com/game/v
	/107315/">#638</a>\n\n</BODY>\n</HTML>
STATUS:CONFIRMED
CLASS:PUBLIC
URL:https://www.golnetwork.com/game/v/107315/
X-MICROSOFT-CDO-BUSYSTATUS:BUSY
X-MICROSOFT-CDO-IMPORTANCE:1
END:VEVENT
BEGIN:VEVENT
UID:gb04b@games.golnetwork.com
LOCATION:Central Tech - Field 1
GEO:43.6637272;-79.4087613
CREATED:20170531T192014Z
DTSTART:20170716T230000Z
DTEND:20170717T000000Z
DTSTAMP:20260419T132751Z
SUMMARY:Zed Score vs. Team Nice Friends
DESCRIPTION:Team Nice Friends vs. Zed ScoreMore info: #689
X-ALT-DESC;FMTTYPE=text/html:<!DOCTYPE HTML PUBLIC "-//W3C//DTD HTML 3.2//E
	N">\n<HTML>\n<HEAD>\n<TITLE></TITLE>\n</HEAD>\n<BODY>\n<h3>Team Nice Friend
	s vs. Zed Score</h3>More info: <a href="https://www.golnetwork.com/game/v/1
	07317/">#689</a>\n\n</BODY>\n</HTML>
STATUS:CONFIRMED
CLASS:PUBLIC
URL:https://www.golnetwork.com/game/v/107317/
X-MICROSOFT-CDO-BUSYSTATUS:BUSY
X-MICROSOFT-CDO-IMPORTANCE:1
END:VEVENT
BEGIN:VEVENT
UID:gb049@games.golnetwork.com
LOCATION:Central Tech - Field 3
CREATED:20170531T192014Z
DTSTART:20170716T230000Z
DTEND:20170717T000000Z
DTSTAMP:20260419T132751Z
SUMMARY:BVB Honeybees vs. Manchester Divided
DESCRIPTION:Manchester Divided vs. BVB HoneybeesMore info: #692
X-ALT-DESC;FMTTYPE=text/html:<!DOCTYPE HTML PUBLIC "-//W3C//DTD HTML 3.2//E
	N">\n<HTML>\n<HEAD>\n<TITLE></TITLE>\n</HEAD>\n<BODY>\n<h3>Manchester Divid
	ed vs. BVB Honeybees</h3>More info: <a href="https://www.golnetwork.com/gam
	e/v/107316/">#692</a>\n\n</BODY>\n</HTML>
STATUS:CONFIRMED
CLASS:PUBLIC
URL:https://www.golnetwork.com/game/v/107316/
X-MICROSOFT-CDO-BUSYSTATUS:BUSY
X-MICROSOFT-CDO-IMPORTANCE:1
END:VEVENT
BEGIN:VEVENT
UID:gb04d@games.golnetwork.com
LOCATION:Central Tech - Field 3
CREATED:20170531T192014Z
DTSTART:20170723T230000Z
DTEND:20170724T000000Z
DTSTAMP:20260419T132751Z
SUMMARY:Zed Score vs. Manchester Divided
DESCRIPTION:Manchester Divided vs. Zed ScoreMore info: #738
X-ALT-DESC;FMTTYPE=text/html:<!DOCTYPE HTML PUBLIC "-//W3C//DTD HTML 3.2//E
	N">\n<HTML>\n<HEAD>\n<TITLE></TITLE>\n</HEAD>\n<BODY>\n<h3>Manchester Divid
	ed vs. Zed Score</h3>More info: <a href="https://www.golnetwork.com/game/v/
	107318/">#738</a>\n\n</BODY>\n</HTML>
STATUS:CONFIRMED
CLASS:PUBLIC
URL:https://www.golnetwork.com/game/v/107318/
X-MICROSOFT-CDO-BUSYSTATUS:BUSY
X-MICROSOFT-CDO-IMPORTANCE:1
END:VEVENT
END:VCALENDAR
