BEGIN:VCALENDAR
PRODID:-//gdesolutions.com//MV Framework 1.0.0.1607 Calendar//EN
VERSION:2.0
METHOD:PUBLISH
CALSCALE:GREGORIAN
BEGIN:VEVENT
UID:gb067@games.golnetwork.com
LOCATION:Molson Stadium (East Field)
GEO:45.508899688721;-73.55419921875
CREATED:20170605T134500Z
DTSTART:20170607T211500Z
DTEND:20170607T215900Z
DTSTAMP:20260422T235732Z
SUMMARY:Flying Geese (CRB) vs. Net Six and Chill
DESCRIPTION:Net Six and Chill vs. Flying Geese (CRB)More info: #4
X-ALT-DESC;FMTTYPE=text/html:<!DOCTYPE HTML PUBLIC "-//W3C//DTD HTML 3.2//E
	N">\n<HTML>\n<HEAD>\n<TITLE></TITLE>\n</HEAD>\n<BODY>\n<h3>Net Six and Chil
	l vs. Flying Geese (CRB)</h3>More info: <a href="https://www.golnetwork.com
	/game/v/107342/">#4</a>\n\n</BODY>\n</HTML>
STATUS:CONFIRMED
CLASS:PUBLIC
URL:https://www.golnetwork.com/game/v/107342/
X-MICROSOFT-CDO-BUSYSTATUS:BUSY
X-MICROSOFT-CDO-IMPORTANCE:1
END:VEVENT
BEGIN:VEVENT
UID:gb069@games.golnetwork.com
LOCATION:Molson Stadium (East Field)
GEO:45.508899688721;-73.55419921875
CREATED:20170605T134500Z
DTSTART:20170608T220000Z
DTEND:20170608T224400Z
DTSTAMP:20260422T235732Z
SUMMARY:Co-Wreckers vs. Formerly In Shape FC
DESCRIPTION:Formerly In Shape FC vs. Co-WreckersMore info: #5
X-ALT-DESC;FMTTYPE=text/html:<!DOCTYPE HTML PUBLIC "-//W3C//DTD HTML 3.2//E
	N">\n<HTML>\n<HEAD>\n<TITLE></TITLE>\n</HEAD>\n<BODY>\n<h3>Formerly In Shap
	e FC vs. Co-Wreckers</h3>More info: <a href="https://www.golnetwork.com/gam
	e/v/107343/">#5</a>\n\n</BODY>\n</HTML>
STATUS:CONFIRMED
CLASS:PUBLIC
URL:https://www.golnetwork.com/game/v/107343/
X-MICROSOFT-CDO-BUSYSTATUS:BUSY
X-MICROSOFT-CDO-IMPORTANCE:1
END:VEVENT
BEGIN:VEVENT
UID:gb06b@games.golnetwork.com
LOCATION:Molson Stadium (East Field)
GEO:45.508899688721;-73.55419921875
CREATED:20170605T134500Z
DTSTART:20170608T230000Z
DTEND:20170608T234400Z
DTSTAMP:20260422T235732Z
SUMMARY:A4Effort vs. Net Six and Chill
DESCRIPTION:Net Six and Chill vs. A4EffortMore info: #6
X-ALT-DESC;FMTTYPE=text/html:<!DOCTYPE HTML PUBLIC "-//W3C//DTD HTML 3.2//E
	N">\n<HTML>\n<HEAD>\n<TITLE></TITLE>\n</HEAD>\n<BODY>\n<h3>Net Six and Chil
	l vs. A4Effort</h3>More info: <a href="https://www.golnetwork.com/game/v/10
	7344/">#6</a>\n\n</BODY>\n</HTML>
STATUS:CONFIRMED
CLASS:PUBLIC
URL:https://www.golnetwork.com/game/v/107344/
X-MICROSOFT-CDO-BUSYSTATUS:BUSY
X-MICROSOFT-CDO-IMPORTANCE:1
END:VEVENT
BEGIN:VEVENT
UID:gb06d@games.golnetwork.com
LOCATION:Molson Stadium (East Field)
GEO:45.508899688721;-73.55419921875
CREATED:20170605T134500Z
DTSTART:20170609T000000Z
DTEND:20170609T004400Z
DTSTAMP:20260422T235732Z
SUMMARY:Co-Wreckers vs. Formerly In Shape FC
DESCRIPTION:Formerly In Shape FC vs. Co-WreckersMore info: #7
X-ALT-DESC;FMTTYPE=text/html:<!DOCTYPE HTML PUBLIC "-//W3C//DTD HTML 3.2//E
	N">\n<HTML>\n<HEAD>\n<TITLE></TITLE>\n</HEAD>\n<BODY>\n<h3>Formerly In Shap
	e FC vs. Co-Wreckers</h3>More info: <a href="https://www.golnetwork.com/gam
	e/v/107345/">#7</a>\n\n</BODY>\n</HTML>
STATUS:CONFIRMED
CLASS:PUBLIC
URL:https://www.golnetwork.com/game/v/107345/
X-MICROSOFT-CDO-BUSYSTATUS:BUSY
X-MICROSOFT-CDO-IMPORTANCE:1
END:VEVENT
BEGIN:VEVENT
UID:gb06n@games.golnetwork.com
LOCATION:Molson Stadium (East Field)
GEO:45.508899688721;-73.55419921875
CREATED:20170605T134500Z
DTSTART:20170610T160000Z
DTEND:20170610T164400Z
DTSTAMP:20260422T235732Z
SUMMARY:A4Effort vs. Flying Geese (CRB)
DESCRIPTION:Flying Geese (CRB) vs. A4EffortMore info: #12
X-ALT-DESC;FMTTYPE=text/html:<!DOCTYPE HTML PUBLIC "-//W3C//DTD HTML 3.2//E
	N">\n<HTML>\n<HEAD>\n<TITLE></TITLE>\n</HEAD>\n<BODY>\n<h3>Flying Geese (CR
	B) vs. A4Effort</h3>More info: <a href="https://www.golnetwork.com/game/v/1
	07350/">#12</a>\n\n</BODY>\n</HTML>
STATUS:CONFIRMED
CLASS:PUBLIC
URL:https://www.golnetwork.com/game/v/107350/
X-MICROSOFT-CDO-BUSYSTATUS:BUSY
X-MICROSOFT-CDO-IMPORTANCE:1
END:VEVENT
BEGIN:VEVENT
UID:gb070@games.golnetwork.com
LOCATION:Molson Stadium (East Field)
GEO:45.508899688721;-73.55419921875
CREATED:20170605T134500Z
DTSTART:20170610T180000Z
DTEND:20170610T184400Z
DTSTAMP:20260422T235732Z
SUMMARY:Formerly In Shape FC vs. A4Effort
DESCRIPTION:A4Effort vs. Formerly In Shape FCMore info: #14
X-ALT-DESC;FMTTYPE=text/html:<!DOCTYPE HTML PUBLIC "-//W3C//DTD HTML 3.2//E
	N">\n<HTML>\n<HEAD>\n<TITLE></TITLE>\n</HEAD>\n<BODY>\n<h3>A4Effort vs. For
	merly In Shape FC</h3>More info: <a href="https://www.golnetwork.com/game/v
	/107352/">#14</a>\n\n</BODY>\n</HTML>
STATUS:CONFIRMED
CLASS:PUBLIC
URL:https://www.golnetwork.com/game/v/107352/
X-MICROSOFT-CDO-BUSYSTATUS:BUSY
X-MICROSOFT-CDO-IMPORTANCE:1
END:VEVENT
BEGIN:VEVENT
UID:gb074@games.golnetwork.com
LOCATION:Molson Stadium (East Field)
GEO:45.508899688721;-73.55419921875
CREATED:20170605T134500Z
DTSTART:20170610T200000Z
DTEND:20170610T204400Z
DTSTAMP:20260422T235732Z
SUMMARY:Net Six and Chill vs. Formerly In Shape FC
DESCRIPTION:Formerly In Shape FC vs. Net Six and ChillMore info: #16
X-ALT-DESC;FMTTYPE=text/html:<!DOCTYPE HTML PUBLIC "-//W3C//DTD HTML 3.2//E
	N">\n<HTML>\n<HEAD>\n<TITLE></TITLE>\n</HEAD>\n<BODY>\n<h3>Formerly In Shap
	e FC vs. Net Six and Chill</h3>More info: <a href="https://www.golnetwork.c
	om/game/v/107354/">#16</a>\n\n</BODY>\n</HTML>
STATUS:CONFIRMED
CLASS:PUBLIC
URL:https://www.golnetwork.com/game/v/107354/
X-MICROSOFT-CDO-BUSYSTATUS:BUSY
X-MICROSOFT-CDO-IMPORTANCE:1
END:VEVENT
BEGIN:VEVENT
UID:gb078@games.golnetwork.com
LOCATION:Molson Stadium (East Field)
GEO:45.508899688721;-73.55419921875
CREATED:20170605T134500Z
DTSTART:20170611T170000Z
DTEND:20170611T174400Z
DTSTAMP:20260422T235732Z
SUMMARY:Formerly In Shape FC vs. Flying Geese (CRB)
DESCRIPTION:Flying Geese (CRB) vs. Formerly In Shape FCMore info: #18
X-ALT-DESC;FMTTYPE=text/html:<!DOCTYPE HTML PUBLIC "-//W3C//DTD HTML 3.2//E
	N">\n<HTML>\n<HEAD>\n<TITLE></TITLE>\n</HEAD>\n<BODY>\n<h3>Flying Geese (CR
	B) vs. Formerly In Shape FC</h3>More info: <a href="https://www.golnetwork.
	com/game/v/107356/">#18</a>\n\n</BODY>\n</HTML>
STATUS:CONFIRMED
CLASS:PUBLIC
URL:https://www.golnetwork.com/game/v/107356/
X-MICROSOFT-CDO-BUSYSTATUS:BUSY
X-MICROSOFT-CDO-IMPORTANCE:1
END:VEVENT
BEGIN:VEVENT
UID:gb07a@games.golnetwork.com
LOCATION:Molson Stadium (East Field)
GEO:45.508899688721;-73.55419921875
CREATED:20170605T134500Z
DTSTART:20170611T180000Z
DTEND:20170611T184400Z
DTSTAMP:20260422T235732Z
SUMMARY:Flying Geese (CRB) vs. Co-Wreckers
DESCRIPTION:Co-Wreckers vs. Flying Geese (CRB)More info: #19
X-ALT-DESC;FMTTYPE=text/html:<!DOCTYPE HTML PUBLIC "-//W3C//DTD HTML 3.2//E
	N">\n<HTML>\n<HEAD>\n<TITLE></TITLE>\n</HEAD>\n<BODY>\n<h3>Co-Wreckers vs. 
	Flying Geese (CRB)</h3>More info: <a href="https://www.golnetwork.com/game/
	v/107357/">#19</a>\n\n</BODY>\n</HTML>
STATUS:CONFIRMED
CLASS:PUBLIC
URL:https://www.golnetwork.com/game/v/107357/
X-MICROSOFT-CDO-BUSYSTATUS:BUSY
X-MICROSOFT-CDO-IMPORTANCE:1
END:VEVENT
BEGIN:VEVENT
UID:gb07c@games.golnetwork.com
LOCATION:Molson Stadium (East Field)
GEO:45.508899688721;-73.55419921875
CREATED:20170605T134500Z
DTSTART:20170611T190000Z
DTEND:20170611T194400Z
DTSTAMP:20260422T235732Z
SUMMARY:Formerly In Shape FC vs. A4Effort
DESCRIPTION:A4Effort vs. Formerly In Shape FCMore info: #20
X-ALT-DESC;FMTTYPE=text/html:<!DOCTYPE HTML PUBLIC "-//W3C//DTD HTML 3.2//E
	N">\n<HTML>\n<HEAD>\n<TITLE></TITLE>\n</HEAD>\n<BODY>\n<h3>A4Effort vs. For
	merly In Shape FC</h3>More info: <a href="https://www.golnetwork.com/game/v
	/107358/">#20</a>\n\n</BODY>\n</HTML>
STATUS:CONFIRMED
CLASS:PUBLIC
URL:https://www.golnetwork.com/game/v/107358/
X-MICROSOFT-CDO-BUSYSTATUS:BUSY
X-MICROSOFT-CDO-IMPORTANCE:1
END:VEVENT
BEGIN:VEVENT
UID:gb07e@games.golnetwork.com
LOCATION:Molson Stadium (East Field)
GEO:45.508899688721;-73.55419921875
CREATED:20170605T134500Z
DTSTART:20170611T200000Z
DTEND:20170611T204400Z
DTSTAMP:20260422T235732Z
SUMMARY:Net Six and Chill vs. Co-Wreckers
DESCRIPTION:Co-Wreckers vs. Net Six and ChillMore info: #21
X-ALT-DESC;FMTTYPE=text/html:<!DOCTYPE HTML PUBLIC "-//W3C//DTD HTML 3.2//E
	N">\n<HTML>\n<HEAD>\n<TITLE></TITLE>\n</HEAD>\n<BODY>\n<h3>Co-Wreckers vs. 
	Net Six and Chill</h3>More info: <a href="https://www.golnetwork.com/game/v
	/107359/">#21</a>\n\n</BODY>\n</HTML>
STATUS:CONFIRMED
CLASS:PUBLIC
URL:https://www.golnetwork.com/game/v/107359/
X-MICROSOFT-CDO-BUSYSTATUS:BUSY
X-MICROSOFT-CDO-IMPORTANCE:1
END:VEVENT
BEGIN:VEVENT
UID:gb07i@games.golnetwork.com
LOCATION:Molson Stadium (East Field)
GEO:45.508899688721;-73.55419921875
CREATED:20170605T134500Z
DTSTART:20170612T213000Z
DTEND:20170612T221400Z
DTSTAMP:20260422T235732Z
SUMMARY:Co-Wreckers vs. A4Effort
DESCRIPTION:A4Effort vs. Co-WreckersMore info: #23
X-ALT-DESC;FMTTYPE=text/html:<!DOCTYPE HTML PUBLIC "-//W3C//DTD HTML 3.2//E
	N">\n<HTML>\n<HEAD>\n<TITLE></TITLE>\n</HEAD>\n<BODY>\n<h3>A4Effort vs. Co-
	Wreckers</h3>More info: <a href="https://www.golnetwork.com/game/v/107361/"
	>#23</a>\n\n</BODY>\n</HTML>
STATUS:CONFIRMED
CLASS:PUBLIC
URL:https://www.golnetwork.com/game/v/107361/
X-MICROSOFT-CDO-BUSYSTATUS:BUSY
X-MICROSOFT-CDO-IMPORTANCE:1
END:VEVENT
BEGIN:VEVENT
UID:gb07q@games.golnetwork.com
LOCATION:Molson Stadium (East Field)
GEO:45.508899688721;-73.55419921875
CREATED:20170605T134500Z
DTSTART:20170616T211500Z
DTEND:20170616T215900Z
DTSTAMP:20260422T235732Z
SUMMARY:Flying Geese (CRB) vs. Net Six and Chill
DESCRIPTION:Net Six and Chill vs. Flying Geese (CRB)More info: #27
X-ALT-DESC;FMTTYPE=text/html:<!DOCTYPE HTML PUBLIC "-//W3C//DTD HTML 3.2//E
	N">\n<HTML>\n<HEAD>\n<TITLE></TITLE>\n</HEAD>\n<BODY>\n<h3>Net Six and Chil
	l vs. Flying Geese (CRB)</h3>More info: <a href="https://www.golnetwork.com
	/game/v/107365/">#27</a>\n\n</BODY>\n</HTML>
STATUS:CONFIRMED
CLASS:PUBLIC
URL:https://www.golnetwork.com/game/v/107365/
X-MICROSOFT-CDO-BUSYSTATUS:BUSY
X-MICROSOFT-CDO-IMPORTANCE:1
END:VEVENT
BEGIN:VEVENT
UID:gb081@games.golnetwork.com
LOCATION:Molson Stadium (East Field)
GEO:45.508899688721;-73.55419921875
CREATED:20170605T134500Z
DTSTART:20170617T190000Z
DTEND:20170617T194400Z
DTSTAMP:20260422T235732Z
SUMMARY:Net Six and Chill vs. Formerly In Shape FC
DESCRIPTION:Formerly In Shape FC vs. Net Six and ChillMore info: #28
X-ALT-DESC;FMTTYPE=text/html:<!DOCTYPE HTML PUBLIC "-//W3C//DTD HTML 3.2//E
	N">\n<HTML>\n<HEAD>\n<TITLE></TITLE>\n</HEAD>\n<BODY>\n<h3>Formerly In Shap
	e FC vs. Net Six and Chill</h3>More info: <a href="https://www.golnetwork.c
	om/game/v/107366/">#28</a>\n\n</BODY>\n</HTML>
STATUS:CONFIRMED
CLASS:PUBLIC
URL:https://www.golnetwork.com/game/v/107366/
X-MICROSOFT-CDO-BUSYSTATUS:BUSY
X-MICROSOFT-CDO-IMPORTANCE:1
END:VEVENT
BEGIN:VEVENT
UID:gb083@games.golnetwork.com
LOCATION:Molson Stadium (West Field)
GEO:45.508899688721;-73.55419921875
CREATED:20170605T134500Z
DTSTART:20170617T190000Z
DTEND:20170617T194400Z
DTSTAMP:20260422T235732Z
SUMMARY:A4Effort vs. Flying Geese (CRB)
DESCRIPTION:Flying Geese (CRB) vs. A4EffortMore info: #29
X-ALT-DESC;FMTTYPE=text/html:<!DOCTYPE HTML PUBLIC "-//W3C//DTD HTML 3.2//E
	N">\n<HTML>\n<HEAD>\n<TITLE></TITLE>\n</HEAD>\n<BODY>\n<h3>Flying Geese (CR
	B) vs. A4Effort</h3>More info: <a href="https://www.golnetwork.com/game/v/1
	07367/">#29</a>\n\n</BODY>\n</HTML>
STATUS:CONFIRMED
CLASS:PUBLIC
URL:https://www.golnetwork.com/game/v/107367/
X-MICROSOFT-CDO-BUSYSTATUS:BUSY
X-MICROSOFT-CDO-IMPORTANCE:1
END:VEVENT
BEGIN:VEVENT
UID:gb089@games.golnetwork.com
LOCATION:Forbes Field
GEO:45.10662;-94.578209
CREATED:20170605T134500Z
DTSTART:20170618T180000Z
DTEND:20170618T184400Z
DTSTAMP:20260422T235732Z
SUMMARY:Flying Geese (CRB) vs. Co-Wreckers
DESCRIPTION:Co-Wreckers vs. Flying Geese (CRB)More info: #32
X-ALT-DESC;FMTTYPE=text/html:<!DOCTYPE HTML PUBLIC "-//W3C//DTD HTML 3.2//E
	N">\n<HTML>\n<HEAD>\n<TITLE></TITLE>\n</HEAD>\n<BODY>\n<h3>Co-Wreckers vs. 
	Flying Geese (CRB)</h3>More info: <a href="https://www.golnetwork.com/game/
	v/107370/">#32</a>\n\n</BODY>\n</HTML>
STATUS:CONFIRMED
CLASS:PUBLIC
URL:https://www.golnetwork.com/game/v/107370/
X-MICROSOFT-CDO-BUSYSTATUS:BUSY
X-MICROSOFT-CDO-IMPORTANCE:1
END:VEVENT
BEGIN:VEVENT
UID:gb08b@games.golnetwork.com
LOCATION:Forbes Field
GEO:45.10662;-94.578209
CREATED:20170605T134500Z
DTSTART:20170618T190000Z
DTEND:20170618T194400Z
DTSTAMP:20260422T235732Z
SUMMARY:Formerly In Shape FC vs. Flying Geese (CRB)
DESCRIPTION:Flying Geese (CRB) vs. Formerly In Shape FCMore info: #33
X-ALT-DESC;FMTTYPE=text/html:<!DOCTYPE HTML PUBLIC "-//W3C//DTD HTML 3.2//E
	N">\n<HTML>\n<HEAD>\n<TITLE></TITLE>\n</HEAD>\n<BODY>\n<h3>Flying Geese (CR
	B) vs. Formerly In Shape FC</h3>More info: <a href="https://www.golnetwork.
	com/game/v/107371/">#33</a>\n\n</BODY>\n</HTML>
STATUS:CONFIRMED
CLASS:PUBLIC
URL:https://www.golnetwork.com/game/v/107371/
X-MICROSOFT-CDO-BUSYSTATUS:BUSY
X-MICROSOFT-CDO-IMPORTANCE:1
END:VEVENT
BEGIN:VEVENT
UID:gb08f@games.golnetwork.com
LOCATION:Forbes Field
GEO:45.10662;-94.578209
CREATED:20170605T134500Z
DTSTART:20170618T210000Z
DTEND:20170618T214400Z
DTSTAMP:20260422T235732Z
SUMMARY:Net Six and Chill vs. Co-Wreckers
DESCRIPTION:Co-Wreckers vs. Net Six and ChillMore info: #35
X-ALT-DESC;FMTTYPE=text/html:<!DOCTYPE HTML PUBLIC "-//W3C//DTD HTML 3.2//E
	N">\n<HTML>\n<HEAD>\n<TITLE></TITLE>\n</HEAD>\n<BODY>\n<h3>Co-Wreckers vs. 
	Net Six and Chill</h3>More info: <a href="https://www.golnetwork.com/game/v
	/107373/">#35</a>\n\n</BODY>\n</HTML>
STATUS:RESCHEDULED
CLASS:PUBLIC
URL:https://www.golnetwork.com/game/v/107373/
X-MICROSOFT-CDO-BUSYSTATUS:BUSY
X-MICROSOFT-CDO-IMPORTANCE:1
END:VEVENT
BEGIN:VEVENT
UID:gb08j@games.golnetwork.com
LOCATION:Molson Stadium (East Field)
GEO:45.508899688721;-73.55419921875
CREATED:20170605T134501Z
DTSTART:20170619T213000Z
DTEND:20170619T221400Z
DTSTAMP:20260422T235732Z
SUMMARY:Co-Wreckers vs. A4Effort
DESCRIPTION:A4Effort vs. Co-WreckersMore info: #37
X-ALT-DESC;FMTTYPE=text/html:<!DOCTYPE HTML PUBLIC "-//W3C//DTD HTML 3.2//E
	N">\n<HTML>\n<HEAD>\n<TITLE></TITLE>\n</HEAD>\n<BODY>\n<h3>A4Effort vs. Co-
	Wreckers</h3>More info: <a href="https://www.golnetwork.com/game/v/107375/"
	>#37</a>\n\n</BODY>\n</HTML>
STATUS:CONFIRMED
CLASS:PUBLIC
URL:https://www.golnetwork.com/game/v/107375/
X-MICROSOFT-CDO-BUSYSTATUS:BUSY
X-MICROSOFT-CDO-IMPORTANCE:1
END:VEVENT
BEGIN:VEVENT
UID:gb08p@games.golnetwork.com
LOCATION:Forbes Field
GEO:45.10662;-94.578209
CREATED:20170605T134501Z
DTSTART:20170620T211500Z
DTEND:20170620T215900Z
DTSTAMP:20260422T235732Z
SUMMARY:A4Effort vs. Net Six and Chill
DESCRIPTION:Net Six and Chill vs. A4EffortMore info: #40
X-ALT-DESC;FMTTYPE=text/html:<!DOCTYPE HTML PUBLIC "-//W3C//DTD HTML 3.2//E
	N">\n<HTML>\n<HEAD>\n<TITLE></TITLE>\n</HEAD>\n<BODY>\n<h3>Net Six and Chil
	l vs. A4Effort</h3>More info: <a href="https://www.golnetwork.com/game/v/10
	7378/">#40</a>\n\n</BODY>\n</HTML>
STATUS:CONFIRMED
CLASS:PUBLIC
URL:https://www.golnetwork.com/game/v/107378/
X-MICROSOFT-CDO-BUSYSTATUS:BUSY
X-MICROSOFT-CDO-IMPORTANCE:1
END:VEVENT
BEGIN:VEVENT
UID:gb2cj@games.golnetwork.com
LOCATION:Molson Stadium
GEO:45.10662;-94.578209
CREATED:20170624T033534Z
DTSTART:20170626T213000Z
DTEND:20170626T221400Z
DTSTAMP:20260422T235732Z
SUMMARY:Net Six and Chill vs. Co-Wreckers
DESCRIPTION:Co-Wreckers vs. Net Six and ChillMore info: R#35
X-ALT-DESC;FMTTYPE=text/html:<!DOCTYPE HTML PUBLIC "-//W3C//DTD HTML 3.2//E
	N">\n<HTML>\n<HEAD>\n<TITLE></TITLE>\n</HEAD>\n<BODY>\n<h3>Co-Wreckers vs. 
	Net Six and Chill</h3>More info: <a href="https://www.golnetwork.com/game/v
	/108158/">R#35</a>\n\n</BODY>\n</HTML>
STATUS:CONFIRMED
CLASS:PUBLIC
URL:https://www.golnetwork.com/game/v/108158/
X-MICROSOFT-CDO-BUSYSTATUS:BUSY
X-MICROSOFT-CDO-IMPORTANCE:1
END:VEVENT
END:VCALENDAR
