BEGIN:VCALENDAR
PRODID:-//gdesolutions.com//MV Framework 1.0.0.1607 Calendar//EN
VERSION:2.0
METHOD:PUBLISH
CALSCALE:GREGORIAN
BEGIN:VEVENT
UID:gb0pe@games.golnetwork.com
LOCATION:Central Tech - Field 3
CREATED:20170613T170041Z
DTSTART:20170727T000000Z
DTEND:20170727T010000Z
DTSTAMP:20260423T055556Z
SUMMARY:Papa Barone & the Good Time Gang vs. Sapient FC
DESCRIPTION:Sapient FC vs. Papa Barone & the Good Time GangMore info: #106
X-ALT-DESC;FMTTYPE=text/html:<!DOCTYPE HTML PUBLIC "-//W3C//DTD HTML 3.2//E
	N">\n<HTML>\n<HEAD>\n<TITLE></TITLE>\n</HEAD>\n<BODY>\n<h3>Sapient FC vs. P
	apa Barone & the Good Time Gang</h3>More info: <a href="https://www.golnetw
	ork.com/game/v/107602/">#106</a>\n\n</BODY>\n</HTML>
STATUS:CONFIRMED
CLASS:PUBLIC
URL:https://www.golnetwork.com/game/v/107602/
X-MICROSOFT-CDO-BUSYSTATUS:BUSY
X-MICROSOFT-CDO-IMPORTANCE:1
END:VEVENT
BEGIN:VEVENT
UID:gb0pc@games.golnetwork.com
LOCATION:Central Tech - Field 3
CREATED:20170613T170041Z
DTSTART:20170727T010000Z
DTEND:20170727T020000Z
DTSTAMP:20260423T055556Z
SUMMARY:Slam Dunk FC vs. FC Insurgency
DESCRIPTION:FC Insurgency vs. Slam Dunk FCMore info: #110
X-ALT-DESC;FMTTYPE=text/html:<!DOCTYPE HTML PUBLIC "-//W3C//DTD HTML 3.2//E
	N">\n<HTML>\n<HEAD>\n<TITLE></TITLE>\n</HEAD>\n<BODY>\n<h3>FC Insurgency vs
	. Slam Dunk FC</h3>More info: <a href="https://www.golnetwork.com/game/v/10
	7601/">#110</a>\n\n</BODY>\n</HTML>
STATUS:CONFIRMED
CLASS:PUBLIC
URL:https://www.golnetwork.com/game/v/107601/
X-MICROSOFT-CDO-BUSYSTATUS:BUSY
X-MICROSOFT-CDO-IMPORTANCE:1
END:VEVENT
BEGIN:VEVENT
UID:gb0pa@games.golnetwork.com
LOCATION:Central Tech - Field 3
CREATED:20170613T170041Z
DTSTART:20170727T020000Z
DTEND:20170727T030000Z
DTSTAMP:20260423T055556Z
SUMMARY:Massey College vs. All City FC
DESCRIPTION:All City FC vs. Massey CollegeMore info: #112
X-ALT-DESC;FMTTYPE=text/html:<!DOCTYPE HTML PUBLIC "-//W3C//DTD HTML 3.2//E
	N">\n<HTML>\n<HEAD>\n<TITLE></TITLE>\n</HEAD>\n<BODY>\n<h3>All City FC vs. 
	Massey College</h3>More info: <a href="https://www.golnetwork.com/game/v/10
	7600/">#112</a>\n\n</BODY>\n</HTML>
STATUS:CONFIRMED
CLASS:PUBLIC
URL:https://www.golnetwork.com/game/v/107600/
X-MICROSOFT-CDO-BUSYSTATUS:BUSY
X-MICROSOFT-CDO-IMPORTANCE:1
END:VEVENT
BEGIN:VEVENT
UID:gb0pg@games.golnetwork.com
LOCATION:Central Tech - Field 3
CREATED:20170613T170041Z
DTSTART:20170803T000000Z
DTEND:20170803T010000Z
DTSTAMP:20260423T055556Z
SUMMARY:Slam Dunk FC vs. Massey College
DESCRIPTION:Massey College vs. Slam Dunk FCMore info: #156
X-ALT-DESC;FMTTYPE=text/html:<!DOCTYPE HTML PUBLIC "-//W3C//DTD HTML 3.2//E
	N">\n<HTML>\n<HEAD>\n<TITLE></TITLE>\n</HEAD>\n<BODY>\n<h3>Massey College v
	s. Slam Dunk FC</h3>More info: <a href="https://www.golnetwork.com/game/v/1
	07603/">#156</a>\n\n</BODY>\n</HTML>
STATUS:CONFIRMED
CLASS:PUBLIC
URL:https://www.golnetwork.com/game/v/107603/
X-MICROSOFT-CDO-BUSYSTATUS:BUSY
X-MICROSOFT-CDO-IMPORTANCE:1
END:VEVENT
BEGIN:VEVENT
UID:gb0pi@games.golnetwork.com
LOCATION:Central Tech - Field 3
CREATED:20170613T170041Z
DTSTART:20170803T010000Z
DTEND:20170803T020000Z
DTSTAMP:20260423T055556Z
SUMMARY:Papa Barone & the Good Time Gang vs. All City FC
DESCRIPTION:All City FC vs. Papa Barone & the Good Time GangMore info: #160
X-ALT-DESC;FMTTYPE=text/html:<!DOCTYPE HTML PUBLIC "-//W3C//DTD HTML 3.2//E
	N">\n<HTML>\n<HEAD>\n<TITLE></TITLE>\n</HEAD>\n<BODY>\n<h3>All City FC vs. 
	Papa Barone & the Good Time Gang</h3>More info: <a href="https://www.golnet
	work.com/game/v/107604/">#160</a>\n\n</BODY>\n</HTML>
STATUS:CONFIRMED
CLASS:PUBLIC
URL:https://www.golnetwork.com/game/v/107604/
X-MICROSOFT-CDO-BUSYSTATUS:BUSY
X-MICROSOFT-CDO-IMPORTANCE:1
END:VEVENT
BEGIN:VEVENT
UID:gb0pk@games.golnetwork.com
LOCATION:Central Tech - Field 3
CREATED:20170613T170041Z
DTSTART:20170803T020000Z
DTEND:20170803T030000Z
DTSTAMP:20260423T055556Z
SUMMARY:Sapient FC vs. FC Insurgency
DESCRIPTION:FC Insurgency vs. Sapient FCMore info: #162
X-ALT-DESC;FMTTYPE=text/html:<!DOCTYPE HTML PUBLIC "-//W3C//DTD HTML 3.2//E
	N">\n<HTML>\n<HEAD>\n<TITLE></TITLE>\n</HEAD>\n<BODY>\n<h3>FC Insurgency vs
	. Sapient FC</h3>More info: <a href="https://www.golnetwork.com/game/v/1076
	05/">#162</a>\n\n</BODY>\n</HTML>
STATUS:CONFIRMED
CLASS:PUBLIC
URL:https://www.golnetwork.com/game/v/107605/
X-MICROSOFT-CDO-BUSYSTATUS:BUSY
X-MICROSOFT-CDO-IMPORTANCE:1
END:VEVENT
BEGIN:VEVENT
UID:gb0pq@games.golnetwork.com
LOCATION:Central Tech - Field 3
CREATED:20170613T170041Z
DTSTART:20170810T000000Z
DTEND:20170810T010000Z
DTSTAMP:20260423T055556Z
SUMMARY:FC Insurgency vs. All City FC
DESCRIPTION:All City FC vs. FC InsurgencyMore info: #199
X-ALT-DESC;FMTTYPE=text/html:<!DOCTYPE HTML PUBLIC "-//W3C//DTD HTML 3.2//E
	N">\n<HTML>\n<HEAD>\n<TITLE></TITLE>\n</HEAD>\n<BODY>\n<h3>All City FC vs. 
	FC Insurgency</h3>More info: <a href="https://www.golnetwork.com/game/v/107
	608/">#199</a>\n\n</BODY>\n</HTML>
STATUS:CONFIRMED
CLASS:PUBLIC
URL:https://www.golnetwork.com/game/v/107608/
X-MICROSOFT-CDO-BUSYSTATUS:BUSY
X-MICROSOFT-CDO-IMPORTANCE:1
END:VEVENT
BEGIN:VEVENT
UID:gb0po@games.golnetwork.com
LOCATION:Central Tech - Field 3
CREATED:20170613T170041Z
DTSTART:20170810T010000Z
DTEND:20170810T020000Z
DTSTAMP:20260423T055556Z
SUMMARY:Sapient FC vs. Slam Dunk FC
DESCRIPTION:Slam Dunk FC vs. Sapient FCMore info: #203
X-ALT-DESC;FMTTYPE=text/html:<!DOCTYPE HTML PUBLIC "-//W3C//DTD HTML 3.2//E
	N">\n<HTML>\n<HEAD>\n<TITLE></TITLE>\n</HEAD>\n<BODY>\n<h3>Slam Dunk FC vs.
	 Sapient FC</h3>More info: <a href="https://www.golnetwork.com/game/v/10760
	7/">#203</a>\n\n</BODY>\n</HTML>
STATUS:CONFIRMED
CLASS:PUBLIC
URL:https://www.golnetwork.com/game/v/107607/
X-MICROSOFT-CDO-BUSYSTATUS:BUSY
X-MICROSOFT-CDO-IMPORTANCE:1
END:VEVENT
BEGIN:VEVENT
UID:gb0pm@games.golnetwork.com
LOCATION:Central Tech - Field 3
CREATED:20170613T170041Z
DTSTART:20170810T020000Z
DTEND:20170810T030000Z
DTSTAMP:20260423T055556Z
SUMMARY:Massey College vs. Papa Barone & the Good Time Gang
DESCRIPTION:Papa Barone & the Good Time Gang vs. Massey CollegeMore info: #
	204
X-ALT-DESC;FMTTYPE=text/html:<!DOCTYPE HTML PUBLIC "-//W3C//DTD HTML 3.2//E
	N">\n<HTML>\n<HEAD>\n<TITLE></TITLE>\n</HEAD>\n<BODY>\n<h3>Papa Barone & th
	e Good Time Gang vs. Massey College</h3>More info: <a href="https://www.gol
	network.com/game/v/107606/">#204</a>\n\n</BODY>\n</HTML>
STATUS:CONFIRMED
CLASS:PUBLIC
URL:https://www.golnetwork.com/game/v/107606/
X-MICROSOFT-CDO-BUSYSTATUS:BUSY
X-MICROSOFT-CDO-IMPORTANCE:1
END:VEVENT
BEGIN:VEVENT
UID:gb0q1@games.golnetwork.com
LOCATION:Central Tech - Field 3
CREATED:20170613T170041Z
DTSTART:20170817T000000Z
DTEND:20170817T010000Z
DTSTAMP:20260423T055556Z
SUMMARY:Sapient FC vs. Massey College
DESCRIPTION:Massey College vs. Sapient FCMore info: #280
X-ALT-DESC;FMTTYPE=text/html:<!DOCTYPE HTML PUBLIC "-//W3C//DTD HTML 3.2//E
	N">\n<HTML>\n<HEAD>\n<TITLE></TITLE>\n</HEAD>\n<BODY>\n<h3>Massey College v
	s. Sapient FC</h3>More info: <a href="https://www.golnetwork.com/game/v/107
	609/">#280</a>\n\n</BODY>\n</HTML>
STATUS:CONFIRMED
CLASS:PUBLIC
URL:https://www.golnetwork.com/game/v/107609/
X-MICROSOFT-CDO-BUSYSTATUS:BUSY
X-MICROSOFT-CDO-IMPORTANCE:1
END:VEVENT
BEGIN:VEVENT
UID:gb0q3@games.golnetwork.com
LOCATION:Central Tech - Field 3
CREATED:20170613T170041Z
DTSTART:20170817T010000Z
DTEND:20170817T020000Z
DTSTAMP:20260423T055556Z
SUMMARY:FC Insurgency vs. Papa Barone & the Good Time Gang
DESCRIPTION:Papa Barone & the Good Time Gang vs. FC InsurgencyMore info: #2
	84
X-ALT-DESC;FMTTYPE=text/html:<!DOCTYPE HTML PUBLIC "-//W3C//DTD HTML 3.2//E
	N">\n<HTML>\n<HEAD>\n<TITLE></TITLE>\n</HEAD>\n<BODY>\n<h3>Papa Barone & th
	e Good Time Gang vs. FC Insurgency</h3>More info: <a href="https://www.goln
	etwork.com/game/v/107610/">#284</a>\n\n</BODY>\n</HTML>
STATUS:CONFIRMED
CLASS:PUBLIC
URL:https://www.golnetwork.com/game/v/107610/
X-MICROSOFT-CDO-BUSYSTATUS:BUSY
X-MICROSOFT-CDO-IMPORTANCE:1
END:VEVENT
BEGIN:VEVENT
UID:gb0q5@games.golnetwork.com
LOCATION:Central Tech - Field 3
CREATED:20170613T170041Z
DTSTART:20170817T020000Z
DTEND:20170817T030000Z
DTSTAMP:20260423T055556Z
SUMMARY:All City FC vs. Slam Dunk FC
DESCRIPTION:Slam Dunk FC vs. All City FCMore info: #286
X-ALT-DESC;FMTTYPE=text/html:<!DOCTYPE HTML PUBLIC "-//W3C//DTD HTML 3.2//E
	N">\n<HTML>\n<HEAD>\n<TITLE></TITLE>\n</HEAD>\n<BODY>\n<h3>Slam Dunk FC vs.
	 All City FC</h3>More info: <a href="https://www.golnetwork.com/game/v/1076
	11/">#286</a>\n\n</BODY>\n</HTML>
STATUS:CONFIRMED
CLASS:PUBLIC
URL:https://www.golnetwork.com/game/v/107611/
X-MICROSOFT-CDO-BUSYSTATUS:BUSY
X-MICROSOFT-CDO-IMPORTANCE:1
END:VEVENT
BEGIN:VEVENT
UID:gb0qb@games.golnetwork.com
LOCATION:Central Tech - Field 3
CREATED:20170613T170041Z
DTSTART:20170824T000000Z
DTEND:20170824T010000Z
DTSTAMP:20260423T055556Z
SUMMARY:Slam Dunk FC vs. Papa Barone & the Good Time Gang
DESCRIPTION:Papa Barone & the Good Time Gang vs. Slam Dunk FCMore info: #36
	4
X-ALT-DESC;FMTTYPE=text/html:<!DOCTYPE HTML PUBLIC "-//W3C//DTD HTML 3.2//E
	N">\n<HTML>\n<HEAD>\n<TITLE></TITLE>\n</HEAD>\n<BODY>\n<h3>Papa Barone & th
	e Good Time Gang vs. Slam Dunk FC</h3>More info: <a href="https://www.golne
	twork.com/game/v/107614/">#364</a>\n\n</BODY>\n</HTML>
STATUS:CONFIRMED
CLASS:PUBLIC
URL:https://www.golnetwork.com/game/v/107614/
X-MICROSOFT-CDO-BUSYSTATUS:BUSY
X-MICROSOFT-CDO-IMPORTANCE:1
END:VEVENT
BEGIN:VEVENT
UID:gb0q9@games.golnetwork.com
LOCATION:Central Tech - Field 3
CREATED:20170613T170041Z
DTSTART:20170824T010000Z
DTEND:20170824T020000Z
DTSTAMP:20260423T055556Z
SUMMARY:All City FC vs. Sapient FC
DESCRIPTION:Sapient FC vs. All City FCMore info: #368
X-ALT-DESC;FMTTYPE=text/html:<!DOCTYPE HTML PUBLIC "-//W3C//DTD HTML 3.2//E
	N">\n<HTML>\n<HEAD>\n<TITLE></TITLE>\n</HEAD>\n<BODY>\n<h3>Sapient FC vs. A
	ll City FC</h3>More info: <a href="https://www.golnetwork.com/game/v/107613
	/">#368</a>\n\n</BODY>\n</HTML>
STATUS:CONFIRMED
CLASS:PUBLIC
URL:https://www.golnetwork.com/game/v/107613/
X-MICROSOFT-CDO-BUSYSTATUS:BUSY
X-MICROSOFT-CDO-IMPORTANCE:1
END:VEVENT
BEGIN:VEVENT
UID:gb0q7@games.golnetwork.com
LOCATION:Central Tech - Field 3
CREATED:20170613T170041Z
DTSTART:20170824T020000Z
DTEND:20170824T030000Z
DTSTAMP:20260423T055556Z
SUMMARY:Massey College vs. FC Insurgency
DESCRIPTION:FC Insurgency vs. Massey CollegeMore info: #370
X-ALT-DESC;FMTTYPE=text/html:<!DOCTYPE HTML PUBLIC "-//W3C//DTD HTML 3.2//E
	N">\n<HTML>\n<HEAD>\n<TITLE></TITLE>\n</HEAD>\n<BODY>\n<h3>FC Insurgency vs
	. Massey College</h3>More info: <a href="https://www.golnetwork.com/game/v/
	107612/">#370</a>\n\n</BODY>\n</HTML>
STATUS:CONFIRMED
CLASS:PUBLIC
URL:https://www.golnetwork.com/game/v/107612/
X-MICROSOFT-CDO-BUSYSTATUS:BUSY
X-MICROSOFT-CDO-IMPORTANCE:1
END:VEVENT
BEGIN:VEVENT
UID:gb0qh@games.golnetwork.com
LOCATION:Central Tech - Field 3
CREATED:20170613T170041Z
DTSTART:20170831T000000Z
DTEND:20170831T010000Z
DTSTAMP:20260423T055556Z
SUMMARY:Sapient FC vs. All City FC
DESCRIPTION:All City FC vs. Sapient FCMore info: #447
X-ALT-DESC;FMTTYPE=text/html:<!DOCTYPE HTML PUBLIC "-//W3C//DTD HTML 3.2//E
	N">\n<HTML>\n<HEAD>\n<TITLE></TITLE>\n</HEAD>\n<BODY>\n<h3>All City FC vs. 
	Sapient FC</h3>More info: <a href="https://www.golnetwork.com/game/v/107617
	/">#447</a>\n\n</BODY>\n</HTML>
STATUS:CONFIRMED
CLASS:PUBLIC
URL:https://www.golnetwork.com/game/v/107617/
X-MICROSOFT-CDO-BUSYSTATUS:BUSY
X-MICROSOFT-CDO-IMPORTANCE:1
END:VEVENT
BEGIN:VEVENT
UID:gb0qd@games.golnetwork.com
LOCATION:Central Tech - Field 3
CREATED:20170613T170041Z
DTSTART:20170831T010000Z
DTEND:20170831T020000Z
DTSTAMP:20260423T055556Z
SUMMARY:Massey College vs. Papa Barone & the Good Time Gang
DESCRIPTION:Papa Barone & the Good Time Gang vs. Massey CollegeMore info: #
	450
X-ALT-DESC;FMTTYPE=text/html:<!DOCTYPE HTML PUBLIC "-//W3C//DTD HTML 3.2//E
	N">\n<HTML>\n<HEAD>\n<TITLE></TITLE>\n</HEAD>\n<BODY>\n<h3>Papa Barone & th
	e Good Time Gang vs. Massey College</h3>More info: <a href="https://www.gol
	network.com/game/v/107615/">#450</a>\n\n</BODY>\n</HTML>
STATUS:CONFIRMED
CLASS:PUBLIC
URL:https://www.golnetwork.com/game/v/107615/
X-MICROSOFT-CDO-BUSYSTATUS:BUSY
X-MICROSOFT-CDO-IMPORTANCE:1
END:VEVENT
BEGIN:VEVENT
UID:gb0qf@games.golnetwork.com
LOCATION:Central Tech - Field 3
CREATED:20170613T170041Z
DTSTART:20170831T020000Z
DTEND:20170831T030000Z
DTSTAMP:20260423T055556Z
SUMMARY:FC Insurgency vs. Slam Dunk FC
DESCRIPTION:Slam Dunk FC vs. FC InsurgencyMore info: #452
X-ALT-DESC;FMTTYPE=text/html:<!DOCTYPE HTML PUBLIC "-//W3C//DTD HTML 3.2//E
	N">\n<HTML>\n<HEAD>\n<TITLE></TITLE>\n</HEAD>\n<BODY>\n<h3>Slam Dunk FC vs.
	 FC Insurgency</h3>More info: <a href="https://www.golnetwork.com/game/v/10
	7616/">#452</a>\n\n</BODY>\n</HTML>
STATUS:CONFIRMED
CLASS:PUBLIC
URL:https://www.golnetwork.com/game/v/107616/
X-MICROSOFT-CDO-BUSYSTATUS:BUSY
X-MICROSOFT-CDO-IMPORTANCE:1
END:VEVENT
BEGIN:VEVENT
UID:gb0qj@games.golnetwork.com
LOCATION:Central Tech - Field 3
CREATED:20170613T170041Z
DTSTART:20170907T000000Z
DTEND:20170907T010000Z
DTSTAMP:20260423T055556Z
SUMMARY:FC Insurgency vs. Massey College
DESCRIPTION:Massey College vs. FC InsurgencyMore info: #488
X-ALT-DESC;FMTTYPE=text/html:<!DOCTYPE HTML PUBLIC "-//W3C//DTD HTML 3.2//E
	N">\n<HTML>\n<HEAD>\n<TITLE></TITLE>\n</HEAD>\n<BODY>\n<h3>Massey College v
	s. FC Insurgency</h3>More info: <a href="https://www.golnetwork.com/game/v/
	107618/">#488</a>\n\n</BODY>\n</HTML>
STATUS:CONFIRMED
CLASS:PUBLIC
URL:https://www.golnetwork.com/game/v/107618/
X-MICROSOFT-CDO-BUSYSTATUS:BUSY
X-MICROSOFT-CDO-IMPORTANCE:1
END:VEVENT
BEGIN:VEVENT
UID:gb0qn@games.golnetwork.com
LOCATION:Central Tech - Field 3
CREATED:20170613T170041Z
DTSTART:20170907T010000Z
DTEND:20170907T020000Z
DTSTAMP:20260423T055556Z
SUMMARY:All City FC vs. Slam Dunk FC
DESCRIPTION:Slam Dunk FC vs. All City FCMore info: #489
X-ALT-DESC;FMTTYPE=text/html:<!DOCTYPE HTML PUBLIC "-//W3C//DTD HTML 3.2//E
	N">\n<HTML>\n<HEAD>\n<TITLE></TITLE>\n</HEAD>\n<BODY>\n<h3>Slam Dunk FC vs.
	 All City FC</h3>More info: <a href="https://www.golnetwork.com/game/v/1076
	20/">#489</a>\n\n</BODY>\n</HTML>
STATUS:CONFIRMED
CLASS:PUBLIC
URL:https://www.golnetwork.com/game/v/107620/
X-MICROSOFT-CDO-BUSYSTATUS:BUSY
X-MICROSOFT-CDO-IMPORTANCE:1
END:VEVENT
BEGIN:VEVENT
UID:gb0ql@games.golnetwork.com
LOCATION:Central Tech - Field 3
CREATED:20170613T170041Z
DTSTART:20170907T020000Z
DTEND:20170907T030000Z
DTSTAMP:20260423T055556Z
SUMMARY:Sapient FC vs. Papa Barone & the Good Time Gang
DESCRIPTION:Papa Barone & the Good Time Gang vs. Sapient FCMore info: #490
X-ALT-DESC;FMTTYPE=text/html:<!DOCTYPE HTML PUBLIC "-//W3C//DTD HTML 3.2//E
	N">\n<HTML>\n<HEAD>\n<TITLE></TITLE>\n</HEAD>\n<BODY>\n<h3>Papa Barone & th
	e Good Time Gang vs. Sapient FC</h3>More info: <a href="https://www.golnetw
	ork.com/game/v/107619/">#490</a>\n\n</BODY>\n</HTML>
STATUS:CONFIRMED
CLASS:PUBLIC
URL:https://www.golnetwork.com/game/v/107619/
X-MICROSOFT-CDO-BUSYSTATUS:BUSY
X-MICROSOFT-CDO-IMPORTANCE:1
END:VEVENT
BEGIN:VEVENT
UID:gb0qp@games.golnetwork.com
LOCATION:Central Tech - Field 3
CREATED:20170613T170041Z
DTSTART:20170914T020000Z
DTEND:20170914T030000Z
DTSTAMP:20260423T055556Z
SUMMARY:Slam Dunk FC vs. Sapient FC
DESCRIPTION:Sapient FC vs. Slam Dunk FCMore info: #550
X-ALT-DESC;FMTTYPE=text/html:<!DOCTYPE HTML PUBLIC "-//W3C//DTD HTML 3.2//E
	N">\n<HTML>\n<HEAD>\n<TITLE></TITLE>\n</HEAD>\n<BODY>\n<h3>Sapient FC vs. S
	lam Dunk FC</h3>More info: <a href="https://www.golnetwork.com/game/v/10762
	1/">#550</a>\n\n</BODY>\n</HTML>
STATUS:CONFIRMED
CLASS:PUBLIC
URL:https://www.golnetwork.com/game/v/107621/
X-MICROSOFT-CDO-BUSYSTATUS:BUSY
X-MICROSOFT-CDO-IMPORTANCE:1
END:VEVENT
BEGIN:VEVENT
UID:gb100@games.golnetwork.com
LOCATION:Central Tech - Field 3
CREATED:20170613T170041Z
DTSTART:20170921T000000Z
DTEND:20170921T010000Z
DTSTAMP:20260423T055556Z
SUMMARY:FC Insurgency vs. Slam Dunk FC
DESCRIPTION:Slam Dunk FC vs. FC InsurgencyMore info: #604
X-ALT-DESC;FMTTYPE=text/html:<!DOCTYPE HTML PUBLIC "-//W3C//DTD HTML 3.2//E
	N">\n<HTML>\n<HEAD>\n<TITLE></TITLE>\n</HEAD>\n<BODY>\n<h3>Slam Dunk FC vs.
	 FC Insurgency</h3>More info: <a href="https://www.golnetwork.com/game/v/10
	7622/">#604</a>\n\n</BODY>\n</HTML>
STATUS:CONFIRMED
CLASS:PUBLIC
URL:https://www.golnetwork.com/game/v/107622/
X-MICROSOFT-CDO-BUSYSTATUS:BUSY
X-MICROSOFT-CDO-IMPORTANCE:1
END:VEVENT
BEGIN:VEVENT
UID:gb102@games.golnetwork.com
LOCATION:Central Tech - Field 3
CREATED:20170613T170041Z
DTSTART:20170921T020000Z
DTEND:20170921T030000Z
DTSTAMP:20260423T055556Z
SUMMARY:Massey College vs. Sapient FC
DESCRIPTION:Sapient FC vs. Massey CollegeMore info: #606
X-ALT-DESC;FMTTYPE=text/html:<!DOCTYPE HTML PUBLIC "-//W3C//DTD HTML 3.2//E
	N">\n<HTML>\n<HEAD>\n<TITLE></TITLE>\n</HEAD>\n<BODY>\n<h3>Sapient FC vs. M
	assey College</h3>More info: <a href="https://www.golnetwork.com/game/v/107
	623/">#606</a>\n\n</BODY>\n</HTML>
STATUS:CONFIRMED
CLASS:PUBLIC
URL:https://www.golnetwork.com/game/v/107623/
X-MICROSOFT-CDO-BUSYSTATUS:BUSY
X-MICROSOFT-CDO-IMPORTANCE:1
END:VEVENT
END:VCALENDAR
