BEGIN:VCALENDAR
PRODID:-//gdesolutions.com//MV Framework 1.0.0.1607 Calendar//EN
VERSION:2.0
METHOD:PUBLISH
CALSCALE:GREGORIAN
BEGIN:VEVENT
UID:gb2d2@games.golnetwork.com
LOCATION:Canoe Landing - Field 1
GEO:43.6396144;-79.3970577
CREATED:20170628T160532Z
DTSTART:20170705T223000Z
DTEND:20170705T233000Z
DTSTAMP:20260420T012838Z
SUMMARY:Cleats & Cleavage vs. Tricky FC
DESCRIPTION:Tricky FC vs. Cleats & CleavageMore info: #8
X-ALT-DESC;FMTTYPE=text/html:<!DOCTYPE HTML PUBLIC "-//W3C//DTD HTML 3.2//E
	N">\n<HTML>\n<HEAD>\n<TITLE></TITLE>\n</HEAD>\n<BODY>\n<h3>Tricky FC vs. Cl
	eats & Cleavage</h3>More info: <a href="https://www.golnetwork.com/game/v/1
	08163/">#8</a>\n\n</BODY>\n</HTML>
STATUS:CONFIRMED
CLASS:PUBLIC
URL:https://www.golnetwork.com/game/v/108163/
X-MICROSOFT-CDO-BUSYSTATUS:BUSY
X-MICROSOFT-CDO-IMPORTANCE:1
END:VEVENT
BEGIN:VEVENT
UID:gb2d6@games.golnetwork.com
LOCATION:Canoe Landing - Field 2
GEO:43.6396144;-79.3970577
CREATED:20170628T160532Z
DTSTART:20170705T223000Z
DTEND:20170705T233000Z
DTSTAMP:20260420T012838Z
SUMMARY:XTSC Payet Forward vs. FutBowls
DESCRIPTION:FutBowls vs. XTSC Payet ForwardMore info: #9
X-ALT-DESC;FMTTYPE=text/html:<!DOCTYPE HTML PUBLIC "-//W3C//DTD HTML 3.2//E
	N">\n<HTML>\n<HEAD>\n<TITLE></TITLE>\n</HEAD>\n<BODY>\n<h3>FutBowls vs. XTS
	C Payet Forward</h3>More info: <a href="https://www.golnetwork.com/game/v/1
	08165/">#9</a>\n\n</BODY>\n</HTML>
STATUS:CONFIRMED
CLASS:PUBLIC
URL:https://www.golnetwork.com/game/v/108165/
X-MICROSOFT-CDO-BUSYSTATUS:BUSY
X-MICROSOFT-CDO-IMPORTANCE:1
END:VEVENT
BEGIN:VEVENT
UID:gb2d4@games.golnetwork.com
LOCATION:Canoe Landing  - Field 3
CREATED:20170628T160532Z
DTSTART:20170705T223000Z
DTEND:20170705T233000Z
DTSTAMP:20260420T012838Z
SUMMARY:Just Try'na Kick It vs. Royal Blues
DESCRIPTION:Royal Blues vs. Just Try'na Kick ItMore info: #10
X-ALT-DESC;FMTTYPE=text/html:<!DOCTYPE HTML PUBLIC "-//W3C//DTD HTML 3.2//E
	N">\n<HTML>\n<HEAD>\n<TITLE></TITLE>\n</HEAD>\n<BODY>\n<h3>Royal Blues vs. 
	Just Try'na Kick It</h3>More info: <a href="https://www.golnetwork.com/game
	/v/108164/">#10</a>\n\n</BODY>\n</HTML>
STATUS:CONFIRMED
CLASS:PUBLIC
URL:https://www.golnetwork.com/game/v/108164/
X-MICROSOFT-CDO-BUSYSTATUS:BUSY
X-MICROSOFT-CDO-IMPORTANCE:1
END:VEVENT
BEGIN:VEVENT
UID:gb2da@games.golnetwork.com
LOCATION:Canoe Landing - Field 1
GEO:43.6396144;-79.3970577
CREATED:20170628T160532Z
DTSTART:20170712T233000Z
DTEND:20170713T003000Z
DTSTAMP:20260420T012838Z
SUMMARY:XTSC Payet Forward vs. Tricky FC
DESCRIPTION:Tricky FC vs. XTSC Payet ForwardMore info: #36
X-ALT-DESC;FMTTYPE=text/html:<!DOCTYPE HTML PUBLIC "-//W3C//DTD HTML 3.2//E
	N">\n<HTML>\n<HEAD>\n<TITLE></TITLE>\n</HEAD>\n<BODY>\n<h3>Tricky FC vs. XT
	SC Payet Forward</h3>More info: <a href="https://www.golnetwork.com/game/v/
	108167/">#36</a>\n\n</BODY>\n</HTML>
STATUS:CONFIRMED
CLASS:PUBLIC
URL:https://www.golnetwork.com/game/v/108167/
X-MICROSOFT-CDO-BUSYSTATUS:BUSY
X-MICROSOFT-CDO-IMPORTANCE:1
END:VEVENT
BEGIN:VEVENT
UID:gb2dc@games.golnetwork.com
LOCATION:Canoe Landing - Field 2
GEO:43.6396144;-79.3970577
CREATED:20170628T160532Z
DTSTART:20170712T233000Z
DTEND:20170713T003000Z
DTSTAMP:20260420T012838Z
SUMMARY:FutBowls vs. Royal Blues
DESCRIPTION:Royal Blues vs. FutBowlsMore info: #37
X-ALT-DESC;FMTTYPE=text/html:<!DOCTYPE HTML PUBLIC "-//W3C//DTD HTML 3.2//E
	N">\n<HTML>\n<HEAD>\n<TITLE></TITLE>\n</HEAD>\n<BODY>\n<h3>Royal Blues vs. 
	FutBowls</h3>More info: <a href="https://www.golnetwork.com/game/v/108168/"
	>#37</a>\n\n</BODY>\n</HTML>
STATUS:CONFIRMED
CLASS:PUBLIC
URL:https://www.golnetwork.com/game/v/108168/
X-MICROSOFT-CDO-BUSYSTATUS:BUSY
X-MICROSOFT-CDO-IMPORTANCE:1
END:VEVENT
BEGIN:VEVENT
UID:gb2d8@games.golnetwork.com
LOCATION:Canoe Landing  - Field 3
CREATED:20170628T160532Z
DTSTART:20170712T233000Z
DTEND:20170713T003000Z
DTSTAMP:20260420T012838Z
SUMMARY:Just Try'na Kick It vs. Cleats & Cleavage
DESCRIPTION:Cleats & Cleavage vs. Just Try'na Kick ItMore info: #38
X-ALT-DESC;FMTTYPE=text/html:<!DOCTYPE HTML PUBLIC "-//W3C//DTD HTML 3.2//E
	N">\n<HTML>\n<HEAD>\n<TITLE></TITLE>\n</HEAD>\n<BODY>\n<h3>Cleats & Cleavag
	e vs. Just Try'na Kick It</h3>More info: <a href="https://www.golnetwork.co
	m/game/v/108166/">#38</a>\n\n</BODY>\n</HTML>
STATUS:CONFIRMED
CLASS:PUBLIC
URL:https://www.golnetwork.com/game/v/108166/
X-MICROSOFT-CDO-BUSYSTATUS:BUSY
X-MICROSOFT-CDO-IMPORTANCE:1
END:VEVENT
BEGIN:VEVENT
UID:gb2di@games.golnetwork.com
LOCATION:Canoe Landing - Field 1
GEO:43.6396144;-79.3970577
CREATED:20170628T160532Z
DTSTART:20170720T003000Z
DTEND:20170720T013000Z
DTSTAMP:20260420T012838Z
SUMMARY:Royal Blues vs. Tricky FC
DESCRIPTION:Tricky FC vs. Royal BluesMore info: #64
X-ALT-DESC;FMTTYPE=text/html:<!DOCTYPE HTML PUBLIC "-//W3C//DTD HTML 3.2//E
	N">\n<HTML>\n<HEAD>\n<TITLE></TITLE>\n</HEAD>\n<BODY>\n<h3>Tricky FC vs. Ro
	yal Blues</h3>More info: <a href="https://www.golnetwork.com/game/v/108171/
	">#64</a>\n\n</BODY>\n</HTML>
STATUS:CONFIRMED
CLASS:PUBLIC
URL:https://www.golnetwork.com/game/v/108171/
X-MICROSOFT-CDO-BUSYSTATUS:BUSY
X-MICROSOFT-CDO-IMPORTANCE:1
END:VEVENT
BEGIN:VEVENT
UID:gb2de@games.golnetwork.com
LOCATION:Canoe Landing - Field 2
GEO:43.6396144;-79.3970577
CREATED:20170628T160532Z
DTSTART:20170720T003000Z
DTEND:20170720T013000Z
DTSTAMP:20260420T012838Z
SUMMARY:Cleats & Cleavage vs. XTSC Payet Forward
DESCRIPTION:XTSC Payet Forward vs. Cleats & CleavageMore info: #65
X-ALT-DESC;FMTTYPE=text/html:<!DOCTYPE HTML PUBLIC "-//W3C//DTD HTML 3.2//E
	N">\n<HTML>\n<HEAD>\n<TITLE></TITLE>\n</HEAD>\n<BODY>\n<h3>XTSC Payet Forwa
	rd vs. Cleats & Cleavage</h3>More info: <a href="https://www.golnetwork.com
	/game/v/108169/">#65</a>\n\n</BODY>\n</HTML>
STATUS:CONFIRMED
CLASS:PUBLIC
URL:https://www.golnetwork.com/game/v/108169/
X-MICROSOFT-CDO-BUSYSTATUS:BUSY
X-MICROSOFT-CDO-IMPORTANCE:1
END:VEVENT
BEGIN:VEVENT
UID:gb2dg@games.golnetwork.com
LOCATION:Canoe Landing  - Field 3
CREATED:20170628T160532Z
DTSTART:20170720T003000Z
DTEND:20170720T013000Z
DTSTAMP:20260420T012838Z
SUMMARY:FutBowls vs. Just Try'na Kick It
DESCRIPTION:Just Try'na Kick It vs. FutBowlsMore info: #66
X-ALT-DESC;FMTTYPE=text/html:<!DOCTYPE HTML PUBLIC "-//W3C//DTD HTML 3.2//E
	N">\n<HTML>\n<HEAD>\n<TITLE></TITLE>\n</HEAD>\n<BODY>\n<h3>Just Try'na Kick
	 It vs. FutBowls</h3>More info: <a href="https://www.golnetwork.com/game/v/
	108170/">#66</a>\n\n</BODY>\n</HTML>
STATUS:CONFIRMED
CLASS:PUBLIC
URL:https://www.golnetwork.com/game/v/108170/
X-MICROSOFT-CDO-BUSYSTATUS:BUSY
X-MICROSOFT-CDO-IMPORTANCE:1
END:VEVENT
BEGIN:VEVENT
UID:gb2dk@games.golnetwork.com
LOCATION:Canoe Landing - Field 1
GEO:43.6396144;-79.3970577
CREATED:20170628T160532Z
DTSTART:20170726T223000Z
DTEND:20170726T233000Z
DTSTAMP:20260420T012838Z
SUMMARY:FutBowls vs. Cleats & Cleavage
DESCRIPTION:Cleats & Cleavage vs. FutBowlsMore info: #100
X-ALT-DESC;FMTTYPE=text/html:<!DOCTYPE HTML PUBLIC "-//W3C//DTD HTML 3.2//E
	N">\n<HTML>\n<HEAD>\n<TITLE></TITLE>\n</HEAD>\n<BODY>\n<h3>Cleats & Cleavag
	e vs. FutBowls</h3>More info: <a href="https://www.golnetwork.com/game/v/10
	8172/">#100</a>\n\n</BODY>\n</HTML>
STATUS:CONFIRMED
CLASS:PUBLIC
URL:https://www.golnetwork.com/game/v/108172/
X-MICROSOFT-CDO-BUSYSTATUS:BUSY
X-MICROSOFT-CDO-IMPORTANCE:1
END:VEVENT
BEGIN:VEVENT
UID:gb2dm@games.golnetwork.com
LOCATION:Canoe Landing - Field 2
GEO:43.6396144;-79.3970577
CREATED:20170628T160532Z
DTSTART:20170726T223000Z
DTEND:20170726T233000Z
DTSTAMP:20260420T012838Z
SUMMARY:Royal Blues vs. XTSC Payet Forward
DESCRIPTION:XTSC Payet Forward vs. Royal BluesMore info: #101
X-ALT-DESC;FMTTYPE=text/html:<!DOCTYPE HTML PUBLIC "-//W3C//DTD HTML 3.2//E
	N">\n<HTML>\n<HEAD>\n<TITLE></TITLE>\n</HEAD>\n<BODY>\n<h3>XTSC Payet Forwa
	rd vs. Royal Blues</h3>More info: <a href="https://www.golnetwork.com/game/
	v/108173/">#101</a>\n\n</BODY>\n</HTML>
STATUS:CONFIRMED
CLASS:PUBLIC
URL:https://www.golnetwork.com/game/v/108173/
X-MICROSOFT-CDO-BUSYSTATUS:BUSY
X-MICROSOFT-CDO-IMPORTANCE:1
END:VEVENT
BEGIN:VEVENT
UID:gb2do@games.golnetwork.com
LOCATION:Canoe Landing  - Field 3
CREATED:20170628T160532Z
DTSTART:20170726T223000Z
DTEND:20170726T233000Z
DTSTAMP:20260420T012838Z
SUMMARY:Tricky FC vs. Just Try'na Kick It
DESCRIPTION:Just Try'na Kick It vs. Tricky FCMore info: #102
X-ALT-DESC;FMTTYPE=text/html:<!DOCTYPE HTML PUBLIC "-//W3C//DTD HTML 3.2//E
	N">\n<HTML>\n<HEAD>\n<TITLE></TITLE>\n</HEAD>\n<BODY>\n<h3>Just Try'na Kick
	 It vs. Tricky FC</h3>More info: <a href="https://www.golnetwork.com/game/v
	/108174/">#102</a>\n\n</BODY>\n</HTML>
STATUS:CONFIRMED
CLASS:PUBLIC
URL:https://www.golnetwork.com/game/v/108174/
X-MICROSOFT-CDO-BUSYSTATUS:BUSY
X-MICROSOFT-CDO-IMPORTANCE:1
END:VEVENT
BEGIN:VEVENT
UID:gb2e1@games.golnetwork.com
LOCATION:Canoe Landing - Field 1
GEO:43.6396144;-79.3970577
CREATED:20170628T160532Z
DTSTART:20170802T233000Z
DTEND:20170803T003000Z
DTSTAMP:20260420T012838Z
SUMMARY:Tricky FC vs. FutBowls
DESCRIPTION:FutBowls vs. Tricky FCMore info: #153
X-ALT-DESC;FMTTYPE=text/html:<!DOCTYPE HTML PUBLIC "-//W3C//DTD HTML 3.2//E
	N">\n<HTML>\n<HEAD>\n<TITLE></TITLE>\n</HEAD>\n<BODY>\n<h3>FutBowls vs. Tri
	cky FC</h3>More info: <a href="https://www.golnetwork.com/game/v/108176/">#
	153</a>\n\n</BODY>\n</HTML>
STATUS:CONFIRMED
CLASS:PUBLIC
URL:https://www.golnetwork.com/game/v/108176/
X-MICROSOFT-CDO-BUSYSTATUS:BUSY
X-MICROSOFT-CDO-IMPORTANCE:1
END:VEVENT
BEGIN:VEVENT
UID:gb2dq@games.golnetwork.com
LOCATION:Canoe Landing - Field 2
GEO:43.6396144;-79.3970577
CREATED:20170628T160532Z
DTSTART:20170802T233000Z
DTEND:20170803T003000Z
DTSTAMP:20260420T012838Z
SUMMARY:Cleats & Cleavage vs. Royal Blues
DESCRIPTION:Royal Blues vs. Cleats & CleavageMore info: #154
X-ALT-DESC;FMTTYPE=text/html:<!DOCTYPE HTML PUBLIC "-//W3C//DTD HTML 3.2//E
	N">\n<HTML>\n<HEAD>\n<TITLE></TITLE>\n</HEAD>\n<BODY>\n<h3>Royal Blues vs. 
	Cleats & Cleavage</h3>More info: <a href="https://www.golnetwork.com/game/v
	/108175/">#154</a>\n\n</BODY>\n</HTML>
STATUS:CONFIRMED
CLASS:PUBLIC
URL:https://www.golnetwork.com/game/v/108175/
X-MICROSOFT-CDO-BUSYSTATUS:BUSY
X-MICROSOFT-CDO-IMPORTANCE:1
END:VEVENT
BEGIN:VEVENT
UID:gb2e3@games.golnetwork.com
LOCATION:Canoe Landing  - Field 3
CREATED:20170628T160532Z
DTSTART:20170802T233000Z
DTEND:20170803T003000Z
DTSTAMP:20260420T012838Z
SUMMARY:Just Try'na Kick It vs. XTSC Payet Forward
DESCRIPTION:XTSC Payet Forward vs. Just Try'na Kick ItMore info: #155
X-ALT-DESC;FMTTYPE=text/html:<!DOCTYPE HTML PUBLIC "-//W3C//DTD HTML 3.2//E
	N">\n<HTML>\n<HEAD>\n<TITLE></TITLE>\n</HEAD>\n<BODY>\n<h3>XTSC Payet Forwa
	rd vs. Just Try'na Kick It</h3>More info: <a href="https://www.golnetwork.c
	om/game/v/108177/">#155</a>\n\n</BODY>\n</HTML>
STATUS:CONFIRMED
CLASS:PUBLIC
URL:https://www.golnetwork.com/game/v/108177/
X-MICROSOFT-CDO-BUSYSTATUS:BUSY
X-MICROSOFT-CDO-IMPORTANCE:1
END:VEVENT
BEGIN:VEVENT
UID:gb2e9@games.golnetwork.com
LOCATION:Canoe Landing - Field 1
GEO:43.6396144;-79.3970577
CREATED:20170628T160532Z
DTSTART:20170810T003000Z
DTEND:20170810T013000Z
DTSTAMP:20260420T012838Z
SUMMARY:Royal Blues vs. Just Try'na Kick It
DESCRIPTION:Just Try'na Kick It vs. Royal BluesMore info: #200
X-ALT-DESC;FMTTYPE=text/html:<!DOCTYPE HTML PUBLIC "-//W3C//DTD HTML 3.2//E
	N">\n<HTML>\n<HEAD>\n<TITLE></TITLE>\n</HEAD>\n<BODY>\n<h3>Just Try'na Kick
	 It vs. Royal Blues</h3>More info: <a href="https://www.golnetwork.com/game
	/v/108180/">#200</a>\n\n</BODY>\n</HTML>
STATUS:CONFIRMED
CLASS:PUBLIC
URL:https://www.golnetwork.com/game/v/108180/
X-MICROSOFT-CDO-BUSYSTATUS:BUSY
X-MICROSOFT-CDO-IMPORTANCE:1
END:VEVENT
BEGIN:VEVENT
UID:gb2e7@games.golnetwork.com
LOCATION:Canoe Landing - Field 2
GEO:43.6396144;-79.3970577
CREATED:20170628T160532Z
DTSTART:20170810T003000Z
DTEND:20170810T013000Z
DTSTAMP:20260420T012838Z
SUMMARY:XTSC Payet Forward vs. FutBowls
DESCRIPTION:FutBowls vs. XTSC Payet ForwardMore info: #201
X-ALT-DESC;FMTTYPE=text/html:<!DOCTYPE HTML PUBLIC "-//W3C//DTD HTML 3.2//E
	N">\n<HTML>\n<HEAD>\n<TITLE></TITLE>\n</HEAD>\n<BODY>\n<h3>FutBowls vs. XTS
	C Payet Forward</h3>More info: <a href="https://www.golnetwork.com/game/v/1
	08179/">#201</a>\n\n</BODY>\n</HTML>
STATUS:CONFIRMED
CLASS:PUBLIC
URL:https://www.golnetwork.com/game/v/108179/
X-MICROSOFT-CDO-BUSYSTATUS:BUSY
X-MICROSOFT-CDO-IMPORTANCE:1
END:VEVENT
BEGIN:VEVENT
UID:gb2e5@games.golnetwork.com
LOCATION:Canoe Landing  - Field 3
CREATED:20170628T160532Z
DTSTART:20170810T003000Z
DTEND:20170810T013000Z
DTSTAMP:20260420T012838Z
SUMMARY:Cleats & Cleavage vs. Tricky FC
DESCRIPTION:Tricky FC vs. Cleats & CleavageMore info: #202
X-ALT-DESC;FMTTYPE=text/html:<!DOCTYPE HTML PUBLIC "-//W3C//DTD HTML 3.2//E
	N">\n<HTML>\n<HEAD>\n<TITLE></TITLE>\n</HEAD>\n<BODY>\n<h3>Tricky FC vs. Cl
	eats & Cleavage</h3>More info: <a href="https://www.golnetwork.com/game/v/1
	08178/">#202</a>\n\n</BODY>\n</HTML>
STATUS:CONFIRMED
CLASS:PUBLIC
URL:https://www.golnetwork.com/game/v/108178/
X-MICROSOFT-CDO-BUSYSTATUS:BUSY
X-MICROSOFT-CDO-IMPORTANCE:1
END:VEVENT
BEGIN:VEVENT
UID:gb2ef@games.golnetwork.com
LOCATION:Canoe Landing  - Field 3
CREATED:20170628T160532Z
DTSTART:20170816T223000Z
DTEND:20170816T233000Z
DTSTAMP:20260420T012838Z
SUMMARY:Just Try'na Kick It vs. Cleats & Cleavage
DESCRIPTION:Cleats & Cleavage vs. Just Try'na Kick ItMore info: #276
X-ALT-DESC;FMTTYPE=text/html:<!DOCTYPE HTML PUBLIC "-//W3C//DTD HTML 3.2//E
	N">\n<HTML>\n<HEAD>\n<TITLE></TITLE>\n</HEAD>\n<BODY>\n<h3>Cleats & Cleavag
	e vs. Just Try'na Kick It</h3>More info: <a href="https://www.golnetwork.co
	m/game/v/108183/">#276</a>\n\n</BODY>\n</HTML>
STATUS:CONFIRMED
CLASS:PUBLIC
URL:https://www.golnetwork.com/game/v/108183/
X-MICROSOFT-CDO-BUSYSTATUS:BUSY
X-MICROSOFT-CDO-IMPORTANCE:1
END:VEVENT
BEGIN:VEVENT
UID:gb2eb@games.golnetwork.com
LOCATION:Canoe Landing - Field 1
GEO:43.6396144;-79.3970577
CREATED:20170628T160532Z
DTSTART:20170816T233000Z
DTEND:20170817T003000Z
DTSTAMP:20260420T012838Z
SUMMARY:XTSC Payet Forward vs. Tricky FC
DESCRIPTION:Tricky FC vs. XTSC Payet ForwardMore info: #277
X-ALT-DESC;FMTTYPE=text/html:<!DOCTYPE HTML PUBLIC "-//W3C//DTD HTML 3.2//E
	N">\n<HTML>\n<HEAD>\n<TITLE></TITLE>\n</HEAD>\n<BODY>\n<h3>Tricky FC vs. XT
	SC Payet Forward</h3>More info: <a href="https://www.golnetwork.com/game/v/
	108181/">#277</a>\n\n</BODY>\n</HTML>
STATUS:CONFIRMED
CLASS:PUBLIC
URL:https://www.golnetwork.com/game/v/108181/
X-MICROSOFT-CDO-BUSYSTATUS:BUSY
X-MICROSOFT-CDO-IMPORTANCE:1
END:VEVENT
BEGIN:VEVENT
UID:gb2ed@games.golnetwork.com
LOCATION:Canoe Landing  - Field 3
CREATED:20170628T160532Z
DTSTART:20170816T233000Z
DTEND:20170817T003000Z
DTSTAMP:20260420T012838Z
SUMMARY:Royal Blues vs. FutBowls
DESCRIPTION:FutBowls vs. Royal BluesMore info: #279
X-ALT-DESC;FMTTYPE=text/html:<!DOCTYPE HTML PUBLIC "-//W3C//DTD HTML 3.2//E
	N">\n<HTML>\n<HEAD>\n<TITLE></TITLE>\n</HEAD>\n<BODY>\n<h3>FutBowls vs. Roy
	al Blues</h3>More info: <a href="https://www.golnetwork.com/game/v/108182/"
	>#279</a>\n\n</BODY>\n</HTML>
STATUS:CONFIRMED
CLASS:PUBLIC
URL:https://www.golnetwork.com/game/v/108182/
X-MICROSOFT-CDO-BUSYSTATUS:BUSY
X-MICROSOFT-CDO-IMPORTANCE:1
END:VEVENT
BEGIN:VEVENT
UID:gb2eh@games.golnetwork.com
LOCATION:Canoe Landing - Field 1
GEO:43.6396144;-79.3970577
CREATED:20170628T160532Z
DTSTART:20170823T233000Z
DTEND:20170824T003000Z
DTSTAMP:20260420T012838Z
SUMMARY:Cleats & Cleavage vs. XTSC Payet Forward
DESCRIPTION:XTSC Payet Forward vs. Cleats & CleavageMore info: #361
X-ALT-DESC;FMTTYPE=text/html:<!DOCTYPE HTML PUBLIC "-//W3C//DTD HTML 3.2//E
	N">\n<HTML>\n<HEAD>\n<TITLE></TITLE>\n</HEAD>\n<BODY>\n<h3>XTSC Payet Forwa
	rd vs. Cleats & Cleavage</h3>More info: <a href="https://www.golnetwork.com
	/game/v/108184/">#361</a>\n\n</BODY>\n</HTML>
STATUS:CONFIRMED
CLASS:PUBLIC
URL:https://www.golnetwork.com/game/v/108184/
X-MICROSOFT-CDO-BUSYSTATUS:BUSY
X-MICROSOFT-CDO-IMPORTANCE:1
END:VEVENT
BEGIN:VEVENT
UID:gb2el@games.golnetwork.com
LOCATION:Canoe Landing - Field 1
GEO:43.6396144;-79.3970577
CREATED:20170628T160532Z
DTSTART:20170831T003000Z
DTEND:20170831T013000Z
DTSTAMP:20260420T012838Z
SUMMARY:Royal Blues vs. XTSC Payet Forward
DESCRIPTION:XTSC Payet Forward vs. Royal BluesMore info: #448
X-ALT-DESC;FMTTYPE=text/html:<!DOCTYPE HTML PUBLIC "-//W3C//DTD HTML 3.2//E
	N">\n<HTML>\n<HEAD>\n<TITLE></TITLE>\n</HEAD>\n<BODY>\n<h3>XTSC Payet Forwa
	rd vs. Royal Blues</h3>More info: <a href="https://www.golnetwork.com/game/
	v/108186/">#448</a>\n\n</BODY>\n</HTML>
STATUS:CONFIRMED
CLASS:PUBLIC
URL:https://www.golnetwork.com/game/v/108186/
X-MICROSOFT-CDO-BUSYSTATUS:BUSY
X-MICROSOFT-CDO-IMPORTANCE:1
END:VEVENT
BEGIN:VEVENT
UID:gb2ej@games.golnetwork.com
LOCATION:Canoe Landing  - Field 3
CREATED:20170628T160532Z
DTSTART:20170831T003000Z
DTEND:20170831T013000Z
DTSTAMP:20260420T012838Z
SUMMARY:FutBowls vs. Cleats & Cleavage
DESCRIPTION:Cleats & Cleavage vs. FutBowlsMore info: #449
X-ALT-DESC;FMTTYPE=text/html:<!DOCTYPE HTML PUBLIC "-//W3C//DTD HTML 3.2//E
	N">\n<HTML>\n<HEAD>\n<TITLE></TITLE>\n</HEAD>\n<BODY>\n<h3>Cleats & Cleavag
	e vs. FutBowls</h3>More info: <a href="https://www.golnetwork.com/game/v/10
	8185/">#449</a>\n\n</BODY>\n</HTML>
STATUS:CONFIRMED
CLASS:PUBLIC
URL:https://www.golnetwork.com/game/v/108185/
X-MICROSOFT-CDO-BUSYSTATUS:BUSY
X-MICROSOFT-CDO-IMPORTANCE:1
END:VEVENT
END:VCALENDAR
