BEGIN:VCALENDAR
PRODID:-//gdesolutions.com//MV Framework 1.0.0.1607 Calendar//EN
VERSION:2.0
METHOD:PUBLISH
CALSCALE:GREGORIAN
BEGIN:VEVENT
UID:gb1em@games.golnetwork.com
LOCATION:Monarch Park Stadium - Field 1
GEO:43.6792789;-79.3234873
CREATED:20170619T144537Z
DTSTART:20170826T010000Z
DTEND:20170826T015000Z
DTSTAMP:20260421T183829Z
SUMMARY:XTSC Shootalots FC vs. SAUCE FC
DESCRIPTION:SAUCE FC vs. XTSC Shootalots FCMore info: #111
X-ALT-DESC;FMTTYPE=text/html:<!DOCTYPE HTML PUBLIC "-//W3C//DTD HTML 3.2//E
	N">\n<HTML>\n<HEAD>\n<TITLE></TITLE>\n</HEAD>\n<BODY>\n<h3>SAUCE FC vs. XTS
	C Shootalots FC</h3>More info: <a href="https://www.golnetwork.com/game/v/1
	07822/">#111</a>\n\n</BODY>\n</HTML>
STATUS:CONFIRMED
CLASS:PUBLIC
URL:https://www.golnetwork.com/game/v/107822/
X-MICROSOFT-CDO-BUSYSTATUS:BUSY
X-MICROSOFT-CDO-IMPORTANCE:1
END:VEVENT
BEGIN:VEVENT
UID:gb1eo@games.golnetwork.com
LOCATION:Monarch Park Stadium - Field 1
GEO:43.6792789;-79.3234873
CREATED:20170619T144537Z
DTSTART:20170826T020000Z
DTEND:20170826T025000Z
DTSTAMP:20260421T183829Z
SUMMARY:Eeeradicators vs. The Outladerz
DESCRIPTION:The Outladerz vs. EeeradicatorsMore info: #114
X-ALT-DESC;FMTTYPE=text/html:<!DOCTYPE HTML PUBLIC "-//W3C//DTD HTML 3.2//E
	N">\n<HTML>\n<HEAD>\n<TITLE></TITLE>\n</HEAD>\n<BODY>\n<h3>The Outladerz vs
	. Eeeradicators</h3>More info: <a href="https://www.golnetwork.com/game/v/1
	07823/">#114</a>\n\n</BODY>\n</HTML>
STATUS:RESCHEDULED
CLASS:PUBLIC
URL:https://www.golnetwork.com/game/v/107823/
X-MICROSOFT-CDO-BUSYSTATUS:BUSY
X-MICROSOFT-CDO-IMPORTANCE:1
END:VEVENT
BEGIN:VEVENT
UID:gb6p0@games.golnetwork.com
LOCATION:Monarch Park Stadium - Field 1
GEO:43.6792789;-79.3234873
CREATED:20170828T153733Z
DTSTART:20170909T004500Z
DTEND:20170909T013500Z
DTSTAMP:20260421T183829Z
SUMMARY:Eeeradicators vs. The Outladerz
DESCRIPTION:The Outladerz vs. EeeradicatorsMore info: R#113
X-ALT-DESC;FMTTYPE=text/html:<!DOCTYPE HTML PUBLIC "-//W3C//DTD HTML 3.2//E
	N">\n<HTML>\n<HEAD>\n<TITLE></TITLE>\n</HEAD>\n<BODY>\n<h3>The Outladerz vs
	. Eeeradicators</h3>More info: <a href="https://www.golnetwork.com/game/v/1
	09782/">R#113</a>\n\n</BODY>\n</HTML>
STATUS:CONFIRMED
CLASS:PUBLIC
URL:https://www.golnetwork.com/game/v/109782/
X-MICROSOFT-CDO-BUSYSTATUS:BUSY
X-MICROSOFT-CDO-IMPORTANCE:1
END:VEVENT
BEGIN:VEVENT
UID:gb1eq@games.golnetwork.com
LOCATION:Monarch Park Stadium - Field 1
GEO:43.6792789;-79.3234873
CREATED:20170619T144537Z
DTSTART:20170909T010000Z
DTEND:20170909T015000Z
DTSTAMP:20260421T183829Z
SUMMARY:Eeeradicators vs. SAUCE FC
DESCRIPTION:SAUCE FC vs. EeeradicatorsMore info: #144
X-ALT-DESC;FMTTYPE=text/html:<!DOCTYPE HTML PUBLIC "-//W3C//DTD HTML 3.2//E
	N">\n<HTML>\n<HEAD>\n<TITLE></TITLE>\n</HEAD>\n<BODY>\n<h3>SAUCE FC vs. Eee
	radicators</h3>More info: <a href="https://www.golnetwork.com/game/v/107824
	/">#144</a>\n\n</BODY>\n</HTML>
STATUS:CONFIRMED
CLASS:PUBLIC
URL:https://www.golnetwork.com/game/v/107824/
X-MICROSOFT-CDO-BUSYSTATUS:BUSY
X-MICROSOFT-CDO-IMPORTANCE:1
END:VEVENT
END:VCALENDAR
