BEGIN:VCALENDAR
PRODID:-//gdesolutions.com//MV Framework 1.0.0.1607 Calendar//EN
VERSION:2.0
METHOD:PUBLISH
CALSCALE:GREGORIAN
BEGIN:VEVENT
UID:gba9g@games.golnetwork.com
LOCATION:Jesse Ketchum Public School
GEO:43.6730545;-79.3911034
CREATED:20170920T142612Z
DTSTART:20170925T223000Z
DTEND:20170925T233000Z
DTSTAMP:20260419T204915Z
SUMMARY:XTSC Titans vs. About to Get Messi
DESCRIPTION:About to Get Messi vs. XTSC TitansMore info: #1
X-ALT-DESC;FMTTYPE=text/html:<!DOCTYPE HTML PUBLIC "-//W3C//DTD HTML 3.2//E
	N">\n<HTML>\n<HEAD>\n<TITLE></TITLE>\n</HEAD>\n<BODY>\n<h3>About to Get Mes
	si vs. XTSC Titans</h3>More info: <a href="https://www.golnetwork.com/game/
	v/111032/">#1</a>\n\n</BODY>\n</HTML>
STATUS:CONFIRMED
CLASS:PUBLIC
URL:https://www.golnetwork.com/game/v/111032/
X-MICROSOFT-CDO-BUSYSTATUS:BUSY
X-MICROSOFT-CDO-IMPORTANCE:1
END:VEVENT
BEGIN:VEVENT
UID:gba9i@games.golnetwork.com
LOCATION:Jesse Ketchum Public School
GEO:43.6730545;-79.3911034
CREATED:20170920T142621Z
DTSTART:20170925T233000Z
DTEND:20170926T003000Z
DTSTAMP:20260419T204915Z
SUMMARY:Seal Madrid vs. ITRG
DESCRIPTION:ITRG vs. Seal MadridMore info: #2
X-ALT-DESC;FMTTYPE=text/html:<!DOCTYPE HTML PUBLIC "-//W3C//DTD HTML 3.2//E
	N">\n<HTML>\n<HEAD>\n<TITLE></TITLE>\n</HEAD>\n<BODY>\n<h3>ITRG vs. Seal Ma
	drid</h3>More info: <a href="https://www.golnetwork.com/game/v/111033/">#2<
	/a>\n\n</BODY>\n</HTML>
STATUS:CONFIRMED
CLASS:PUBLIC
URL:https://www.golnetwork.com/game/v/111033/
X-MICROSOFT-CDO-BUSYSTATUS:BUSY
X-MICROSOFT-CDO-IMPORTANCE:1
END:VEVENT
BEGIN:VEVENT
UID:gba9k@games.golnetwork.com
LOCATION:Jesse Ketchum Public School
GEO:43.6730545;-79.3911034
CREATED:20170920T142631Z
DTSTART:20170926T003000Z
DTEND:20170926T013000Z
DTSTAMP:20260419T204915Z
SUMMARY:Just for Kicks vs. White Noise
DESCRIPTION:White Noise vs. Just for KicksMore info: #3
X-ALT-DESC;FMTTYPE=text/html:<!DOCTYPE HTML PUBLIC "-//W3C//DTD HTML 3.2//E
	N">\n<HTML>\n<HEAD>\n<TITLE></TITLE>\n</HEAD>\n<BODY>\n<h3>White Noise vs. 
	Just for Kicks</h3>More info: <a href="https://www.golnetwork.com/game/v/11
	1034/">#3</a>\n\n</BODY>\n</HTML>
STATUS:CONFIRMED
CLASS:PUBLIC
URL:https://www.golnetwork.com/game/v/111034/
X-MICROSOFT-CDO-BUSYSTATUS:BUSY
X-MICROSOFT-CDO-IMPORTANCE:1
END:VEVENT
BEGIN:VEVENT
UID:gba9m@games.golnetwork.com
LOCATION:Jesse Ketchum Public School
GEO:43.6730545;-79.3911034
CREATED:20170920T143450Z
DTSTART:20171002T223000Z
DTEND:20171002T233000Z
DTSTAMP:20260419T204915Z
SUMMARY:XTSC Titans vs. White Noise
DESCRIPTION:White Noise vs. XTSC TitansMore info: #4
X-ALT-DESC;FMTTYPE=text/html:<!DOCTYPE HTML PUBLIC "-//W3C//DTD HTML 3.2//E
	N">\n<HTML>\n<HEAD>\n<TITLE></TITLE>\n</HEAD>\n<BODY>\n<h3>White Noise vs. 
	XTSC Titans</h3>More info: <a href="https://www.golnetwork.com/game/v/11103
	5/">#4</a>\n\n</BODY>\n</HTML>
STATUS:CONFIRMED
CLASS:PUBLIC
URL:https://www.golnetwork.com/game/v/111035/
X-MICROSOFT-CDO-BUSYSTATUS:BUSY
X-MICROSOFT-CDO-IMPORTANCE:1
END:VEVENT
BEGIN:VEVENT
UID:gba9o@games.golnetwork.com
LOCATION:Jesse Ketchum Public School
GEO:43.6730545;-79.3911034
CREATED:20170920T143459Z
DTSTART:20171002T233000Z
DTEND:20171003T003000Z
DTSTAMP:20260419T204915Z
SUMMARY:Seal Madrid vs. Just for Kicks
DESCRIPTION:Just for Kicks vs. Seal MadridMore info: #5
X-ALT-DESC;FMTTYPE=text/html:<!DOCTYPE HTML PUBLIC "-//W3C//DTD HTML 3.2//E
	N">\n<HTML>\n<HEAD>\n<TITLE></TITLE>\n</HEAD>\n<BODY>\n<h3>Just for Kicks v
	s. Seal Madrid</h3>More info: <a href="https://www.golnetwork.com/game/v/11
	1036/">#5</a>\n\n</BODY>\n</HTML>
STATUS:CONFIRMED
CLASS:PUBLIC
URL:https://www.golnetwork.com/game/v/111036/
X-MICROSOFT-CDO-BUSYSTATUS:BUSY
X-MICROSOFT-CDO-IMPORTANCE:1
END:VEVENT
BEGIN:VEVENT
UID:gba9q@games.golnetwork.com
LOCATION:Jesse Ketchum Public School
GEO:43.6730545;-79.3911034
CREATED:20170920T143507Z
DTSTART:20171003T003000Z
DTEND:20171003T013000Z
DTSTAMP:20260419T204915Z
SUMMARY:ITRG vs. About to Get Messi
DESCRIPTION:About to Get Messi vs. ITRGMore info: #6
X-ALT-DESC;FMTTYPE=text/html:<!DOCTYPE HTML PUBLIC "-//W3C//DTD HTML 3.2//E
	N">\n<HTML>\n<HEAD>\n<TITLE></TITLE>\n</HEAD>\n<BODY>\n<h3>About to Get Mes
	si vs. ITRG</h3>More info: <a href="https://www.golnetwork.com/game/v/11103
	7/">#6</a>\n\n</BODY>\n</HTML>
STATUS:CONFIRMED
CLASS:PUBLIC
URL:https://www.golnetwork.com/game/v/111037/
X-MICROSOFT-CDO-BUSYSTATUS:BUSY
X-MICROSOFT-CDO-IMPORTANCE:1
END:VEVENT
BEGIN:VEVENT
UID:gbaa1@games.golnetwork.com
LOCATION:Jesse Ketchum Public School
GEO:43.6730545;-79.3911034
CREATED:20170920T143519Z
DTSTART:20171016T223000Z
DTEND:20171016T233000Z
DTSTAMP:20260419T204915Z
SUMMARY:XTSC Titans vs. Seal Madrid
DESCRIPTION:Seal Madrid vs. XTSC TitansMore info: #7
X-ALT-DESC;FMTTYPE=text/html:<!DOCTYPE HTML PUBLIC "-//W3C//DTD HTML 3.2//E
	N">\n<HTML>\n<HEAD>\n<TITLE></TITLE>\n</HEAD>\n<BODY>\n<h3>Seal Madrid vs. 
	XTSC Titans</h3>More info: <a href="https://www.golnetwork.com/game/v/11103
	8/">#7</a>\n\n</BODY>\n</HTML>
STATUS:CONFIRMED
CLASS:PUBLIC
URL:https://www.golnetwork.com/game/v/111038/
X-MICROSOFT-CDO-BUSYSTATUS:BUSY
X-MICROSOFT-CDO-IMPORTANCE:1
END:VEVENT
BEGIN:VEVENT
UID:gbaa3@games.golnetwork.com
LOCATION:Jesse Ketchum Public School
GEO:43.6730545;-79.3911034
CREATED:20170920T143529Z
DTSTART:20171016T233000Z
DTEND:20171017T003000Z
DTSTAMP:20260419T204915Z
SUMMARY:White Noise vs. About to Get Messi
DESCRIPTION:About to Get Messi vs. White NoiseMore info: #8
X-ALT-DESC;FMTTYPE=text/html:<!DOCTYPE HTML PUBLIC "-//W3C//DTD HTML 3.2//E
	N">\n<HTML>\n<HEAD>\n<TITLE></TITLE>\n</HEAD>\n<BODY>\n<h3>About to Get Mes
	si vs. White Noise</h3>More info: <a href="https://www.golnetwork.com/game/
	v/111039/">#8</a>\n\n</BODY>\n</HTML>
STATUS:CONFIRMED
CLASS:PUBLIC
URL:https://www.golnetwork.com/game/v/111039/
X-MICROSOFT-CDO-BUSYSTATUS:BUSY
X-MICROSOFT-CDO-IMPORTANCE:1
END:VEVENT
BEGIN:VEVENT
UID:gbaa5@games.golnetwork.com
LOCATION:Jesse Ketchum Public School
GEO:43.6730545;-79.3911034
CREATED:20170920T143538Z
DTSTART:20171017T003000Z
DTEND:20171017T013000Z
DTSTAMP:20260419T204915Z
SUMMARY:ITRG vs. Just for Kicks
DESCRIPTION:Just for Kicks vs. ITRGMore info: #9
X-ALT-DESC;FMTTYPE=text/html:<!DOCTYPE HTML PUBLIC "-//W3C//DTD HTML 3.2//E
	N">\n<HTML>\n<HEAD>\n<TITLE></TITLE>\n</HEAD>\n<BODY>\n<h3>Just for Kicks v
	s. ITRG</h3>More info: <a href="https://www.golnetwork.com/game/v/111040/">
	#9</a>\n\n</BODY>\n</HTML>
STATUS:CONFIRMED
CLASS:PUBLIC
URL:https://www.golnetwork.com/game/v/111040/
X-MICROSOFT-CDO-BUSYSTATUS:BUSY
X-MICROSOFT-CDO-IMPORTANCE:1
END:VEVENT
BEGIN:VEVENT
UID:gbaa7@games.golnetwork.com
LOCATION:Jesse Ketchum Public School
GEO:43.6730545;-79.3911034
CREATED:20170920T143548Z
DTSTART:20171023T223000Z
DTEND:20171023T233000Z
DTSTAMP:20260419T204915Z
SUMMARY:White Noise vs. Seal Madrid
DESCRIPTION:Seal Madrid vs. White NoiseMore info: #10
X-ALT-DESC;FMTTYPE=text/html:<!DOCTYPE HTML PUBLIC "-//W3C//DTD HTML 3.2//E
	N">\n<HTML>\n<HEAD>\n<TITLE></TITLE>\n</HEAD>\n<BODY>\n<h3>Seal Madrid vs. 
	White Noise</h3>More info: <a href="https://www.golnetwork.com/game/v/11104
	1/">#10</a>\n\n</BODY>\n</HTML>
STATUS:CONFIRMED
CLASS:PUBLIC
URL:https://www.golnetwork.com/game/v/111041/
X-MICROSOFT-CDO-BUSYSTATUS:BUSY
X-MICROSOFT-CDO-IMPORTANCE:1
END:VEVENT
BEGIN:VEVENT
UID:gbaa9@games.golnetwork.com
LOCATION:Jesse Ketchum Public School
GEO:43.6730545;-79.3911034
CREATED:20170920T143555Z
DTSTART:20171023T233000Z
DTEND:20171024T003000Z
DTSTAMP:20260419T204915Z
SUMMARY:About to Get Messi vs. Just for Kicks
DESCRIPTION:Just for Kicks vs. About to Get MessiMore info: #11
X-ALT-DESC;FMTTYPE=text/html:<!DOCTYPE HTML PUBLIC "-//W3C//DTD HTML 3.2//E
	N">\n<HTML>\n<HEAD>\n<TITLE></TITLE>\n</HEAD>\n<BODY>\n<h3>Just for Kicks v
	s. About to Get Messi</h3>More info: <a href="https://www.golnetwork.com/ga
	me/v/111042/">#11</a>\n\n</BODY>\n</HTML>
STATUS:CONFIRMED
CLASS:PUBLIC
URL:https://www.golnetwork.com/game/v/111042/
X-MICROSOFT-CDO-BUSYSTATUS:BUSY
X-MICROSOFT-CDO-IMPORTANCE:1
END:VEVENT
BEGIN:VEVENT
UID:gbaab@games.golnetwork.com
LOCATION:Jesse Ketchum Public School
GEO:43.6730545;-79.3911034
CREATED:20170920T143605Z
DTSTART:20171024T003000Z
DTEND:20171024T013000Z
DTSTAMP:20260419T204915Z
SUMMARY:ITRG vs. XTSC Titans
DESCRIPTION:XTSC Titans vs. ITRGMore info: #12
X-ALT-DESC;FMTTYPE=text/html:<!DOCTYPE HTML PUBLIC "-//W3C//DTD HTML 3.2//E
	N">\n<HTML>\n<HEAD>\n<TITLE></TITLE>\n</HEAD>\n<BODY>\n<h3>XTSC Titans vs. 
	ITRG</h3>More info: <a href="https://www.golnetwork.com/game/v/111043/">#12
	</a>\n\n</BODY>\n</HTML>
STATUS:CONFIRMED
CLASS:PUBLIC
URL:https://www.golnetwork.com/game/v/111043/
X-MICROSOFT-CDO-BUSYSTATUS:BUSY
X-MICROSOFT-CDO-IMPORTANCE:1
END:VEVENT
BEGIN:VEVENT
UID:gbaad@games.golnetwork.com
LOCATION:Jesse Ketchum Public School
GEO:43.6730545;-79.3911034
CREATED:20170920T143615Z
DTSTART:20171030T223000Z
DTEND:20171030T233000Z
DTSTAMP:20260419T204915Z
SUMMARY:White Noise vs. ITRG
DESCRIPTION:ITRG vs. White NoiseMore info: #13
X-ALT-DESC;FMTTYPE=text/html:<!DOCTYPE HTML PUBLIC "-//W3C//DTD HTML 3.2//E
	N">\n<HTML>\n<HEAD>\n<TITLE></TITLE>\n</HEAD>\n<BODY>\n<h3>ITRG vs. White N
	oise</h3>More info: <a href="https://www.golnetwork.com/game/v/111044/">#13
	</a>\n\n</BODY>\n</HTML>
STATUS:CONFIRMED
CLASS:PUBLIC
URL:https://www.golnetwork.com/game/v/111044/
X-MICROSOFT-CDO-BUSYSTATUS:BUSY
X-MICROSOFT-CDO-IMPORTANCE:1
END:VEVENT
BEGIN:VEVENT
UID:gbaaf@games.golnetwork.com
LOCATION:Jesse Ketchum Public School
GEO:43.6730545;-79.3911034
CREATED:20170920T143623Z
DTSTART:20171030T233000Z
DTEND:20171031T003000Z
DTSTAMP:20260419T204915Z
SUMMARY:Just for Kicks vs. XTSC Titans
DESCRIPTION:XTSC Titans vs. Just for KicksMore info: #14
X-ALT-DESC;FMTTYPE=text/html:<!DOCTYPE HTML PUBLIC "-//W3C//DTD HTML 3.2//E
	N">\n<HTML>\n<HEAD>\n<TITLE></TITLE>\n</HEAD>\n<BODY>\n<h3>XTSC Titans vs. 
	Just for Kicks</h3>More info: <a href="https://www.golnetwork.com/game/v/11
	1045/">#14</a>\n\n</BODY>\n</HTML>
STATUS:CONFIRMED
CLASS:PUBLIC
URL:https://www.golnetwork.com/game/v/111045/
X-MICROSOFT-CDO-BUSYSTATUS:BUSY
X-MICROSOFT-CDO-IMPORTANCE:1
END:VEVENT
BEGIN:VEVENT
UID:gbaah@games.golnetwork.com
LOCATION:Jesse Ketchum Public School
GEO:43.6730545;-79.3911034
CREATED:20170920T143631Z
DTSTART:20171031T003000Z
DTEND:20171031T013000Z
DTSTAMP:20260419T204915Z
SUMMARY:Seal Madrid vs. About to Get Messi
DESCRIPTION:About to Get Messi vs. Seal MadridMore info: #15
X-ALT-DESC;FMTTYPE=text/html:<!DOCTYPE HTML PUBLIC "-//W3C//DTD HTML 3.2//E
	N">\n<HTML>\n<HEAD>\n<TITLE></TITLE>\n</HEAD>\n<BODY>\n<h3>About to Get Mes
	si vs. Seal Madrid</h3>More info: <a href="https://www.golnetwork.com/game/
	v/111046/">#15</a>\n\n</BODY>\n</HTML>
STATUS:CONFIRMED
CLASS:PUBLIC
URL:https://www.golnetwork.com/game/v/111046/
X-MICROSOFT-CDO-BUSYSTATUS:BUSY
X-MICROSOFT-CDO-IMPORTANCE:1
END:VEVENT
BEGIN:VEVENT
UID:gbaan@games.golnetwork.com
LOCATION:Jesse Ketchum Public School
GEO:43.6730545;-79.3911034
CREATED:20170920T143701Z
DTSTART:20171106T233000Z
DTEND:20171107T003000Z
DTSTAMP:20260419T204915Z
SUMMARY:Just for Kicks vs. White Noise
DESCRIPTION:White Noise vs. Just for KicksMore info: #16
X-ALT-DESC;FMTTYPE=text/html:<!DOCTYPE HTML PUBLIC "-//W3C//DTD HTML 3.2//E
	N">\n<HTML>\n<HEAD>\n<TITLE></TITLE>\n</HEAD>\n<BODY>\n<h3>White Noise vs. 
	Just for Kicks</h3>More info: <a href="https://www.golnetwork.com/game/v/11
	1049/">#16</a>\n\n</BODY>\n</HTML>
STATUS:CONFIRMED
CLASS:PUBLIC
URL:https://www.golnetwork.com/game/v/111049/
X-MICROSOFT-CDO-BUSYSTATUS:BUSY
X-MICROSOFT-CDO-IMPORTANCE:1
END:VEVENT
BEGIN:VEVENT
UID:gbaaj@games.golnetwork.com
LOCATION:Jesse Ketchum Public School
GEO:43.6730545;-79.3911034
CREATED:20170920T143644Z
DTSTART:20171107T003000Z
DTEND:20171107T013000Z
DTSTAMP:20260419T204915Z
SUMMARY:XTSC Titans vs. About to Get Messi
DESCRIPTION:About to Get Messi vs. XTSC TitansMore info: #17
X-ALT-DESC;FMTTYPE=text/html:<!DOCTYPE HTML PUBLIC "-//W3C//DTD HTML 3.2//E
	N">\n<HTML>\n<HEAD>\n<TITLE></TITLE>\n</HEAD>\n<BODY>\n<h3>About to Get Mes
	si vs. XTSC Titans</h3>More info: <a href="https://www.golnetwork.com/game/
	v/111047/">#17</a>\n\n</BODY>\n</HTML>
STATUS:CONFIRMED
CLASS:PUBLIC
URL:https://www.golnetwork.com/game/v/111047/
X-MICROSOFT-CDO-BUSYSTATUS:BUSY
X-MICROSOFT-CDO-IMPORTANCE:1
END:VEVENT
BEGIN:VEVENT
UID:gbaal@games.golnetwork.com
LOCATION:Jesse Ketchum Public School
GEO:43.6730545;-79.3911034
CREATED:20170920T143652Z
DTSTART:20171107T013000Z
DTEND:20171107T023000Z
DTSTAMP:20260419T204915Z
SUMMARY:Seal Madrid vs. ITRG
DESCRIPTION:ITRG vs. Seal MadridMore info: #18
X-ALT-DESC;FMTTYPE=text/html:<!DOCTYPE HTML PUBLIC "-//W3C//DTD HTML 3.2//E
	N">\n<HTML>\n<HEAD>\n<TITLE></TITLE>\n</HEAD>\n<BODY>\n<h3>ITRG vs. Seal Ma
	drid</h3>More info: <a href="https://www.golnetwork.com/game/v/111048/">#18
	</a>\n\n</BODY>\n</HTML>
STATUS:CONFIRMED
CLASS:PUBLIC
URL:https://www.golnetwork.com/game/v/111048/
X-MICROSOFT-CDO-BUSYSTATUS:BUSY
X-MICROSOFT-CDO-IMPORTANCE:1
END:VEVENT
BEGIN:VEVENT
UID:gbaap@games.golnetwork.com
LOCATION:Jesse Ketchum Public School
GEO:43.6730545;-79.3911034
CREATED:20170920T143718Z
DTSTART:20171113T233000Z
DTEND:20171114T003000Z
DTSTAMP:20260419T204915Z
SUMMARY:Seal Madrid vs. Just for Kicks
DESCRIPTION:Just for Kicks vs. Seal MadridMore info: #19
X-ALT-DESC;FMTTYPE=text/html:<!DOCTYPE HTML PUBLIC "-//W3C//DTD HTML 3.2//E
	N">\n<HTML>\n<HEAD>\n<TITLE></TITLE>\n</HEAD>\n<BODY>\n<h3>Just for Kicks v
	s. Seal Madrid</h3>More info: <a href="https://www.golnetwork.com/game/v/11
	1050/">#19</a>\n\n</BODY>\n</HTML>
STATUS:CONFIRMED
CLASS:PUBLIC
URL:https://www.golnetwork.com/game/v/111050/
X-MICROSOFT-CDO-BUSYSTATUS:BUSY
X-MICROSOFT-CDO-IMPORTANCE:1
END:VEVENT
BEGIN:VEVENT
UID:gbab0@games.golnetwork.com
LOCATION:Jesse Ketchum Public School
GEO:43.6730545;-79.3911034
CREATED:20170920T143727Z
DTSTART:20171114T003000Z
DTEND:20171114T013000Z
DTSTAMP:20260419T204915Z
SUMMARY:XTSC Titans vs. White Noise
DESCRIPTION:White Noise vs. XTSC TitansMore info: #20
X-ALT-DESC;FMTTYPE=text/html:<!DOCTYPE HTML PUBLIC "-//W3C//DTD HTML 3.2//E
	N">\n<HTML>\n<HEAD>\n<TITLE></TITLE>\n</HEAD>\n<BODY>\n<h3>White Noise vs. 
	XTSC Titans</h3>More info: <a href="https://www.golnetwork.com/game/v/11105
	1/">#20</a>\n\n</BODY>\n</HTML>
STATUS:CONFIRMED
CLASS:PUBLIC
URL:https://www.golnetwork.com/game/v/111051/
X-MICROSOFT-CDO-BUSYSTATUS:BUSY
X-MICROSOFT-CDO-IMPORTANCE:1
END:VEVENT
BEGIN:VEVENT
UID:gbab2@games.golnetwork.com
LOCATION:Jesse Ketchum Public School
GEO:43.6730545;-79.3911034
CREATED:20170920T143734Z
DTSTART:20171114T013000Z
DTEND:20171114T023000Z
DTSTAMP:20260419T204915Z
SUMMARY:ITRG vs. About to Get Messi
DESCRIPTION:About to Get Messi vs. ITRGMore info: #21
X-ALT-DESC;FMTTYPE=text/html:<!DOCTYPE HTML PUBLIC "-//W3C//DTD HTML 3.2//E
	N">\n<HTML>\n<HEAD>\n<TITLE></TITLE>\n</HEAD>\n<BODY>\n<h3>About to Get Mes
	si vs. ITRG</h3>More info: <a href="https://www.golnetwork.com/game/v/11105
	2/">#21</a>\n\n</BODY>\n</HTML>
STATUS:CONFIRMED
CLASS:PUBLIC
URL:https://www.golnetwork.com/game/v/111052/
X-MICROSOFT-CDO-BUSYSTATUS:BUSY
X-MICROSOFT-CDO-IMPORTANCE:1
END:VEVENT
BEGIN:VEVENT
UID:gbab6@games.golnetwork.com
LOCATION:Jesse Ketchum Public School
GEO:43.6730545;-79.3911034
CREATED:20170920T143746Z
DTSTART:20171120T233000Z
DTEND:20171121T003000Z
DTSTAMP:20260419T204915Z
SUMMARY:XTSC Titans vs. Just for Kicks
DESCRIPTION:Just for Kicks vs. XTSC TitansMore info: #22
X-ALT-DESC;FMTTYPE=text/html:<!DOCTYPE HTML PUBLIC "-//W3C//DTD HTML 3.2//E
	N">\n<HTML>\n<HEAD>\n<TITLE></TITLE>\n</HEAD>\n<BODY>\n<h3>Just for Kicks v
	s. XTSC Titans</h3>More info: <a href="https://www.golnetwork.com/game/v/11
	1054/">#22</a>\n\n</BODY>\n</HTML>
STATUS:CONFIRMED
CLASS:PUBLIC
URL:https://www.golnetwork.com/game/v/111054/
X-MICROSOFT-CDO-BUSYSTATUS:BUSY
X-MICROSOFT-CDO-IMPORTANCE:1
END:VEVENT
BEGIN:VEVENT
UID:gbab8@games.golnetwork.com
LOCATION:Jesse Ketchum Public School
GEO:43.6730545;-79.3911034
CREATED:20170920T143748Z
DTSTART:20171127T233000Z
DTEND:20171128T003000Z
DTSTAMP:20260419T204915Z
SUMMARY:About to Get Messi vs. Just for Kicks
DESCRIPTION:Just for Kicks vs. About to Get MessiMore info: #25
X-ALT-DESC;FMTTYPE=text/html:<!DOCTYPE HTML PUBLIC "-//W3C//DTD HTML 3.2//E
	N">\n<HTML>\n<HEAD>\n<TITLE></TITLE>\n</HEAD>\n<BODY>\n<h3>Just for Kicks v
	s. About to Get Messi</h3>More info: <a href="https://www.golnetwork.com/ga
	me/v/111055/">#25</a>\n\n</BODY>\n</HTML>
STATUS:CONFIRMED
CLASS:PUBLIC
URL:https://www.golnetwork.com/game/v/111055/
X-MICROSOFT-CDO-BUSYSTATUS:BUSY
X-MICROSOFT-CDO-IMPORTANCE:1
END:VEVENT
BEGIN:VEVENT
UID:gbaba@games.golnetwork.com
LOCATION:Jesse Ketchum Public School
GEO:43.6730545;-79.3911034
CREATED:20170920T143754Z
DTSTART:20171128T013000Z
DTEND:20171128T023000Z
DTSTAMP:20260419T204915Z
SUMMARY:Seal Madrid vs. XTSC Titans
DESCRIPTION:XTSC Titans vs. Seal MadridMore info: #27
X-ALT-DESC;FMTTYPE=text/html:<!DOCTYPE HTML PUBLIC "-//W3C//DTD HTML 3.2//E
	N">\n<HTML>\n<HEAD>\n<TITLE></TITLE>\n</HEAD>\n<BODY>\n<h3>XTSC Titans vs. 
	Seal Madrid</h3>More info: <a href="https://www.golnetwork.com/game/v/11105
	6/">#27</a>\n\n</BODY>\n</HTML>
STATUS:CONFIRMED
CLASS:PUBLIC
URL:https://www.golnetwork.com/game/v/111056/
X-MICROSOFT-CDO-BUSYSTATUS:BUSY
X-MICROSOFT-CDO-IMPORTANCE:1
END:VEVENT
END:VCALENDAR
