BEGIN:VCALENDAR
PRODID:-//gdesolutions.com//MV Framework 1.0.0.1607 Calendar//EN
VERSION:2.0
METHOD:PUBLISH
CALSCALE:GREGORIAN
BEGIN:VEVENT
UID:gca9j@games.golnetwork.com
LOCATION:Anexxe Trilles des Bois
GEO:45.4395952;-75.6706817
CREATED:20180227T172303Z
DTSTART:20180308T003000Z
DTEND:20180308T012000Z
DTSTAMP:20260420T223342Z
SUMMARY:Reds vs. Zero Pucks Given
DESCRIPTION:Zero Pucks Given vs. RedsMore info: #17
X-ALT-DESC;FMTTYPE=text/html:<!DOCTYPE HTML PUBLIC "-//W3C//DTD HTML 3.2//E
	N">\n<HTML>\n<HEAD>\n<TITLE></TITLE>\n</HEAD>\n<BODY>\n<h3>Zero Pucks Given
	 vs. Reds</h3>More info: <a href="https://www.golnetwork.com/game/v/120875/
	">#17</a>\n\n</BODY>\n</HTML>
STATUS:CONFIRMED
CLASS:PUBLIC
URL:https://www.golnetwork.com/game/v/120875/
X-MICROSOFT-CDO-BUSYSTATUS:BUSY
X-MICROSOFT-CDO-IMPORTANCE:1
END:VEVENT
BEGIN:VEVENT
UID:gca9l@games.golnetwork.com
LOCATION:Anexxe Trilles des Bois
GEO:45.4395952;-75.6706817
CREATED:20180227T172325Z
DTSTART:20180308T013000Z
DTEND:20180308T022000Z
DTSTAMP:20260420T223342Z
SUMMARY:Individuals 1 vs. Individuals 2
DESCRIPTION:Individuals 2 vs. Individuals 1More info: #18
X-ALT-DESC;FMTTYPE=text/html:<!DOCTYPE HTML PUBLIC "-//W3C//DTD HTML 3.2//E
	N">\n<HTML>\n<HEAD>\n<TITLE></TITLE>\n</HEAD>\n<BODY>\n<h3>Individuals 2 vs
	. Individuals 1</h3>More info: <a href="https://www.golnetwork.com/game/v/1
	20876/">#18</a>\n\n</BODY>\n</HTML>
STATUS:CONFIRMED
CLASS:PUBLIC
URL:https://www.golnetwork.com/game/v/120876/
X-MICROSOFT-CDO-BUSYSTATUS:BUSY
X-MICROSOFT-CDO-IMPORTANCE:1
END:VEVENT
BEGIN:VEVENT
UID:gcbkh@games.golnetwork.com
LOCATION:Anexxe Trilles des Bois
GEO:45.4395952;-75.6706817
CREATED:20180314T044148Z
DTSTART:20180321T233000Z
DTEND:20180322T002000Z
DTSTAMP:20260420T223342Z
SUMMARY:Individuals 1 vs. Zero Pucks Given
DESCRIPTION:Zero Pucks Given vs. Individuals 1More info: #19
X-ALT-DESC;FMTTYPE=text/html:<!DOCTYPE HTML PUBLIC "-//W3C//DTD HTML 3.2//E
	N">\n<HTML>\n<HEAD>\n<TITLE></TITLE>\n</HEAD>\n<BODY>\n<h3>Zero Pucks Given
	 vs. Individuals 1</h3>More info: <a href="https://www.golnetwork.com/game/
	v/121387/">#19</a>\n\n</BODY>\n</HTML>
STATUS:CONFIRMED
CLASS:PUBLIC
URL:https://www.golnetwork.com/game/v/121387/
X-MICROSOFT-CDO-BUSYSTATUS:BUSY
X-MICROSOFT-CDO-IMPORTANCE:1
END:VEVENT
BEGIN:VEVENT
UID:gcbkf@games.golnetwork.com
LOCATION:Anexxe Trilles des Bois
GEO:45.4395952;-75.6706817
CREATED:20180314T044140Z
DTSTART:20180322T003000Z
DTEND:20180322T012000Z
DTSTAMP:20260420T223342Z
SUMMARY:Reds vs. Individuals 2
DESCRIPTION:Individuals 2 vs. RedsMore info: #20
X-ALT-DESC;FMTTYPE=text/html:<!DOCTYPE HTML PUBLIC "-//W3C//DTD HTML 3.2//E
	N">\n<HTML>\n<HEAD>\n<TITLE></TITLE>\n</HEAD>\n<BODY>\n<h3>Individuals 2 vs
	. Reds</h3>More info: <a href="https://www.golnetwork.com/game/v/121386/">#
	20</a>\n\n</BODY>\n</HTML>
STATUS:CONFIRMED
CLASS:PUBLIC
URL:https://www.golnetwork.com/game/v/121386/
X-MICROSOFT-CDO-BUSYSTATUS:BUSY
X-MICROSOFT-CDO-IMPORTANCE:1
END:VEVENT
END:VCALENDAR
