BEGIN:VCALENDAR
PRODID:-//gdesolutions.com//MV Framework 1.0.0.1607 Calendar//EN
VERSION:2.0
METHOD:PUBLISH
CALSCALE:GREGORIAN
BEGIN:VEVENT
UID:gc1q3@games.golnetwork.com
LOCATION:Anexxe Trilles des Bois
GEO:45.4395952;-75.6706817
CREATED:20171211T221624Z
DTSTART:20171214T003000Z
DTEND:20171214T012000Z
DTSTAMP:20260423T192557Z
SUMMARY:Individuals 1 vs. Zero Pucks Given
DESCRIPTION:Zero Pucks Given vs. Individuals 1More info: #1
X-ALT-DESC;FMTTYPE=text/html:<!DOCTYPE HTML PUBLIC "-//W3C//DTD HTML 3.2//E
	N">\n<HTML>\n<HEAD>\n<TITLE></TITLE>\n</HEAD>\n<BODY>\n<h3>Zero Pucks Given
	 vs. Individuals 1</h3>More info: <a href="https://www.golnetwork.com/game/
	v/117816/">#1</a>\n\n</BODY>\n</HTML>
STATUS:CONFIRMED
CLASS:PUBLIC
URL:https://www.golnetwork.com/game/v/117816/
X-MICROSOFT-CDO-BUSYSTATUS:BUSY
X-MICROSOFT-CDO-IMPORTANCE:1
END:VEVENT
BEGIN:VEVENT
UID:gc1q5@games.golnetwork.com
LOCATION:Anexxe Trilles des Bois
GEO:45.4395952;-75.6706817
CREATED:20171211T221633Z
DTSTART:20171214T013000Z
DTEND:20171214T022000Z
DTSTAMP:20260423T192557Z
SUMMARY:Individuals 2 vs. Zero Pucks Given
DESCRIPTION:Zero Pucks Given vs. Individuals 2More info: #2
X-ALT-DESC;FMTTYPE=text/html:<!DOCTYPE HTML PUBLIC "-//W3C//DTD HTML 3.2//E
	N">\n<HTML>\n<HEAD>\n<TITLE></TITLE>\n</HEAD>\n<BODY>\n<h3>Zero Pucks Given
	 vs. Individuals 2</h3>More info: <a href="https://www.golnetwork.com/game/
	v/117817/">#2</a>\n\n</BODY>\n</HTML>
STATUS:CONFIRMED
CLASS:PUBLIC
URL:https://www.golnetwork.com/game/v/117817/
X-MICROSOFT-CDO-BUSYSTATUS:BUSY
X-MICROSOFT-CDO-IMPORTANCE:1
END:VEVENT
BEGIN:VEVENT
UID:gc2m2@games.golnetwork.com
LOCATION:Anexxe Trilles des Bois
GEO:45.4395952;-75.6706817
CREATED:20180103T035801Z
DTSTART:20180111T003000Z
DTEND:20180111T012000Z
DTSTAMP:20260423T192557Z
SUMMARY:Zero Pucks Given vs. Reds
DESCRIPTION:Reds vs. Zero Pucks GivenMore info: #1
X-ALT-DESC;FMTTYPE=text/html:<!DOCTYPE HTML PUBLIC "-//W3C//DTD HTML 3.2//E
	N">\n<HTML>\n<HEAD>\n<TITLE></TITLE>\n</HEAD>\n<BODY>\n<h3>Reds vs. Zero Pu
	cks Given</h3>More info: <a href="https://www.golnetwork.com/game/v/118126/
	">#1</a>\n\n</BODY>\n</HTML>
STATUS:CONFIRMED
CLASS:PUBLIC
URL:https://www.golnetwork.com/game/v/118126/
X-MICROSOFT-CDO-BUSYSTATUS:BUSY
X-MICROSOFT-CDO-IMPORTANCE:1
END:VEVENT
BEGIN:VEVENT
UID:gc2m4@games.golnetwork.com
LOCATION:Anexxe Trilles des Bois
GEO:45.4395952;-75.6706817
CREATED:20180103T035801Z
DTSTART:20180111T013000Z
DTEND:20180111T022000Z
DTSTAMP:20260423T192557Z
SUMMARY:Individuals 2 vs. Individuals 1
DESCRIPTION:Individuals 1 vs. Individuals 2More info: #2
X-ALT-DESC;FMTTYPE=text/html:<!DOCTYPE HTML PUBLIC "-//W3C//DTD HTML 3.2//E
	N">\n<HTML>\n<HEAD>\n<TITLE></TITLE>\n</HEAD>\n<BODY>\n<h3>Individuals 1 vs
	. Individuals 2</h3>More info: <a href="https://www.golnetwork.com/game/v/1
	18127/">#2</a>\n\n</BODY>\n</HTML>
STATUS:CONFIRMED
CLASS:PUBLIC
URL:https://www.golnetwork.com/game/v/118127/
X-MICROSOFT-CDO-BUSYSTATUS:BUSY
X-MICROSOFT-CDO-IMPORTANCE:1
END:VEVENT
BEGIN:VEVENT
UID:gc2m6@games.golnetwork.com
LOCATION:Anexxe Trilles des Bois
GEO:45.4395952;-75.6706817
CREATED:20180103T035801Z
DTSTART:20180118T003000Z
DTEND:20180118T012000Z
DTSTAMP:20260423T192557Z
SUMMARY:Individuals 2 vs. Reds
DESCRIPTION:Reds vs. Individuals 2More info: #3
X-ALT-DESC;FMTTYPE=text/html:<!DOCTYPE HTML PUBLIC "-//W3C//DTD HTML 3.2//E
	N">\n<HTML>\n<HEAD>\n<TITLE></TITLE>\n</HEAD>\n<BODY>\n<h3>Reds vs. Individ
	uals 2</h3>More info: <a href="https://www.golnetwork.com/game/v/118128/">#
	3</a>\n\n</BODY>\n</HTML>
STATUS:CONFIRMED
CLASS:PUBLIC
URL:https://www.golnetwork.com/game/v/118128/
X-MICROSOFT-CDO-BUSYSTATUS:BUSY
X-MICROSOFT-CDO-IMPORTANCE:1
END:VEVENT
BEGIN:VEVENT
UID:gc2m8@games.golnetwork.com
LOCATION:Anexxe Trilles des Bois
GEO:45.4395952;-75.6706817
CREATED:20180103T035801Z
DTSTART:20180118T013000Z
DTEND:20180118T022000Z
DTSTAMP:20260423T192557Z
SUMMARY:Individuals 1 vs. Zero Pucks Given
DESCRIPTION:Zero Pucks Given vs. Individuals 1More info: #4
X-ALT-DESC;FMTTYPE=text/html:<!DOCTYPE HTML PUBLIC "-//W3C//DTD HTML 3.2//E
	N">\n<HTML>\n<HEAD>\n<TITLE></TITLE>\n</HEAD>\n<BODY>\n<h3>Zero Pucks Given
	 vs. Individuals 1</h3>More info: <a href="https://www.golnetwork.com/game/
	v/118129/">#4</a>\n\n</BODY>\n</HTML>
STATUS:CONFIRMED
CLASS:PUBLIC
URL:https://www.golnetwork.com/game/v/118129/
X-MICROSOFT-CDO-BUSYSTATUS:BUSY
X-MICROSOFT-CDO-IMPORTANCE:1
END:VEVENT
BEGIN:VEVENT
UID:gc2ma@games.golnetwork.com
LOCATION:Anexxe Trilles des Bois
GEO:45.4395952;-75.6706817
CREATED:20180103T035801Z
DTSTART:20180125T003000Z
DTEND:20180125T012000Z
DTSTAMP:20260423T192557Z
SUMMARY:Individuals 2 vs. Zero Pucks Given
DESCRIPTION:Zero Pucks Given vs. Individuals 2More info: #5
X-ALT-DESC;FMTTYPE=text/html:<!DOCTYPE HTML PUBLIC "-//W3C//DTD HTML 3.2//E
	N">\n<HTML>\n<HEAD>\n<TITLE></TITLE>\n</HEAD>\n<BODY>\n<h3>Zero Pucks Given
	 vs. Individuals 2</h3>More info: <a href="https://www.golnetwork.com/game/
	v/118130/">#5</a>\n\n</BODY>\n</HTML>
STATUS:CONFIRMED
CLASS:PUBLIC
URL:https://www.golnetwork.com/game/v/118130/
X-MICROSOFT-CDO-BUSYSTATUS:BUSY
X-MICROSOFT-CDO-IMPORTANCE:1
END:VEVENT
BEGIN:VEVENT
UID:gc2mc@games.golnetwork.com
LOCATION:Anexxe Trilles des Bois
GEO:45.4395952;-75.6706817
CREATED:20180103T035801Z
DTSTART:20180125T013000Z
DTEND:20180125T022000Z
DTSTAMP:20260423T192557Z
SUMMARY:Individuals 1 vs. Reds
DESCRIPTION:Reds vs. Individuals 1More info: #6
X-ALT-DESC;FMTTYPE=text/html:<!DOCTYPE HTML PUBLIC "-//W3C//DTD HTML 3.2//E
	N">\n<HTML>\n<HEAD>\n<TITLE></TITLE>\n</HEAD>\n<BODY>\n<h3>Reds vs. Individ
	uals 1</h3>More info: <a href="https://www.golnetwork.com/game/v/118131/">#
	6</a>\n\n</BODY>\n</HTML>
STATUS:CONFIRMED
CLASS:PUBLIC
URL:https://www.golnetwork.com/game/v/118131/
X-MICROSOFT-CDO-BUSYSTATUS:BUSY
X-MICROSOFT-CDO-IMPORTANCE:1
END:VEVENT
BEGIN:VEVENT
UID:gc2me@games.golnetwork.com
LOCATION:Anexxe Trilles des Bois
GEO:45.4395952;-75.6706817
CREATED:20180103T035801Z
DTSTART:20180201T003000Z
DTEND:20180201T012000Z
DTSTAMP:20260423T192557Z
SUMMARY:Individuals 2 vs. Individuals 1
DESCRIPTION:Individuals 1 vs. Individuals 2More info: #7
X-ALT-DESC;FMTTYPE=text/html:<!DOCTYPE HTML PUBLIC "-//W3C//DTD HTML 3.2//E
	N">\n<HTML>\n<HEAD>\n<TITLE></TITLE>\n</HEAD>\n<BODY>\n<h3>Individuals 1 vs
	. Individuals 2</h3>More info: <a href="https://www.golnetwork.com/game/v/1
	18132/">#7</a>\n\n</BODY>\n</HTML>
STATUS:CONFIRMED
CLASS:PUBLIC
URL:https://www.golnetwork.com/game/v/118132/
X-MICROSOFT-CDO-BUSYSTATUS:BUSY
X-MICROSOFT-CDO-IMPORTANCE:1
END:VEVENT
BEGIN:VEVENT
UID:gc2mg@games.golnetwork.com
LOCATION:Anexxe Trilles des Bois
GEO:45.4395952;-75.6706817
CREATED:20180103T035801Z
DTSTART:20180201T013000Z
DTEND:20180201T022000Z
DTSTAMP:20260423T192557Z
SUMMARY:Zero Pucks Given vs. Reds
DESCRIPTION:Reds vs. Zero Pucks GivenMore info: #8
X-ALT-DESC;FMTTYPE=text/html:<!DOCTYPE HTML PUBLIC "-//W3C//DTD HTML 3.2//E
	N">\n<HTML>\n<HEAD>\n<TITLE></TITLE>\n</HEAD>\n<BODY>\n<h3>Reds vs. Zero Pu
	cks Given</h3>More info: <a href="https://www.golnetwork.com/game/v/118133/
	">#8</a>\n\n</BODY>\n</HTML>
STATUS:CONFIRMED
CLASS:PUBLIC
URL:https://www.golnetwork.com/game/v/118133/
X-MICROSOFT-CDO-BUSYSTATUS:BUSY
X-MICROSOFT-CDO-IMPORTANCE:1
END:VEVENT
BEGIN:VEVENT
UID:gc2mi@games.golnetwork.com
LOCATION:Anexxe Trilles des Bois
GEO:45.4395952;-75.6706817
CREATED:20180103T035801Z
DTSTART:20180208T003000Z
DTEND:20180208T012000Z
DTSTAMP:20260423T192557Z
SUMMARY:Individuals 2 vs. Reds
DESCRIPTION:Reds vs. Individuals 2More info: #9
X-ALT-DESC;FMTTYPE=text/html:<!DOCTYPE HTML PUBLIC "-//W3C//DTD HTML 3.2//E
	N">\n<HTML>\n<HEAD>\n<TITLE></TITLE>\n</HEAD>\n<BODY>\n<h3>Reds vs. Individ
	uals 2</h3>More info: <a href="https://www.golnetwork.com/game/v/118134/">#
	9</a>\n\n</BODY>\n</HTML>
STATUS:CONFIRMED
CLASS:PUBLIC
URL:https://www.golnetwork.com/game/v/118134/
X-MICROSOFT-CDO-BUSYSTATUS:BUSY
X-MICROSOFT-CDO-IMPORTANCE:1
END:VEVENT
BEGIN:VEVENT
UID:gc2mk@games.golnetwork.com
LOCATION:Anexxe Trilles des Bois
GEO:45.4395952;-75.6706817
CREATED:20180103T035801Z
DTSTART:20180208T013000Z
DTEND:20180208T022000Z
DTSTAMP:20260423T192557Z
SUMMARY:Individuals 1 vs. Zero Pucks Given
DESCRIPTION:Zero Pucks Given vs. Individuals 1More info: #10
X-ALT-DESC;FMTTYPE=text/html:<!DOCTYPE HTML PUBLIC "-//W3C//DTD HTML 3.2//E
	N">\n<HTML>\n<HEAD>\n<TITLE></TITLE>\n</HEAD>\n<BODY>\n<h3>Zero Pucks Given
	 vs. Individuals 1</h3>More info: <a href="https://www.golnetwork.com/game/
	v/118135/">#10</a>\n\n</BODY>\n</HTML>
STATUS:CONFIRMED
CLASS:PUBLIC
URL:https://www.golnetwork.com/game/v/118135/
X-MICROSOFT-CDO-BUSYSTATUS:BUSY
X-MICROSOFT-CDO-IMPORTANCE:1
END:VEVENT
BEGIN:VEVENT
UID:gc2mm@games.golnetwork.com
LOCATION:Anexxe Trilles des Bois
GEO:45.4395952;-75.6706817
CREATED:20180103T035801Z
DTSTART:20180215T003000Z
DTEND:20180215T012000Z
DTSTAMP:20260423T192557Z
SUMMARY:Individuals 2 vs. Zero Pucks Given
DESCRIPTION:Zero Pucks Given vs. Individuals 2More info: #11
X-ALT-DESC;FMTTYPE=text/html:<!DOCTYPE HTML PUBLIC "-//W3C//DTD HTML 3.2//E
	N">\n<HTML>\n<HEAD>\n<TITLE></TITLE>\n</HEAD>\n<BODY>\n<h3>Zero Pucks Given
	 vs. Individuals 2</h3>More info: <a href="https://www.golnetwork.com/game/
	v/118136/">#11</a>\n\n</BODY>\n</HTML>
STATUS:CONFIRMED
CLASS:PUBLIC
URL:https://www.golnetwork.com/game/v/118136/
X-MICROSOFT-CDO-BUSYSTATUS:BUSY
X-MICROSOFT-CDO-IMPORTANCE:1
END:VEVENT
BEGIN:VEVENT
UID:gc2mo@games.golnetwork.com
LOCATION:Anexxe Trilles des Bois
GEO:45.4395952;-75.6706817
CREATED:20180103T035801Z
DTSTART:20180215T013000Z
DTEND:20180215T022000Z
DTSTAMP:20260423T192557Z
SUMMARY:Individuals 1 vs. Reds
DESCRIPTION:Reds vs. Individuals 1More info: #12
X-ALT-DESC;FMTTYPE=text/html:<!DOCTYPE HTML PUBLIC "-//W3C//DTD HTML 3.2//E
	N">\n<HTML>\n<HEAD>\n<TITLE></TITLE>\n</HEAD>\n<BODY>\n<h3>Reds vs. Individ
	uals 1</h3>More info: <a href="https://www.golnetwork.com/game/v/118137/">#
	12</a>\n\n</BODY>\n</HTML>
STATUS:CONFIRMED
CLASS:PUBLIC
URL:https://www.golnetwork.com/game/v/118137/
X-MICROSOFT-CDO-BUSYSTATUS:BUSY
X-MICROSOFT-CDO-IMPORTANCE:1
END:VEVENT
BEGIN:VEVENT
UID:gc2mq@games.golnetwork.com
LOCATION:Anexxe Trilles des Bois
GEO:45.4395952;-75.6706817
CREATED:20180103T035801Z
DTSTART:20180222T003000Z
DTEND:20180222T012000Z
DTSTAMP:20260423T192557Z
SUMMARY:Individuals 2 vs. Zero Pucks Given
DESCRIPTION:Zero Pucks Given vs. Individuals 2More info: #13
X-ALT-DESC;FMTTYPE=text/html:<!DOCTYPE HTML PUBLIC "-//W3C//DTD HTML 3.2//E
	N">\n<HTML>\n<HEAD>\n<TITLE></TITLE>\n</HEAD>\n<BODY>\n<h3>Zero Pucks Given
	 vs. Individuals 2</h3>More info: <a href="https://www.golnetwork.com/game/
	v/118138/">#13</a>\n\n</BODY>\n</HTML>
STATUS:CONFIRMED
CLASS:PUBLIC
URL:https://www.golnetwork.com/game/v/118138/
X-MICROSOFT-CDO-BUSYSTATUS:BUSY
X-MICROSOFT-CDO-IMPORTANCE:1
END:VEVENT
BEGIN:VEVENT
UID:gc2n1@games.golnetwork.com
LOCATION:Anexxe Trilles des Bois
GEO:45.4395952;-75.6706817
CREATED:20180103T035801Z
DTSTART:20180222T013000Z
DTEND:20180222T022000Z
DTSTAMP:20260423T192557Z
SUMMARY:Individuals 1 vs. Reds
DESCRIPTION:Reds vs. Individuals 1More info: #14
X-ALT-DESC;FMTTYPE=text/html:<!DOCTYPE HTML PUBLIC "-//W3C//DTD HTML 3.2//E
	N">\n<HTML>\n<HEAD>\n<TITLE></TITLE>\n</HEAD>\n<BODY>\n<h3>Reds vs. Individ
	uals 1</h3>More info: <a href="https://www.golnetwork.com/game/v/118139/">#
	14</a>\n\n</BODY>\n</HTML>
STATUS:CONFIRMED
CLASS:PUBLIC
URL:https://www.golnetwork.com/game/v/118139/
X-MICROSOFT-CDO-BUSYSTATUS:BUSY
X-MICROSOFT-CDO-IMPORTANCE:1
END:VEVENT
END:VCALENDAR
