BEGIN:VCALENDAR
PRODID:-//gdesolutions.com//MV Framework 1.0.0.1607 Calendar//EN
VERSION:2.0
METHOD:PUBLISH
CALSCALE:GREGORIAN
BEGIN:VEVENT
UID:gcchj@games.golnetwork.com
LOCATION:Central Tech - Field 2
GEO:43.6637272;-79.4087613
CREATED:20180320T152416Z
DTSTART:20180521T233000Z
DTEND:20180522T003000Z
DTSTAMP:20260423T025650Z
SUMMARY:Mortchester City vs. Let's Get Schwifty
DESCRIPTION:Let's Get Schwifty vs. Mortchester CityMore info: #444
X-ALT-DESC;FMTTYPE=text/html:<!DOCTYPE HTML PUBLIC "-//W3C//DTD HTML 3.2//E
	N">\n<HTML>\n<HEAD>\n<TITLE></TITLE>\n</HEAD>\n<BODY>\n<h3>Let's Get Schwif
	ty vs. Mortchester City</h3>More info: <a href="https://www.golnetwork.com/
	game/v/121712/">#444</a>\n\n</BODY>\n</HTML>
STATUS:CONFIRMED
CLASS:PUBLIC
URL:https://www.golnetwork.com/game/v/121712/
X-MICROSOFT-CDO-BUSYSTATUS:BUSY
X-MICROSOFT-CDO-IMPORTANCE:1
END:VEVENT
BEGIN:VEVENT
UID:gcchl@games.golnetwork.com
LOCATION:Central Tech - Field 2
GEO:43.6637272;-79.4087613
CREATED:20180320T152416Z
DTSTART:20180522T003000Z
DTEND:20180522T013000Z
DTSTAMP:20260423T025650Z
SUMMARY:Rooney Tunes vs. Lawnboy & Bucket
DESCRIPTION:Lawnboy & Bucket vs. Rooney TunesMore info: #446
X-ALT-DESC;FMTTYPE=text/html:<!DOCTYPE HTML PUBLIC "-//W3C//DTD HTML 3.2//E
	N">\n<HTML>\n<HEAD>\n<TITLE></TITLE>\n</HEAD>\n<BODY>\n<h3>Lawnboy & Bucket
	 vs. Rooney Tunes</h3>More info: <a href="https://www.golnetwork.com/game/v
	/121713/">#446</a>\n\n</BODY>\n</HTML>
STATUS:CONFIRMED
CLASS:PUBLIC
URL:https://www.golnetwork.com/game/v/121713/
X-MICROSOFT-CDO-BUSYSTATUS:BUSY
X-MICROSOFT-CDO-IMPORTANCE:1
END:VEVENT
BEGIN:VEVENT
UID:gcchn@games.golnetwork.com
LOCATION:Central Tech - Field 2
GEO:43.6637272;-79.4087613
CREATED:20180320T152416Z
DTSTART:20180529T003000Z
DTEND:20180529T013000Z
DTSTAMP:20260423T025650Z
SUMMARY:Lawnboy & Bucket vs. Let's Get Schwifty
DESCRIPTION:Let's Get Schwifty vs. Lawnboy & BucketMore info: #453
X-ALT-DESC;FMTTYPE=text/html:<!DOCTYPE HTML PUBLIC "-//W3C//DTD HTML 3.2//E
	N">\n<HTML>\n<HEAD>\n<TITLE></TITLE>\n</HEAD>\n<BODY>\n<h3>Let's Get Schwif
	ty vs. Lawnboy & Bucket</h3>More info: <a href="https://www.golnetwork.com/
	game/v/121714/">#453</a>\n\n</BODY>\n</HTML>
STATUS:CONFIRMED
CLASS:PUBLIC
URL:https://www.golnetwork.com/game/v/121714/
X-MICROSOFT-CDO-BUSYSTATUS:BUSY
X-MICROSOFT-CDO-IMPORTANCE:1
END:VEVENT
END:VCALENDAR
