BEGIN:VCALENDAR
PRODID:-//gdesolutions.com//MV Framework 1.0.0.1607 Calendar//EN
VERSION:2.0
METHOD:PUBLISH
CALSCALE:GREGORIAN
BEGIN:VEVENT
UID:gcq9p@games.golnetwork.com
LOCATION:Central Tech - Field 1
GEO:43.6637272;-79.4087613
CREATED:20180724T153316Z
DTSTART:20180904T000000Z
DTEND:20180904T010000Z
DTSTAMP:20260422T075712Z
SUMMARY:FIFA '98 for Sega Dreamcast vs. Gravy Train
DESCRIPTION:Gravy Train vs. FIFA '98 for Sega DreamcastMore info: #578
X-ALT-DESC;FMTTYPE=text/html:<!DOCTYPE HTML PUBLIC "-//W3C//DTD HTML 3.2//E
	N">\n<HTML>\n<HEAD>\n<TITLE></TITLE>\n</HEAD>\n<BODY>\n<h3>Gravy Train vs. 
	FIFA '98 for Sega Dreamcast</h3>More info: <a href="https://www.golnetwork.
	com/game/v/126710/">#578</a>\n\n</BODY>\n</HTML>
STATUS:CONFIRMED
CLASS:PUBLIC
URL:https://www.golnetwork.com/game/v/126710/
X-MICROSOFT-CDO-BUSYSTATUS:BUSY
X-MICROSOFT-CDO-IMPORTANCE:1
END:VEVENT
BEGIN:VEVENT
UID:gcqa0@games.golnetwork.com
LOCATION:Central Tech - Field 1
GEO:43.6637272;-79.4087613
CREATED:20180724T153316Z
DTSTART:20180904T010000Z
DTEND:20180904T020000Z
DTSTAMP:20260422T075712Z
SUMMARY:The Misfits vs. Medcan FC
DESCRIPTION:Medcan FC vs. The MisfitsMore info: #581
X-ALT-DESC;FMTTYPE=text/html:<!DOCTYPE HTML PUBLIC "-//W3C//DTD HTML 3.2//E
	N">\n<HTML>\n<HEAD>\n<TITLE></TITLE>\n</HEAD>\n<BODY>\n<h3>Medcan FC vs. Th
	e Misfits</h3>More info: <a href="https://www.golnetwork.com/game/v/126711/
	">#581</a>\n\n</BODY>\n</HTML>
STATUS:CONFIRMED
CLASS:PUBLIC
URL:https://www.golnetwork.com/game/v/126711/
X-MICROSOFT-CDO-BUSYSTATUS:BUSY
X-MICROSOFT-CDO-IMPORTANCE:1
END:VEVENT
BEGIN:VEVENT
UID:gcqa2@games.golnetwork.com
LOCATION:Central Tech - Field 3
CREATED:20180724T153316Z
DTSTART:20180904T010000Z
DTEND:20180904T020000Z
DTSTAMP:20260422T075712Z
SUMMARY:Let's Just Have Some Fun vs. Fuego FC
DESCRIPTION:Fuego FC vs. Let's Just Have Some FunMore info: #582
X-ALT-DESC;FMTTYPE=text/html:<!DOCTYPE HTML PUBLIC "-//W3C//DTD HTML 3.2//E
	N">\n<HTML>\n<HEAD>\n<TITLE></TITLE>\n</HEAD>\n<BODY>\n<h3>Fuego FC vs. Let
	's Just Have Some Fun</h3>More info: <a href="https://www.golnetwork.com/ga
	me/v/126712/">#582</a>\n\n</BODY>\n</HTML>
STATUS:CONFIRMED
CLASS:PUBLIC
URL:https://www.golnetwork.com/game/v/126712/
X-MICROSOFT-CDO-BUSYSTATUS:BUSY
X-MICROSOFT-CDO-IMPORTANCE:1
END:VEVENT
BEGIN:VEVENT
UID:gcqa4@games.golnetwork.com
LOCATION:Central Tech - Field 2
GEO:43.6637272;-79.4087613
CREATED:20180724T153316Z
DTSTART:20180904T011000Z
DTEND:20180904T021000Z
DTSTAMP:20260422T075712Z
SUMMARY:Eat Cleat vs. The Apes
DESCRIPTION:The Apes vs. Eat CleatMore info: #584
X-ALT-DESC;FMTTYPE=text/html:<!DOCTYPE HTML PUBLIC "-//W3C//DTD HTML 3.2//E
	N">\n<HTML>\n<HEAD>\n<TITLE></TITLE>\n</HEAD>\n<BODY>\n<h3>The Apes vs. Eat
	 Cleat</h3>More info: <a href="https://www.golnetwork.com/game/v/126713/">#
	584</a>\n\n</BODY>\n</HTML>
STATUS:CONFIRMED
CLASS:PUBLIC
URL:https://www.golnetwork.com/game/v/126713/
X-MICROSOFT-CDO-BUSYSTATUS:BUSY
X-MICROSOFT-CDO-IMPORTANCE:1
END:VEVENT
BEGIN:VEVENT
UID:gcqa6@games.golnetwork.com
LOCATION:Central Tech - Field 1
GEO:43.6637272;-79.4087613
CREATED:20180724T153316Z
DTSTART:20180911T000000Z
DTEND:20180911T010000Z
DTSTAMP:20260422T075712Z
SUMMARY:Eat Cleat vs. Gravy Train
DESCRIPTION:Gravy Train vs. Eat CleatMore info: #639
X-ALT-DESC;FMTTYPE=text/html:<!DOCTYPE HTML PUBLIC "-//W3C//DTD HTML 3.2//E
	N">\n<HTML>\n<HEAD>\n<TITLE></TITLE>\n</HEAD>\n<BODY>\n<h3>Gravy Train vs. 
	Eat Cleat</h3>More info: <a href="https://www.golnetwork.com/game/v/126714/
	">#639</a>\n\n</BODY>\n</HTML>
STATUS:CONFIRMED
CLASS:PUBLIC
URL:https://www.golnetwork.com/game/v/126714/
X-MICROSOFT-CDO-BUSYSTATUS:BUSY
X-MICROSOFT-CDO-IMPORTANCE:1
END:VEVENT
BEGIN:VEVENT
UID:gcqa8@games.golnetwork.com
LOCATION:Central Tech - Field 3
CREATED:20180724T153316Z
DTSTART:20180911T010000Z
DTEND:20180911T020000Z
DTSTAMP:20260422T075712Z
SUMMARY:Medcan FC vs. Let's Just Have Some Fun
DESCRIPTION:Let's Just Have Some Fun vs. Medcan FCMore info: #644
X-ALT-DESC;FMTTYPE=text/html:<!DOCTYPE HTML PUBLIC "-//W3C//DTD HTML 3.2//E
	N">\n<HTML>\n<HEAD>\n<TITLE></TITLE>\n</HEAD>\n<BODY>\n<h3>Let's Just Have 
	Some Fun vs. Medcan FC</h3>More info: <a href="https://www.golnetwork.com/g
	ame/v/126715/">#644</a>\n\n</BODY>\n</HTML>
STATUS:CONFIRMED
CLASS:PUBLIC
URL:https://www.golnetwork.com/game/v/126715/
X-MICROSOFT-CDO-BUSYSTATUS:BUSY
X-MICROSOFT-CDO-IMPORTANCE:1
END:VEVENT
BEGIN:VEVENT
UID:gcqaa@games.golnetwork.com
LOCATION:Central Tech - Field 1
GEO:43.6637272;-79.4087613
CREATED:20180724T153316Z
DTSTART:20180918T010000Z
DTEND:20180918T020000Z
DTSTAMP:20260422T075712Z
SUMMARY:Medcan FC vs. Gravy Train
DESCRIPTION:Gravy Train vs. Medcan FCMore info: #704
X-ALT-DESC;FMTTYPE=text/html:<!DOCTYPE HTML PUBLIC "-//W3C//DTD HTML 3.2//E
	N">\n<HTML>\n<HEAD>\n<TITLE></TITLE>\n</HEAD>\n<BODY>\n<h3>Gravy Train vs. 
	Medcan FC</h3>More info: <a href="https://www.golnetwork.com/game/v/126716/
	">#704</a>\n\n</BODY>\n</HTML>
STATUS:CONFIRMED
CLASS:PUBLIC
URL:https://www.golnetwork.com/game/v/126716/
X-MICROSOFT-CDO-BUSYSTATUS:BUSY
X-MICROSOFT-CDO-IMPORTANCE:1
END:VEVENT
END:VCALENDAR
