BEGIN:VCALENDAR
PRODID:-//gdesolutions.com//MV Framework 1.0.0.1607 Calendar//EN
VERSION:2.0
METHOD:PUBLISH
CALSCALE:GREGORIAN
BEGIN:VEVENT
UID:gcqpp@games.golnetwork.com
LOCATION:Central Tech - Field 2
GEO:43.6637272;-79.4087613
CREATED:20180726T004951Z
DTSTART:20180923T230000Z
DTEND:20180924T000000Z
DTSTAMP:20260420T004545Z
SUMMARY:Honeybees vs. Chamillionares
DESCRIPTION:Chamillionares vs. HoneybeesMore info: #735
X-ALT-DESC;FMTTYPE=text/html:<!DOCTYPE HTML PUBLIC "-//W3C//DTD HTML 3.2//E
	N">\n<HTML>\n<HEAD>\n<TITLE></TITLE>\n</HEAD>\n<BODY>\n<h3>Chamillionares v
	s. Honeybees</h3>More info: <a href="https://www.golnetwork.com/game/v/1269
	26/">#735</a>\n\n</BODY>\n</HTML>
STATUS:CONFIRMED
CLASS:PUBLIC
URL:https://www.golnetwork.com/game/v/126926/
X-MICROSOFT-CDO-BUSYSTATUS:BUSY
X-MICROSOFT-CDO-IMPORTANCE:1
END:VEVENT
BEGIN:VEVENT
UID:gcqq0@games.golnetwork.com
LOCATION:Central Tech - Field 2
GEO:43.6637272;-79.4087613
CREATED:20180726T004951Z
DTSTART:20180924T000000Z
DTEND:20180924T010000Z
DTSTAMP:20260420T004545Z
SUMMARY:XTSC Sunday Funday vs. The Ball Kickers
DESCRIPTION:The Ball Kickers vs. XTSC Sunday FundayMore info: #737
X-ALT-DESC;FMTTYPE=text/html:<!DOCTYPE HTML PUBLIC "-//W3C//DTD HTML 3.2//E
	N">\n<HTML>\n<HEAD>\n<TITLE></TITLE>\n</HEAD>\n<BODY>\n<h3>The Ball Kickers
	 vs. XTSC Sunday Funday</h3>More info: <a href="https://www.golnetwork.com/
	game/v/126927/">#737</a>\n\n</BODY>\n</HTML>
STATUS:CONFIRMED
CLASS:PUBLIC
URL:https://www.golnetwork.com/game/v/126927/
X-MICROSOFT-CDO-BUSYSTATUS:BUSY
X-MICROSOFT-CDO-IMPORTANCE:1
END:VEVENT
BEGIN:VEVENT
UID:gcqq2@games.golnetwork.com
LOCATION:Central Tech - Field 2
GEO:43.6637272;-79.4087613
CREATED:20180726T004951Z
DTSTART:20181001T000000Z
DTEND:20181001T010000Z
DTSTAMP:20260420T004545Z
SUMMARY:XTSC Sunday Funday vs. Chamillionares
DESCRIPTION:Chamillionares vs. XTSC Sunday FundayMore info: #769
X-ALT-DESC;FMTTYPE=text/html:<!DOCTYPE HTML PUBLIC "-//W3C//DTD HTML 3.2//E
	N">\n<HTML>\n<HEAD>\n<TITLE></TITLE>\n</HEAD>\n<BODY>\n<h3>Chamillionares v
	s. XTSC Sunday Funday</h3>More info: <a href="https://www.golnetwork.com/ga
	me/v/126928/">#769</a>\n\n</BODY>\n</HTML>
STATUS:CONFIRMED
CLASS:PUBLIC
URL:https://www.golnetwork.com/game/v/126928/
X-MICROSOFT-CDO-BUSYSTATUS:BUSY
X-MICROSOFT-CDO-IMPORTANCE:1
END:VEVENT
END:VCALENDAR
