BEGIN:VCALENDAR
PRODID:-//gdesolutions.com//MV Framework 1.0.0.1607 Calendar//EN
VERSION:2.0
METHOD:PUBLISH
CALSCALE:GREGORIAN
BEGIN:VEVENT
UID:gcpdk@games.golnetwork.com
LOCATION:Central Tech - Field 4
CREATED:20180713T143810Z
DTSTART:20180904T230000Z
DTEND:20180905T000000Z
DTSTAMP:20260420T012748Z
SUMMARY:All Ballz vs. Cool Running
DESCRIPTION:Cool Running vs. All BallzMore info: #592
X-ALT-DESC;FMTTYPE=text/html:<!DOCTYPE HTML PUBLIC "-//W3C//DTD HTML 3.2//E
	N">\n<HTML>\n<HEAD>\n<TITLE></TITLE>\n</HEAD>\n<BODY>\n<h3>Cool Running vs.
	 All Ballz</h3>More info: <a href="https://www.golnetwork.com/game/v/126397
	/">#592</a>\n\n</BODY>\n</HTML>
STATUS:CONFIRMED
CLASS:PUBLIC
URL:https://www.golnetwork.com/game/v/126397/
X-MICROSOFT-CDO-BUSYSTATUS:BUSY
X-MICROSOFT-CDO-IMPORTANCE:1
END:VEVENT
BEGIN:VEVENT
UID:gcpdm@games.golnetwork.com
LOCATION:Central Tech - Field 4
CREATED:20180713T143810Z
DTSTART:20180905T000000Z
DTEND:20180905T010000Z
DTSTAMP:20260420T012748Z
SUMMARY:Godzilla Goldorak FC vs. Thursday Black Jerseys
DESCRIPTION:Thursday Black Jerseys vs. Godzilla Goldorak FCMore info: #594
X-ALT-DESC;FMTTYPE=text/html:<!DOCTYPE HTML PUBLIC "-//W3C//DTD HTML 3.2//E
	N">\n<HTML>\n<HEAD>\n<TITLE></TITLE>\n</HEAD>\n<BODY>\n<h3>Thursday Black J
	erseys vs. Godzilla Goldorak FC</h3>More info: <a href="https://www.golnetw
	ork.com/game/v/126398/">#594</a>\n\n</BODY>\n</HTML>
STATUS:CONFIRMED
CLASS:PUBLIC
URL:https://www.golnetwork.com/game/v/126398/
X-MICROSOFT-CDO-BUSYSTATUS:BUSY
X-MICROSOFT-CDO-IMPORTANCE:1
END:VEVENT
BEGIN:VEVENT
UID:gcpdo@games.golnetwork.com
LOCATION:Central Tech - Field 3
CREATED:20180713T143810Z
DTSTART:20180912T000000Z
DTEND:20180912T010000Z
DTSTAMP:20260420T012748Z
SUMMARY:Thursday Black Jerseys vs. All Ballz
DESCRIPTION:All Ballz vs. Thursday Black JerseysMore info: #656
X-ALT-DESC;FMTTYPE=text/html:<!DOCTYPE HTML PUBLIC "-//W3C//DTD HTML 3.2//E
	N">\n<HTML>\n<HEAD>\n<TITLE></TITLE>\n</HEAD>\n<BODY>\n<h3>All Ballz vs. Th
	ursday Black Jerseys</h3>More info: <a href="https://www.golnetwork.com/gam
	e/v/126399/">#656</a>\n\n</BODY>\n</HTML>
STATUS:CONFIRMED
CLASS:PUBLIC
URL:https://www.golnetwork.com/game/v/126399/
X-MICROSOFT-CDO-BUSYSTATUS:BUSY
X-MICROSOFT-CDO-IMPORTANCE:1
END:VEVENT
END:VCALENDAR
