BEGIN:VCALENDAR
PRODID:-//gdesolutions.com//MV Framework 1.0.0.1607 Calendar//EN
VERSION:2.0
METHOD:PUBLISH
CALSCALE:GREGORIAN
BEGIN:VEVENT
UID:gd0fi@games.golnetwork.com
LOCATION:Cherry Beach East 3
CREATED:20180803T172005Z
DTSTART:20180810T010000Z
DTEND:20180810T020000Z
DTSTAMP:20260420T222451Z
SUMMARY:T.W.GOAAALL vs. Purpletrators
DESCRIPTION:Purpletrators vs. T.W.GOAAALLMore info: #326
X-ALT-DESC;FMTTYPE=text/html:<!DOCTYPE HTML PUBLIC "-//W3C//DTD HTML 3.2//E
	N">\n<HTML>\n<HEAD>\n<TITLE></TITLE>\n</HEAD>\n<BODY>\n<h3>Purpletrators vs
	. T.W.GOAAALL</h3>More info: <a href="https://www.golnetwork.com/game/v/127
	152/">#326</a>\n\n</BODY>\n</HTML>
STATUS:CONFIRMED
CLASS:PUBLIC
URL:https://www.golnetwork.com/game/v/127152/
X-MICROSOFT-CDO-BUSYSTATUS:BUSY
X-MICROSOFT-CDO-IMPORTANCE:1
END:VEVENT
BEGIN:VEVENT
UID:gd0fm@games.golnetwork.com
LOCATION:Cherry Beach East 2
CREATED:20180803T172032Z
DTSTART:20180810T020000Z
DTEND:20180810T030000Z
DTSTAMP:20260420T222451Z
SUMMARY:The Sweet 16 vs. Fake Madrid
DESCRIPTION:Fake Madrid vs. The Sweet 16More info: #331
X-ALT-DESC;FMTTYPE=text/html:<!DOCTYPE HTML PUBLIC "-//W3C//DTD HTML 3.2//E
	N">\n<HTML>\n<HEAD>\n<TITLE></TITLE>\n</HEAD>\n<BODY>\n<h3>Fake Madrid vs. 
	The Sweet 16</h3>More info: <a href="https://www.golnetwork.com/game/v/1271
	54/">#331</a>\n\n</BODY>\n</HTML>
STATUS:CONFIRMED
CLASS:PUBLIC
URL:https://www.golnetwork.com/game/v/127154/
X-MICROSOFT-CDO-BUSYSTATUS:BUSY
X-MICROSOFT-CDO-IMPORTANCE:1
END:VEVENT
BEGIN:VEVENT
UID:gd0fk@games.golnetwork.com
LOCATION:Cherry Beach East 3
CREATED:20180803T172021Z
DTSTART:20180810T020000Z
DTEND:20180810T030000Z
DTSTAMP:20260420T222451Z
SUMMARY:XTSC Balls Full of Cherries vs. Purpletrators
DESCRIPTION:Purpletrators vs. XTSC Balls Full of CherriesMore info: #332
X-ALT-DESC;FMTTYPE=text/html:<!DOCTYPE HTML PUBLIC "-//W3C//DTD HTML 3.2//E
	N">\n<HTML>\n<HEAD>\n<TITLE></TITLE>\n</HEAD>\n<BODY>\n<h3>Purpletrators vs
	. XTSC Balls Full of Cherries</h3>More info: <a href="https://www.golnetwor
	k.com/game/v/127153/">#332</a>\n\n</BODY>\n</HTML>
STATUS:CONFIRMED
CLASS:PUBLIC
URL:https://www.golnetwork.com/game/v/127153/
X-MICROSOFT-CDO-BUSYSTATUS:BUSY
X-MICROSOFT-CDO-IMPORTANCE:1
END:VEVENT
BEGIN:VEVENT
UID:gd0fo@games.golnetwork.com
LOCATION:Cherry Beach East 3
CREATED:20180803T172106Z
DTSTART:20180810T030000Z
DTEND:20180810T040000Z
DTSTAMP:20260420T222451Z
SUMMARY:Toon Squad vs. Abcde FC
DESCRIPTION:Abcde FC vs. Toon SquadMore info: #337
X-ALT-DESC;FMTTYPE=text/html:<!DOCTYPE HTML PUBLIC "-//W3C//DTD HTML 3.2//E
	N">\n<HTML>\n<HEAD>\n<TITLE></TITLE>\n</HEAD>\n<BODY>\n<h3>Abcde FC vs. Too
	n Squad</h3>More info: <a href="https://www.golnetwork.com/game/v/127155/">
	#337</a>\n\n</BODY>\n</HTML>
STATUS:CONFIRMED
CLASS:PUBLIC
URL:https://www.golnetwork.com/game/v/127155/
X-MICROSOFT-CDO-BUSYSTATUS:BUSY
X-MICROSOFT-CDO-IMPORTANCE:1
END:VEVENT
BEGIN:VEVENT
UID:gd14m@games.golnetwork.com
LOCATION:Cherry Beach East 3
CREATED:20180808T192606Z
DTSTART:20180817T010000Z
DTEND:20180817T020000Z
DTSTAMP:20260420T222451Z
SUMMARY:Abcde FC vs. T.W.GOAAALL
DESCRIPTION:T.W.GOAAALL vs. Abcde FCMore info: #421
X-ALT-DESC;FMTTYPE=text/html:<!DOCTYPE HTML PUBLIC "-//W3C//DTD HTML 3.2//E
	N">\n<HTML>\n<HEAD>\n<TITLE></TITLE>\n</HEAD>\n<BODY>\n<h3>T.W.GOAAALL vs. 
	Abcde FC</h3>More info: <a href="https://www.golnetwork.com/game/v/127370/"
	>#421</a>\n\n</BODY>\n</HTML>
STATUS:CONFIRMED
CLASS:PUBLIC
URL:https://www.golnetwork.com/game/v/127370/
X-MICROSOFT-CDO-BUSYSTATUS:BUSY
X-MICROSOFT-CDO-IMPORTANCE:1
END:VEVENT
BEGIN:VEVENT
UID:gd14o@games.golnetwork.com
LOCATION:Cherry Beach East 2
CREATED:20180808T192615Z
DTSTART:20180817T020000Z
DTEND:20180817T030000Z
DTSTAMP:20260420T222451Z
SUMMARY:Fake Madrid vs. Toon Squad
DESCRIPTION:Toon Squad vs. Fake MadridMore info: #424
X-ALT-DESC;FMTTYPE=text/html:<!DOCTYPE HTML PUBLIC "-//W3C//DTD HTML 3.2//E
	N">\n<HTML>\n<HEAD>\n<TITLE></TITLE>\n</HEAD>\n<BODY>\n<h3>Toon Squad vs. F
	ake Madrid</h3>More info: <a href="https://www.golnetwork.com/game/v/127371
	/">#424</a>\n\n</BODY>\n</HTML>
STATUS:CONFIRMED
CLASS:PUBLIC
URL:https://www.golnetwork.com/game/v/127371/
X-MICROSOFT-CDO-BUSYSTATUS:BUSY
X-MICROSOFT-CDO-IMPORTANCE:1
END:VEVENT
BEGIN:VEVENT
UID:gd14q@games.golnetwork.com
LOCATION:Cherry Beach East 3
CREATED:20180808T192623Z
DTSTART:20180817T020000Z
DTEND:20180817T030000Z
DTSTAMP:20260420T222451Z
SUMMARY:XTSC Balls Full of Cherries vs. T.W.GOAAALL
DESCRIPTION:T.W.GOAAALL vs. XTSC Balls Full of CherriesMore info: #425
X-ALT-DESC;FMTTYPE=text/html:<!DOCTYPE HTML PUBLIC "-//W3C//DTD HTML 3.2//E
	N">\n<HTML>\n<HEAD>\n<TITLE></TITLE>\n</HEAD>\n<BODY>\n<h3>T.W.GOAAALL vs. 
	XTSC Balls Full of Cherries</h3>More info: <a href="https://www.golnetwork.
	com/game/v/127372/">#425</a>\n\n</BODY>\n</HTML>
STATUS:CONFIRMED
CLASS:PUBLIC
URL:https://www.golnetwork.com/game/v/127372/
X-MICROSOFT-CDO-BUSYSTATUS:BUSY
X-MICROSOFT-CDO-IMPORTANCE:1
END:VEVENT
BEGIN:VEVENT
UID:gd151@games.golnetwork.com
LOCATION:Cherry Beach East 3
CREATED:20180808T192632Z
DTSTART:20180817T030000Z
DTEND:20180817T040000Z
DTSTAMP:20260420T222451Z
SUMMARY:Purpletrators vs. The Sweet 16
DESCRIPTION:The Sweet 16 vs. PurpletratorsMore info: #428
X-ALT-DESC;FMTTYPE=text/html:<!DOCTYPE HTML PUBLIC "-//W3C//DTD HTML 3.2//E
	N">\n<HTML>\n<HEAD>\n<TITLE></TITLE>\n</HEAD>\n<BODY>\n<h3>The Sweet 16 vs.
	 Purpletrators</h3>More info: <a href="https://www.golnetwork.com/game/v/12
	7373/">#428</a>\n\n</BODY>\n</HTML>
STATUS:CONFIRMED
CLASS:PUBLIC
URL:https://www.golnetwork.com/game/v/127373/
X-MICROSOFT-CDO-BUSYSTATUS:BUSY
X-MICROSOFT-CDO-IMPORTANCE:1
END:VEVENT
BEGIN:VEVENT
UID:gd153@games.golnetwork.com
LOCATION:Cherry Beach East 2
CREATED:20180808T192648Z
DTSTART:20180824T020000Z
DTEND:20180824T030000Z
DTSTAMP:20260420T222451Z
SUMMARY:Abcde FC vs. XTSC Balls Full of Cherries
DESCRIPTION:XTSC Balls Full of Cherries vs. Abcde FCMore info: #507
X-ALT-DESC;FMTTYPE=text/html:<!DOCTYPE HTML PUBLIC "-//W3C//DTD HTML 3.2//E
	N">\n<HTML>\n<HEAD>\n<TITLE></TITLE>\n</HEAD>\n<BODY>\n<h3>XTSC Balls Full 
	of Cherries vs. Abcde FC</h3>More info: <a href="https://www.golnetwork.com
	/game/v/127374/">#507</a>\n\n</BODY>\n</HTML>
STATUS:CONFIRMED
CLASS:PUBLIC
URL:https://www.golnetwork.com/game/v/127374/
X-MICROSOFT-CDO-BUSYSTATUS:BUSY
X-MICROSOFT-CDO-IMPORTANCE:1
END:VEVENT
BEGIN:VEVENT
UID:gd155@games.golnetwork.com
LOCATION:Cherry Beach East 3
CREATED:20180808T192656Z
DTSTART:20180824T020000Z
DTEND:20180824T030000Z
DTSTAMP:20260420T222451Z
SUMMARY:T.W.GOAAALL vs. The Sweet 16
DESCRIPTION:The Sweet 16 vs. T.W.GOAAALLMore info: #508
X-ALT-DESC;FMTTYPE=text/html:<!DOCTYPE HTML PUBLIC "-//W3C//DTD HTML 3.2//E
	N">\n<HTML>\n<HEAD>\n<TITLE></TITLE>\n</HEAD>\n<BODY>\n<h3>The Sweet 16 vs.
	 T.W.GOAAALL</h3>More info: <a href="https://www.golnetwork.com/game/v/1273
	75/">#508</a>\n\n</BODY>\n</HTML>
STATUS:CONFIRMED
CLASS:PUBLIC
URL:https://www.golnetwork.com/game/v/127375/
X-MICROSOFT-CDO-BUSYSTATUS:BUSY
X-MICROSOFT-CDO-IMPORTANCE:1
END:VEVENT
BEGIN:VEVENT
UID:gd157@games.golnetwork.com
LOCATION:Cherry Beach East 2
CREATED:20180808T192705Z
DTSTART:20180824T030000Z
DTEND:20180824T040000Z
DTSTAMP:20260420T222451Z
SUMMARY:Purpletrators vs. Fake Madrid
DESCRIPTION:Fake Madrid vs. PurpletratorsMore info: #509
X-ALT-DESC;FMTTYPE=text/html:<!DOCTYPE HTML PUBLIC "-//W3C//DTD HTML 3.2//E
	N">\n<HTML>\n<HEAD>\n<TITLE></TITLE>\n</HEAD>\n<BODY>\n<h3>Fake Madrid vs. 
	Purpletrators</h3>More info: <a href="https://www.golnetwork.com/game/v/127
	376/">#509</a>\n\n</BODY>\n</HTML>
STATUS:CONFIRMED
CLASS:PUBLIC
URL:https://www.golnetwork.com/game/v/127376/
X-MICROSOFT-CDO-BUSYSTATUS:BUSY
X-MICROSOFT-CDO-IMPORTANCE:1
END:VEVENT
BEGIN:VEVENT
UID:gd159@games.golnetwork.com
LOCATION:Cherry Beach East 3
CREATED:20180808T192713Z
DTSTART:20180824T030000Z
DTEND:20180824T040000Z
DTSTAMP:20260420T222451Z
SUMMARY:Toon Squad vs. XTSC Balls Full of Cherries
DESCRIPTION:XTSC Balls Full of Cherries vs. Toon SquadMore info: #510
X-ALT-DESC;FMTTYPE=text/html:<!DOCTYPE HTML PUBLIC "-//W3C//DTD HTML 3.2//E
	N">\n<HTML>\n<HEAD>\n<TITLE></TITLE>\n</HEAD>\n<BODY>\n<h3>XTSC Balls Full 
	of Cherries vs. Toon Squad</h3>More info: <a href="https://www.golnetwork.c
	om/game/v/127377/">#510</a>\n\n</BODY>\n</HTML>
STATUS:CONFIRMED
CLASS:PUBLIC
URL:https://www.golnetwork.com/game/v/127377/
X-MICROSOFT-CDO-BUSYSTATUS:BUSY
X-MICROSOFT-CDO-IMPORTANCE:1
END:VEVENT
BEGIN:VEVENT
UID:gd15b@games.golnetwork.com
LOCATION:Cherry Beach East 2
CREATED:20180808T192730Z
DTSTART:20180831T010000Z
DTEND:20180831T020000Z
DTSTAMP:20260420T222451Z
SUMMARY:Fake Madrid vs. Abcde FC
DESCRIPTION:Abcde FC vs. Fake MadridMore info: #568
X-ALT-DESC;FMTTYPE=text/html:<!DOCTYPE HTML PUBLIC "-//W3C//DTD HTML 3.2//E
	N">\n<HTML>\n<HEAD>\n<TITLE></TITLE>\n</HEAD>\n<BODY>\n<h3>Abcde FC vs. Fak
	e Madrid</h3>More info: <a href="https://www.golnetwork.com/game/v/127378/"
	>#568</a>\n\n</BODY>\n</HTML>
STATUS:CONFIRMED
CLASS:PUBLIC
URL:https://www.golnetwork.com/game/v/127378/
X-MICROSOFT-CDO-BUSYSTATUS:BUSY
X-MICROSOFT-CDO-IMPORTANCE:1
END:VEVENT
BEGIN:VEVENT
UID:gd15d@games.golnetwork.com
LOCATION:Cherry Beach East 3
CREATED:20180808T192806Z
DTSTART:20180831T010000Z
DTEND:20180831T020000Z
DTSTAMP:20260420T222451Z
SUMMARY:T.W.GOAAALL vs. Toon Squad
DESCRIPTION:Toon Squad vs. T.W.GOAAALLMore info: #569
X-ALT-DESC;FMTTYPE=text/html:<!DOCTYPE HTML PUBLIC "-//W3C//DTD HTML 3.2//E
	N">\n<HTML>\n<HEAD>\n<TITLE></TITLE>\n</HEAD>\n<BODY>\n<h3>Toon Squad vs. T
	.W.GOAAALL</h3>More info: <a href="https://www.golnetwork.com/game/v/127379
	/">#569</a>\n\n</BODY>\n</HTML>
STATUS:CONFIRMED
CLASS:PUBLIC
URL:https://www.golnetwork.com/game/v/127379/
X-MICROSOFT-CDO-BUSYSTATUS:BUSY
X-MICROSOFT-CDO-IMPORTANCE:1
END:VEVENT
BEGIN:VEVENT
UID:gd15f@games.golnetwork.com
LOCATION:Cherry Beach East 3
CREATED:20180808T192813Z
DTSTART:20180831T020000Z
DTEND:20180831T030000Z
DTSTAMP:20260420T222451Z
SUMMARY:Purpletrators vs. Abcde FC
DESCRIPTION:Abcde FC vs. PurpletratorsMore info: #572
X-ALT-DESC;FMTTYPE=text/html:<!DOCTYPE HTML PUBLIC "-//W3C//DTD HTML 3.2//E
	N">\n<HTML>\n<HEAD>\n<TITLE></TITLE>\n</HEAD>\n<BODY>\n<h3>Abcde FC vs. Pur
	pletrators</h3>More info: <a href="https://www.golnetwork.com/game/v/127380
	/">#572</a>\n\n</BODY>\n</HTML>
STATUS:CONFIRMED
CLASS:PUBLIC
URL:https://www.golnetwork.com/game/v/127380/
X-MICROSOFT-CDO-BUSYSTATUS:BUSY
X-MICROSOFT-CDO-IMPORTANCE:1
END:VEVENT
BEGIN:VEVENT
UID:gd15h@games.golnetwork.com
LOCATION:Cherry Beach East 3
CREATED:20180808T192820Z
DTSTART:20180831T030000Z
DTEND:20180831T040000Z
DTSTAMP:20260420T222451Z
SUMMARY:XTSC Balls Full of Cherries vs. The Sweet 16
DESCRIPTION:The Sweet 16 vs. XTSC Balls Full of CherriesMore info: #573
X-ALT-DESC;FMTTYPE=text/html:<!DOCTYPE HTML PUBLIC "-//W3C//DTD HTML 3.2//E
	N">\n<HTML>\n<HEAD>\n<TITLE></TITLE>\n</HEAD>\n<BODY>\n<h3>The Sweet 16 vs.
	 XTSC Balls Full of Cherries</h3>More info: <a href="https://www.golnetwork
	.com/game/v/127381/">#573</a>\n\n</BODY>\n</HTML>
STATUS:CONFIRMED
CLASS:PUBLIC
URL:https://www.golnetwork.com/game/v/127381/
X-MICROSOFT-CDO-BUSYSTATUS:BUSY
X-MICROSOFT-CDO-IMPORTANCE:1
END:VEVENT
BEGIN:VEVENT
UID:gd15j@games.golnetwork.com
LOCATION:Cherry Beach West 2
CREATED:20180808T192835Z
DTSTART:20180907T010000Z
DTEND:20180907T020000Z
DTSTAMP:20260420T222451Z
SUMMARY:Purpletrators vs. Toon Squad
DESCRIPTION:Toon Squad vs. PurpletratorsMore info: #615
X-ALT-DESC;FMTTYPE=text/html:<!DOCTYPE HTML PUBLIC "-//W3C//DTD HTML 3.2//E
	N">\n<HTML>\n<HEAD>\n<TITLE></TITLE>\n</HEAD>\n<BODY>\n<h3>Toon Squad vs. P
	urpletrators</h3>More info: <a href="https://www.golnetwork.com/game/v/1273
	82/">#615</a>\n\n</BODY>\n</HTML>
STATUS:CONFIRMED
CLASS:PUBLIC
URL:https://www.golnetwork.com/game/v/127382/
X-MICROSOFT-CDO-BUSYSTATUS:BUSY
X-MICROSOFT-CDO-IMPORTANCE:1
END:VEVENT
BEGIN:VEVENT
UID:gd15l@games.golnetwork.com
LOCATION:Cherry Beach West 3
CREATED:20180808T192843Z
DTSTART:20180907T010000Z
DTEND:20180907T020000Z
DTSTAMP:20260420T222451Z
SUMMARY:XTSC Balls Full of Cherries vs. Abcde FC
DESCRIPTION:Abcde FC vs. XTSC Balls Full of CherriesMore info: #616
X-ALT-DESC;FMTTYPE=text/html:<!DOCTYPE HTML PUBLIC "-//W3C//DTD HTML 3.2//E
	N">\n<HTML>\n<HEAD>\n<TITLE></TITLE>\n</HEAD>\n<BODY>\n<h3>Abcde FC vs. XTS
	C Balls Full of Cherries</h3>More info: <a href="https://www.golnetwork.com
	/game/v/127383/">#616</a>\n\n</BODY>\n</HTML>
STATUS:CONFIRMED
CLASS:PUBLIC
URL:https://www.golnetwork.com/game/v/127383/
X-MICROSOFT-CDO-BUSYSTATUS:BUSY
X-MICROSOFT-CDO-IMPORTANCE:1
END:VEVENT
BEGIN:VEVENT
UID:gd15n@games.golnetwork.com
LOCATION:Cherry Beach West 3
CREATED:20180808T192851Z
DTSTART:20180907T020000Z
DTEND:20180907T030000Z
DTSTAMP:20260420T222451Z
SUMMARY:The Sweet 16 vs. Toon Squad
DESCRIPTION:Toon Squad vs. The Sweet 16More info: #619
X-ALT-DESC;FMTTYPE=text/html:<!DOCTYPE HTML PUBLIC "-//W3C//DTD HTML 3.2//E
	N">\n<HTML>\n<HEAD>\n<TITLE></TITLE>\n</HEAD>\n<BODY>\n<h3>Toon Squad vs. T
	he Sweet 16</h3>More info: <a href="https://www.golnetwork.com/game/v/12738
	4/">#619</a>\n\n</BODY>\n</HTML>
STATUS:CONFIRMED
CLASS:PUBLIC
URL:https://www.golnetwork.com/game/v/127384/
X-MICROSOFT-CDO-BUSYSTATUS:BUSY
X-MICROSOFT-CDO-IMPORTANCE:1
END:VEVENT
BEGIN:VEVENT
UID:gd15p@games.golnetwork.com
LOCATION:Cherry Beach West 3
CREATED:20180808T192858Z
DTSTART:20180907T030000Z
DTEND:20180907T040000Z
DTSTAMP:20260420T222451Z
SUMMARY:Fake Madrid vs. T.W.GOAAALL
DESCRIPTION:T.W.GOAAALL vs. Fake MadridMore info: #620
X-ALT-DESC;FMTTYPE=text/html:<!DOCTYPE HTML PUBLIC "-//W3C//DTD HTML 3.2//E
	N">\n<HTML>\n<HEAD>\n<TITLE></TITLE>\n</HEAD>\n<BODY>\n<h3>T.W.GOAAALL vs. 
	Fake Madrid</h3>More info: <a href="https://www.golnetwork.com/game/v/12738
	5/">#620</a>\n\n</BODY>\n</HTML>
STATUS:CONFIRMED
CLASS:PUBLIC
URL:https://www.golnetwork.com/game/v/127385/
X-MICROSOFT-CDO-BUSYSTATUS:BUSY
X-MICROSOFT-CDO-IMPORTANCE:1
END:VEVENT
BEGIN:VEVENT
UID:gd160@games.golnetwork.com
LOCATION:Cherry Beach West 2
CREATED:20180808T192911Z
DTSTART:20180914T010000Z
DTEND:20180914T020000Z
DTSTAMP:20260420T222451Z
SUMMARY:XTSC Balls Full of Cherries vs. Fake Madrid
DESCRIPTION:Fake Madrid vs. XTSC Balls Full of CherriesMore info: #678
X-ALT-DESC;FMTTYPE=text/html:<!DOCTYPE HTML PUBLIC "-//W3C//DTD HTML 3.2//E
	N">\n<HTML>\n<HEAD>\n<TITLE></TITLE>\n</HEAD>\n<BODY>\n<h3>Fake Madrid vs. 
	XTSC Balls Full of Cherries</h3>More info: <a href="https://www.golnetwork.
	com/game/v/127386/">#678</a>\n\n</BODY>\n</HTML>
STATUS:CONFIRMED
CLASS:PUBLIC
URL:https://www.golnetwork.com/game/v/127386/
X-MICROSOFT-CDO-BUSYSTATUS:BUSY
X-MICROSOFT-CDO-IMPORTANCE:1
END:VEVENT
BEGIN:VEVENT
UID:gd162@games.golnetwork.com
LOCATION:Cherry Beach West 3
CREATED:20180808T192918Z
DTSTART:20180914T010000Z
DTEND:20180914T020000Z
DTSTAMP:20260420T222451Z
SUMMARY:Abcde FC vs. The Sweet 16
DESCRIPTION:The Sweet 16 vs. Abcde FCMore info: #679
X-ALT-DESC;FMTTYPE=text/html:<!DOCTYPE HTML PUBLIC "-//W3C//DTD HTML 3.2//E
	N">\n<HTML>\n<HEAD>\n<TITLE></TITLE>\n</HEAD>\n<BODY>\n<h3>The Sweet 16 vs.
	 Abcde FC</h3>More info: <a href="https://www.golnetwork.com/game/v/127387/
	">#679</a>\n\n</BODY>\n</HTML>
STATUS:CONFIRMED
CLASS:PUBLIC
URL:https://www.golnetwork.com/game/v/127387/
X-MICROSOFT-CDO-BUSYSTATUS:BUSY
X-MICROSOFT-CDO-IMPORTANCE:1
END:VEVENT
BEGIN:VEVENT
UID:gd164@games.golnetwork.com
LOCATION:Cherry Beach West 2
CREATED:20180808T192926Z
DTSTART:20180914T020000Z
DTEND:20180914T030000Z
DTSTAMP:20260420T222451Z
SUMMARY:T.W.GOAAALL vs. Purpletrators
DESCRIPTION:Purpletrators vs. T.W.GOAAALLMore info: #681
X-ALT-DESC;FMTTYPE=text/html:<!DOCTYPE HTML PUBLIC "-//W3C//DTD HTML 3.2//E
	N">\n<HTML>\n<HEAD>\n<TITLE></TITLE>\n</HEAD>\n<BODY>\n<h3>Purpletrators vs
	. T.W.GOAAALL</h3>More info: <a href="https://www.golnetwork.com/game/v/127
	388/">#681</a>\n\n</BODY>\n</HTML>
STATUS:CONFIRMED
CLASS:PUBLIC
URL:https://www.golnetwork.com/game/v/127388/
X-MICROSOFT-CDO-BUSYSTATUS:BUSY
X-MICROSOFT-CDO-IMPORTANCE:1
END:VEVENT
BEGIN:VEVENT
UID:gd166@games.golnetwork.com
LOCATION:Cherry Beach West 3
CREATED:20180808T192934Z
DTSTART:20180914T020000Z
DTEND:20180914T030000Z
DTSTAMP:20260420T222451Z
SUMMARY:Toon Squad vs. Fake Madrid
DESCRIPTION:Fake Madrid vs. Toon SquadMore info: #682
X-ALT-DESC;FMTTYPE=text/html:<!DOCTYPE HTML PUBLIC "-//W3C//DTD HTML 3.2//E
	N">\n<HTML>\n<HEAD>\n<TITLE></TITLE>\n</HEAD>\n<BODY>\n<h3>Fake Madrid vs. 
	Toon Squad</h3>More info: <a href="https://www.golnetwork.com/game/v/127389
	/">#682</a>\n\n</BODY>\n</HTML>
STATUS:CONFIRMED
CLASS:PUBLIC
URL:https://www.golnetwork.com/game/v/127389/
X-MICROSOFT-CDO-BUSYSTATUS:BUSY
X-MICROSOFT-CDO-IMPORTANCE:1
END:VEVENT
BEGIN:VEVENT
UID:gd168@games.golnetwork.com
LOCATION:Cherry Beach West 2
CREATED:20180808T192946Z
DTSTART:20180921T010000Z
DTEND:20180921T020000Z
DTSTAMP:20260420T222451Z
SUMMARY:The Sweet 16 vs. T.W.GOAAALL
DESCRIPTION:T.W.GOAAALL vs. The Sweet 16More info: #720
X-ALT-DESC;FMTTYPE=text/html:<!DOCTYPE HTML PUBLIC "-//W3C//DTD HTML 3.2//E
	N">\n<HTML>\n<HEAD>\n<TITLE></TITLE>\n</HEAD>\n<BODY>\n<h3>T.W.GOAAALL vs. 
	The Sweet 16</h3>More info: <a href="https://www.golnetwork.com/game/v/1273
	90/">#720</a>\n\n</BODY>\n</HTML>
STATUS:CONFIRMED
CLASS:PUBLIC
URL:https://www.golnetwork.com/game/v/127390/
X-MICROSOFT-CDO-BUSYSTATUS:BUSY
X-MICROSOFT-CDO-IMPORTANCE:1
END:VEVENT
BEGIN:VEVENT
UID:gd16a@games.golnetwork.com
LOCATION:Cherry Beach West 3
CREATED:20180808T192954Z
DTSTART:20180921T010000Z
DTEND:20180921T020000Z
DTSTAMP:20260420T222451Z
SUMMARY:Purpletrators vs. Toon Squad
DESCRIPTION:Toon Squad vs. PurpletratorsMore info: #721
X-ALT-DESC;FMTTYPE=text/html:<!DOCTYPE HTML PUBLIC "-//W3C//DTD HTML 3.2//E
	N">\n<HTML>\n<HEAD>\n<TITLE></TITLE>\n</HEAD>\n<BODY>\n<h3>Toon Squad vs. P
	urpletrators</h3>More info: <a href="https://www.golnetwork.com/game/v/1273
	91/">#721</a>\n\n</BODY>\n</HTML>
STATUS:CONFIRMED
CLASS:PUBLIC
URL:https://www.golnetwork.com/game/v/127391/
X-MICROSOFT-CDO-BUSYSTATUS:BUSY
X-MICROSOFT-CDO-IMPORTANCE:1
END:VEVENT
BEGIN:VEVENT
UID:gd16c@games.golnetwork.com
LOCATION:Cherry Beach West 2
CREATED:20180808T193003Z
DTSTART:20180921T020000Z
DTEND:20180921T030000Z
DTSTAMP:20260420T222451Z
SUMMARY:XTSC Balls Full of Cherries vs. T.W.GOAAALL
DESCRIPTION:T.W.GOAAALL vs. XTSC Balls Full of CherriesMore info: #723
X-ALT-DESC;FMTTYPE=text/html:<!DOCTYPE HTML PUBLIC "-//W3C//DTD HTML 3.2//E
	N">\n<HTML>\n<HEAD>\n<TITLE></TITLE>\n</HEAD>\n<BODY>\n<h3>T.W.GOAAALL vs. 
	XTSC Balls Full of Cherries</h3>More info: <a href="https://www.golnetwork.
	com/game/v/127392/">#723</a>\n\n</BODY>\n</HTML>
STATUS:CONFIRMED
CLASS:PUBLIC
URL:https://www.golnetwork.com/game/v/127392/
X-MICROSOFT-CDO-BUSYSTATUS:BUSY
X-MICROSOFT-CDO-IMPORTANCE:1
END:VEVENT
BEGIN:VEVENT
UID:gd16e@games.golnetwork.com
LOCATION:Cherry Beach West 3
CREATED:20180808T193013Z
DTSTART:20180921T020000Z
DTEND:20180921T030000Z
DTSTAMP:20260420T222451Z
SUMMARY:Fake Madrid vs. Abcde FC
DESCRIPTION:Abcde FC vs. Fake MadridMore info: #724
X-ALT-DESC;FMTTYPE=text/html:<!DOCTYPE HTML PUBLIC "-//W3C//DTD HTML 3.2//E
	N">\n<HTML>\n<HEAD>\n<TITLE></TITLE>\n</HEAD>\n<BODY>\n<h3>Abcde FC vs. Fak
	e Madrid</h3>More info: <a href="https://www.golnetwork.com/game/v/127393/"
	>#724</a>\n\n</BODY>\n</HTML>
STATUS:CONFIRMED
CLASS:PUBLIC
URL:https://www.golnetwork.com/game/v/127393/
X-MICROSOFT-CDO-BUSYSTATUS:BUSY
X-MICROSOFT-CDO-IMPORTANCE:1
END:VEVENT
BEGIN:VEVENT
UID:gd16g@games.golnetwork.com
LOCATION:Cherry Beach West 2
CREATED:20180808T193027Z
DTSTART:20180928T010000Z
DTEND:20180928T020000Z
DTSTAMP:20260420T222451Z
SUMMARY:XTSC Balls Full of Cherries vs. The Sweet 16
DESCRIPTION:The Sweet 16 vs. XTSC Balls Full of CherriesMore info: #754
X-ALT-DESC;FMTTYPE=text/html:<!DOCTYPE HTML PUBLIC "-//W3C//DTD HTML 3.2//E
	N">\n<HTML>\n<HEAD>\n<TITLE></TITLE>\n</HEAD>\n<BODY>\n<h3>The Sweet 16 vs.
	 XTSC Balls Full of Cherries</h3>More info: <a href="https://www.golnetwork
	.com/game/v/127394/">#754</a>\n\n</BODY>\n</HTML>
STATUS:CONFIRMED
CLASS:PUBLIC
URL:https://www.golnetwork.com/game/v/127394/
X-MICROSOFT-CDO-BUSYSTATUS:BUSY
X-MICROSOFT-CDO-IMPORTANCE:1
END:VEVENT
BEGIN:VEVENT
UID:gd16i@games.golnetwork.com
LOCATION:Cherry Beach West 3
CREATED:20180808T193046Z
DTSTART:20180928T010000Z
DTEND:20180928T020000Z
DTSTAMP:20260420T222451Z
SUMMARY:Fake Madrid vs. Toon Squad
DESCRIPTION:Toon Squad vs. Fake MadridMore info: #755
X-ALT-DESC;FMTTYPE=text/html:<!DOCTYPE HTML PUBLIC "-//W3C//DTD HTML 3.2//E
	N">\n<HTML>\n<HEAD>\n<TITLE></TITLE>\n</HEAD>\n<BODY>\n<h3>Toon Squad vs. F
	ake Madrid</h3>More info: <a href="https://www.golnetwork.com/game/v/127395
	/">#755</a>\n\n</BODY>\n</HTML>
STATUS:CONFIRMED
CLASS:PUBLIC
URL:https://www.golnetwork.com/game/v/127395/
X-MICROSOFT-CDO-BUSYSTATUS:BUSY
X-MICROSOFT-CDO-IMPORTANCE:1
END:VEVENT
BEGIN:VEVENT
UID:gd16k@games.golnetwork.com
LOCATION:Cherry Beach West 3
CREATED:20180808T193055Z
DTSTART:20180928T020000Z
DTEND:20180928T030000Z
DTSTAMP:20260420T222451Z
SUMMARY:Purpletrators vs. The Sweet 16
DESCRIPTION:The Sweet 16 vs. PurpletratorsMore info: #758
X-ALT-DESC;FMTTYPE=text/html:<!DOCTYPE HTML PUBLIC "-//W3C//DTD HTML 3.2//E
	N">\n<HTML>\n<HEAD>\n<TITLE></TITLE>\n</HEAD>\n<BODY>\n<h3>The Sweet 16 vs.
	 Purpletrators</h3>More info: <a href="https://www.golnetwork.com/game/v/12
	7396/">#758</a>\n\n</BODY>\n</HTML>
STATUS:CONFIRMED
CLASS:PUBLIC
URL:https://www.golnetwork.com/game/v/127396/
X-MICROSOFT-CDO-BUSYSTATUS:BUSY
X-MICROSOFT-CDO-IMPORTANCE:1
END:VEVENT
BEGIN:VEVENT
UID:gd16m@games.golnetwork.com
LOCATION:Cherry Beach West 3
CREATED:20180808T193103Z
DTSTART:20180928T030000Z
DTEND:20180928T040000Z
DTSTAMP:20260420T222451Z
SUMMARY:Abcde FC vs. T.W.GOAAALL
DESCRIPTION:T.W.GOAAALL vs. Abcde FCMore info: #759
X-ALT-DESC;FMTTYPE=text/html:<!DOCTYPE HTML PUBLIC "-//W3C//DTD HTML 3.2//E
	N">\n<HTML>\n<HEAD>\n<TITLE></TITLE>\n</HEAD>\n<BODY>\n<h3>T.W.GOAAALL vs. 
	Abcde FC</h3>More info: <a href="https://www.golnetwork.com/game/v/127397/"
	>#759</a>\n\n</BODY>\n</HTML>
STATUS:CONFIRMED
CLASS:PUBLIC
URL:https://www.golnetwork.com/game/v/127397/
X-MICROSOFT-CDO-BUSYSTATUS:BUSY
X-MICROSOFT-CDO-IMPORTANCE:1
END:VEVENT
BEGIN:VEVENT
UID:gd16o@games.golnetwork.com
LOCATION:Cherry Beach West 2
CREATED:20180808T193115Z
DTSTART:20181005T010000Z
DTEND:20181005T020000Z
DTSTAMP:20260420T222451Z
SUMMARY:Fake Madrid vs. The Sweet 16
DESCRIPTION:The Sweet 16 vs. Fake MadridMore info: #788
X-ALT-DESC;FMTTYPE=text/html:<!DOCTYPE HTML PUBLIC "-//W3C//DTD HTML 3.2//E
	N">\n<HTML>\n<HEAD>\n<TITLE></TITLE>\n</HEAD>\n<BODY>\n<h3>The Sweet 16 vs.
	 Fake Madrid</h3>More info: <a href="https://www.golnetwork.com/game/v/1273
	98/">#788</a>\n\n</BODY>\n</HTML>
STATUS:CONFIRMED
CLASS:PUBLIC
URL:https://www.golnetwork.com/game/v/127398/
X-MICROSOFT-CDO-BUSYSTATUS:BUSY
X-MICROSOFT-CDO-IMPORTANCE:1
END:VEVENT
BEGIN:VEVENT
UID:gd16q@games.golnetwork.com
LOCATION:Cherry Beach West 3
CREATED:20180808T193123Z
DTSTART:20181005T010000Z
DTEND:20181005T020000Z
DTSTAMP:20260420T222451Z
SUMMARY:Purpletrators vs. XTSC Balls Full of Cherries
DESCRIPTION:XTSC Balls Full of Cherries vs. PurpletratorsMore info: #789
X-ALT-DESC;FMTTYPE=text/html:<!DOCTYPE HTML PUBLIC "-//W3C//DTD HTML 3.2//E
	N">\n<HTML>\n<HEAD>\n<TITLE></TITLE>\n</HEAD>\n<BODY>\n<h3>XTSC Balls Full 
	of Cherries vs. Purpletrators</h3>More info: <a href="https://www.golnetwor
	k.com/game/v/127399/">#789</a>\n\n</BODY>\n</HTML>
STATUS:CONFIRMED
CLASS:PUBLIC
URL:https://www.golnetwork.com/game/v/127399/
X-MICROSOFT-CDO-BUSYSTATUS:BUSY
X-MICROSOFT-CDO-IMPORTANCE:1
END:VEVENT
BEGIN:VEVENT
UID:gd171@games.golnetwork.com
LOCATION:Cherry Beach West 3
CREATED:20180808T193130Z
DTSTART:20181005T020000Z
DTEND:20181005T030000Z
DTSTAMP:20260420T222451Z
SUMMARY:Toon Squad vs. Abcde FC
DESCRIPTION:Abcde FC vs. Toon SquadMore info: #792
X-ALT-DESC;FMTTYPE=text/html:<!DOCTYPE HTML PUBLIC "-//W3C//DTD HTML 3.2//E
	N">\n<HTML>\n<HEAD>\n<TITLE></TITLE>\n</HEAD>\n<BODY>\n<h3>Abcde FC vs. Too
	n Squad</h3>More info: <a href="https://www.golnetwork.com/game/v/127400/">
	#792</a>\n\n</BODY>\n</HTML>
STATUS:CONFIRMED
CLASS:PUBLIC
URL:https://www.golnetwork.com/game/v/127400/
X-MICROSOFT-CDO-BUSYSTATUS:BUSY
X-MICROSOFT-CDO-IMPORTANCE:1
END:VEVENT
BEGIN:VEVENT
UID:gd173@games.golnetwork.com
LOCATION:Cherry Beach West 3
CREATED:20180808T193141Z
DTSTART:20181012T020000Z
DTEND:20181012T030000Z
DTSTAMP:20260420T222451Z
SUMMARY:Abcde FC vs. Fake Madrid
DESCRIPTION:Fake Madrid vs. Abcde FCMore info: #807
X-ALT-DESC;FMTTYPE=text/html:<!DOCTYPE HTML PUBLIC "-//W3C//DTD HTML 3.2//E
	N">\n<HTML>\n<HEAD>\n<TITLE></TITLE>\n</HEAD>\n<BODY>\n<h3>Fake Madrid vs. 
	Abcde FC</h3>More info: <a href="https://www.golnetwork.com/game/v/127401/"
	>#807</a>\n\n</BODY>\n</HTML>
STATUS:CONFIRMED
CLASS:PUBLIC
URL:https://www.golnetwork.com/game/v/127401/
X-MICROSOFT-CDO-BUSYSTATUS:BUSY
X-MICROSOFT-CDO-IMPORTANCE:1
END:VEVENT
BEGIN:VEVENT
UID:gd175@games.golnetwork.com
LOCATION:Cherry Beach West 3
CREATED:20180808T193143Z
DTSTART:20181012T030000Z
DTEND:20181012T040000Z
DTSTAMP:20260420T222451Z
SUMMARY:The Sweet 16 vs. T.W.GOAAALL
DESCRIPTION:T.W.GOAAALL vs. The Sweet 16More info: #808
X-ALT-DESC;FMTTYPE=text/html:<!DOCTYPE HTML PUBLIC "-//W3C//DTD HTML 3.2//E
	N">\n<HTML>\n<HEAD>\n<TITLE></TITLE>\n</HEAD>\n<BODY>\n<h3>T.W.GOAAALL vs. 
	The Sweet 16</h3>More info: <a href="https://www.golnetwork.com/game/v/1274
	02/">#808</a>\n\n</BODY>\n</HTML>
STATUS:CONFIRMED
CLASS:PUBLIC
URL:https://www.golnetwork.com/game/v/127402/
X-MICROSOFT-CDO-BUSYSTATUS:BUSY
X-MICROSOFT-CDO-IMPORTANCE:1
END:VEVENT
BEGIN:VEVENT
UID:gd17b@games.golnetwork.com
LOCATION:Cherry Beach West 2
CREATED:20180808T193159Z
DTSTART:20181019T010000Z
DTEND:20181019T020000Z
DTSTAMP:20260420T222451Z
SUMMARY:The Sweet 16 vs. Abcde FC
DESCRIPTION:Abcde FC vs. The Sweet 16More info: #828
X-ALT-DESC;FMTTYPE=text/html:<!DOCTYPE HTML PUBLIC "-//W3C//DTD HTML 3.2//E
	N">\n<HTML>\n<HEAD>\n<TITLE></TITLE>\n</HEAD>\n<BODY>\n<h3>Abcde FC vs. The
	 Sweet 16</h3>More info: <a href="https://www.golnetwork.com/game/v/127405/
	">#828</a>\n\n</BODY>\n</HTML>
STATUS:CONFIRMED
CLASS:PUBLIC
URL:https://www.golnetwork.com/game/v/127405/
X-MICROSOFT-CDO-BUSYSTATUS:BUSY
X-MICROSOFT-CDO-IMPORTANCE:1
END:VEVENT
BEGIN:VEVENT
UID:gd179@games.golnetwork.com
LOCATION:Cherry Beach West 2
CREATED:20180808T193156Z
DTSTART:20181019T020000Z
DTEND:20181019T030000Z
DTSTAMP:20260420T222451Z
SUMMARY:T.W.GOAAALL vs. Abcde FC
DESCRIPTION:Abcde FC vs. T.W.GOAAALLMore info: #831
X-ALT-DESC;FMTTYPE=text/html:<!DOCTYPE HTML PUBLIC "-//W3C//DTD HTML 3.2//E
	N">\n<HTML>\n<HEAD>\n<TITLE></TITLE>\n</HEAD>\n<BODY>\n<h3>Abcde FC vs. T.W
	.GOAAALL</h3>More info: <a href="https://www.golnetwork.com/game/v/127404/"
	>#831</a>\n\n</BODY>\n</HTML>
STATUS:CONFIRMED
CLASS:PUBLIC
URL:https://www.golnetwork.com/game/v/127404/
X-MICROSOFT-CDO-BUSYSTATUS:BUSY
X-MICROSOFT-CDO-IMPORTANCE:1
END:VEVENT
BEGIN:VEVENT
UID:gd177@games.golnetwork.com
LOCATION:Cherry Beach West 3
CREATED:20180808T193151Z
DTSTART:20181019T020000Z
DTEND:20181019T030000Z
DTSTAMP:20260420T222451Z
SUMMARY:Purpletrators vs. XTSC Balls Full of Cherries
DESCRIPTION:XTSC Balls Full of Cherries vs. PurpletratorsMore info: #832
X-ALT-DESC;FMTTYPE=text/html:<!DOCTYPE HTML PUBLIC "-//W3C//DTD HTML 3.2//E
	N">\n<HTML>\n<HEAD>\n<TITLE></TITLE>\n</HEAD>\n<BODY>\n<h3>XTSC Balls Full 
	of Cherries vs. Purpletrators</h3>More info: <a href="https://www.golnetwor
	k.com/game/v/127403/">#832</a>\n\n</BODY>\n</HTML>
STATUS:CONFIRMED
CLASS:PUBLIC
URL:https://www.golnetwork.com/game/v/127403/
X-MICROSOFT-CDO-BUSYSTATUS:BUSY
X-MICROSOFT-CDO-IMPORTANCE:1
END:VEVENT
END:VCALENDAR
