BEGIN:VCALENDAR
PRODID:-//gdesolutions.com//MV Framework 1.0.0.1607 Calendar//EN
VERSION:2.0
METHOD:PUBLISH
CALSCALE:GREGORIAN
BEGIN:VEVENT
UID:gcmeq@games.golnetwork.com
LOCATION:Central Tech - Field 3
CREATED:20180608T152143Z
DTSTART:20180615T000000Z
DTEND:20180615T010000Z
DTSTAMP:20260421T052359Z
SUMMARY:Smells Like Team Spirit vs. Cleats by Dre
DESCRIPTION:Cleats by Dre vs. Smells Like Team SpiritMore info: #3
X-ALT-DESC;FMTTYPE=text/html:<!DOCTYPE HTML PUBLIC "-//W3C//DTD HTML 3.2//E
	N">\n<HTML>\n<HEAD>\n<TITLE></TITLE>\n</HEAD>\n<BODY>\n<h3>Cleats by Dre vs
	. Smells Like Team Spirit</h3>More info: <a href="https://www.golnetwork.co
	m/game/v/125320/">#3</a>\n\n</BODY>\n</HTML>
STATUS:CONFIRMED
CLASS:PUBLIC
URL:https://www.golnetwork.com/game/v/125320/
X-MICROSOFT-CDO-BUSYSTATUS:BUSY
X-MICROSOFT-CDO-IMPORTANCE:1
END:VEVENT
BEGIN:VEVENT
UID:gcmf1@games.golnetwork.com
LOCATION:Central Tech - Field 3
CREATED:20180608T152451Z
DTSTART:20180615T010000Z
DTEND:20180615T020000Z
DTSTAMP:20260421T052359Z
SUMMARY:Argentina Turner vs. B Sharps
DESCRIPTION:B Sharps vs. Argentina TurnerMore info: #4
X-ALT-DESC;FMTTYPE=text/html:<!DOCTYPE HTML PUBLIC "-//W3C//DTD HTML 3.2//E
	N">\n<HTML>\n<HEAD>\n<TITLE></TITLE>\n</HEAD>\n<BODY>\n<h3>B Sharps vs. Arg
	entina Turner</h3>More info: <a href="https://www.golnetwork.com/game/v/125
	321/">#4</a>\n\n</BODY>\n</HTML>
STATUS:CONFIRMED
CLASS:PUBLIC
URL:https://www.golnetwork.com/game/v/125321/
X-MICROSOFT-CDO-BUSYSTATUS:BUSY
X-MICROSOFT-CDO-IMPORTANCE:1
END:VEVENT
BEGIN:VEVENT
UID:gcmf3@games.golnetwork.com
LOCATION:Central Tech - Field 3
CREATED:20180608T152459Z
DTSTART:20180615T020000Z
DTEND:20180615T030000Z
DTSTAMP:20260421T052359Z
SUMMARY:Spin FC vs. Fengate FC
DESCRIPTION:Fengate FC vs. Spin FCMore info: #6
X-ALT-DESC;FMTTYPE=text/html:<!DOCTYPE HTML PUBLIC "-//W3C//DTD HTML 3.2//E
	N">\n<HTML>\n<HEAD>\n<TITLE></TITLE>\n</HEAD>\n<BODY>\n<h3>Fengate FC vs. S
	pin FC</h3>More info: <a href="https://www.golnetwork.com/game/v/125322/">#
	6</a>\n\n</BODY>\n</HTML>
STATUS:CONFIRMED
CLASS:PUBLIC
URL:https://www.golnetwork.com/game/v/125322/
X-MICROSOFT-CDO-BUSYSTATUS:BUSY
X-MICROSOFT-CDO-IMPORTANCE:1
END:VEVENT
BEGIN:VEVENT
UID:gcmf7@games.golnetwork.com
LOCATION:Central Tech - Field 3
CREATED:20180608T152518Z
DTSTART:20180622T010000Z
DTEND:20180622T020000Z
DTSTAMP:20260421T052359Z
SUMMARY:Smells Like Team Spirit vs. Fengate FC
DESCRIPTION:Fengate FC vs. Smells Like Team SpiritMore info: #11
X-ALT-DESC;FMTTYPE=text/html:<!DOCTYPE HTML PUBLIC "-//W3C//DTD HTML 3.2//E
	N">\n<HTML>\n<HEAD>\n<TITLE></TITLE>\n</HEAD>\n<BODY>\n<h3>Fengate FC vs. S
	mells Like Team Spirit</h3>More info: <a href="https://www.golnetwork.com/g
	ame/v/125324/">#11</a>\n\n</BODY>\n</HTML>
STATUS:CONFIRMED
CLASS:PUBLIC
URL:https://www.golnetwork.com/game/v/125324/
X-MICROSOFT-CDO-BUSYSTATUS:BUSY
X-MICROSOFT-CDO-IMPORTANCE:1
END:VEVENT
BEGIN:VEVENT
UID:gcmf5@games.golnetwork.com
LOCATION:Central Tech - Field 4
CREATED:20180608T152510Z
DTSTART:20180622T010000Z
DTEND:20180622T020000Z
DTSTAMP:20260421T052359Z
SUMMARY:B Sharps vs. Cleats by Dre
DESCRIPTION:Cleats by Dre vs. B SharpsMore info: #12
X-ALT-DESC;FMTTYPE=text/html:<!DOCTYPE HTML PUBLIC "-//W3C//DTD HTML 3.2//E
	N">\n<HTML>\n<HEAD>\n<TITLE></TITLE>\n</HEAD>\n<BODY>\n<h3>Cleats by Dre vs
	. B Sharps</h3>More info: <a href="https://www.golnetwork.com/game/v/125323
	/">#12</a>\n\n</BODY>\n</HTML>
STATUS:CONFIRMED
CLASS:PUBLIC
URL:https://www.golnetwork.com/game/v/125323/
X-MICROSOFT-CDO-BUSYSTATUS:BUSY
X-MICROSOFT-CDO-IMPORTANCE:1
END:VEVENT
BEGIN:VEVENT
UID:gcmf9@games.golnetwork.com
LOCATION:Central Tech - Field 3
CREATED:20180608T152528Z
DTSTART:20180622T020000Z
DTEND:20180622T030000Z
DTSTAMP:20260421T052359Z
SUMMARY:Argentina Turner vs. Spin FC
DESCRIPTION:Spin FC vs. Argentina TurnerMore info: #13
X-ALT-DESC;FMTTYPE=text/html:<!DOCTYPE HTML PUBLIC "-//W3C//DTD HTML 3.2//E
	N">\n<HTML>\n<HEAD>\n<TITLE></TITLE>\n</HEAD>\n<BODY>\n<h3>Spin FC vs. Arge
	ntina Turner</h3>More info: <a href="https://www.golnetwork.com/game/v/1253
	25/">#13</a>\n\n</BODY>\n</HTML>
STATUS:CONFIRMED
CLASS:PUBLIC
URL:https://www.golnetwork.com/game/v/125325/
X-MICROSOFT-CDO-BUSYSTATUS:BUSY
X-MICROSOFT-CDO-IMPORTANCE:1
END:VEVENT
BEGIN:VEVENT
UID:gcmfb@games.golnetwork.com
LOCATION:Central Tech - Field 3
CREATED:20180608T152538Z
DTSTART:20180628T220000Z
DTEND:20180628T230000Z
DTSTAMP:20260421T052359Z
SUMMARY:Fengate FC vs. Cleats by Dre
DESCRIPTION:Cleats by Dre vs. Fengate FCMore info: #23
X-ALT-DESC;FMTTYPE=text/html:<!DOCTYPE HTML PUBLIC "-//W3C//DTD HTML 3.2//E
	N">\n<HTML>\n<HEAD>\n<TITLE></TITLE>\n</HEAD>\n<BODY>\n<h3>Cleats by Dre vs
	. Fengate FC</h3>More info: <a href="https://www.golnetwork.com/game/v/1253
	26/">#23</a>\n\n</BODY>\n</HTML>
STATUS:CONFIRMED
CLASS:PUBLIC
URL:https://www.golnetwork.com/game/v/125326/
X-MICROSOFT-CDO-BUSYSTATUS:BUSY
X-MICROSOFT-CDO-IMPORTANCE:1
END:VEVENT
BEGIN:VEVENT
UID:gcmfd@games.golnetwork.com
LOCATION:Central Tech - Field 3
CREATED:20180608T152547Z
DTSTART:20180629T000000Z
DTEND:20180629T010000Z
DTSTAMP:20260421T052359Z
SUMMARY:B Sharps vs. Spin FC
DESCRIPTION:Spin FC vs. B SharpsMore info: #25
X-ALT-DESC;FMTTYPE=text/html:<!DOCTYPE HTML PUBLIC "-//W3C//DTD HTML 3.2//E
	N">\n<HTML>\n<HEAD>\n<TITLE></TITLE>\n</HEAD>\n<BODY>\n<h3>Spin FC vs. B Sh
	arps</h3>More info: <a href="https://www.golnetwork.com/game/v/125327/">#25
	</a>\n\n</BODY>\n</HTML>
STATUS:CONFIRMED
CLASS:PUBLIC
URL:https://www.golnetwork.com/game/v/125327/
X-MICROSOFT-CDO-BUSYSTATUS:BUSY
X-MICROSOFT-CDO-IMPORTANCE:1
END:VEVENT
BEGIN:VEVENT
UID:gcmff@games.golnetwork.com
LOCATION:Central Tech - Field 3
CREATED:20180608T152554Z
DTSTART:20180629T020000Z
DTEND:20180629T030000Z
DTSTAMP:20260421T052359Z
SUMMARY:Smells Like Team Spirit vs. Argentina Turner
DESCRIPTION:Argentina Turner vs. Smells Like Team SpiritMore info: #28
X-ALT-DESC;FMTTYPE=text/html:<!DOCTYPE HTML PUBLIC "-//W3C//DTD HTML 3.2//E
	N">\n<HTML>\n<HEAD>\n<TITLE></TITLE>\n</HEAD>\n<BODY>\n<h3>Argentina Turner
	 vs. Smells Like Team Spirit</h3>More info: <a href="https://www.golnetwork
	.com/game/v/125328/">#28</a>\n\n</BODY>\n</HTML>
STATUS:CONFIRMED
CLASS:PUBLIC
URL:https://www.golnetwork.com/game/v/125328/
X-MICROSOFT-CDO-BUSYSTATUS:BUSY
X-MICROSOFT-CDO-IMPORTANCE:1
END:VEVENT
BEGIN:VEVENT
UID:gcmfh@games.golnetwork.com
LOCATION:Central Tech - Field 3
CREATED:20180608T152608Z
DTSTART:20180705T220000Z
DTEND:20180705T230000Z
DTSTAMP:20260421T052359Z
SUMMARY:B Sharps vs. Smells Like Team Spirit
DESCRIPTION:Smells Like Team Spirit vs. B SharpsMore info: #40
X-ALT-DESC;FMTTYPE=text/html:<!DOCTYPE HTML PUBLIC "-//W3C//DTD HTML 3.2//E
	N">\n<HTML>\n<HEAD>\n<TITLE></TITLE>\n</HEAD>\n<BODY>\n<h3>Smells Like Team
	 Spirit vs. B Sharps</h3>More info: <a href="https://www.golnetwork.com/gam
	e/v/125329/">#40</a>\n\n</BODY>\n</HTML>
STATUS:CONFIRMED
CLASS:PUBLIC
URL:https://www.golnetwork.com/game/v/125329/
X-MICROSOFT-CDO-BUSYSTATUS:BUSY
X-MICROSOFT-CDO-IMPORTANCE:1
END:VEVENT
BEGIN:VEVENT
UID:gcmfj@games.golnetwork.com
LOCATION:Central Tech - Field 3
CREATED:20180608T152616Z
DTSTART:20180705T230000Z
DTEND:20180706T000000Z
DTSTAMP:20260421T052359Z
SUMMARY:Cleats by Dre vs. Spin FC
DESCRIPTION:Spin FC vs. Cleats by DreMore info: #42
X-ALT-DESC;FMTTYPE=text/html:<!DOCTYPE HTML PUBLIC "-//W3C//DTD HTML 3.2//E
	N">\n<HTML>\n<HEAD>\n<TITLE></TITLE>\n</HEAD>\n<BODY>\n<h3>Spin FC vs. Clea
	ts by Dre</h3>More info: <a href="https://www.golnetwork.com/game/v/125330/
	">#42</a>\n\n</BODY>\n</HTML>
STATUS:CONFIRMED
CLASS:PUBLIC
URL:https://www.golnetwork.com/game/v/125330/
X-MICROSOFT-CDO-BUSYSTATUS:BUSY
X-MICROSOFT-CDO-IMPORTANCE:1
END:VEVENT
BEGIN:VEVENT
UID:gcmfl@games.golnetwork.com
LOCATION:Central Tech - Field 3
CREATED:20180608T152625Z
DTSTART:20180706T000000Z
DTEND:20180706T010000Z
DTSTAMP:20260421T052359Z
SUMMARY:Fengate FC vs. Argentina Turner
DESCRIPTION:Argentina Turner vs. Fengate FCMore info: #45
X-ALT-DESC;FMTTYPE=text/html:<!DOCTYPE HTML PUBLIC "-//W3C//DTD HTML 3.2//E
	N">\n<HTML>\n<HEAD>\n<TITLE></TITLE>\n</HEAD>\n<BODY>\n<h3>Argentina Turner
	 vs. Fengate FC</h3>More info: <a href="https://www.golnetwork.com/game/v/1
	25331/">#45</a>\n\n</BODY>\n</HTML>
STATUS:CONFIRMED
CLASS:PUBLIC
URL:https://www.golnetwork.com/game/v/125331/
X-MICROSOFT-CDO-BUSYSTATUS:BUSY
X-MICROSOFT-CDO-IMPORTANCE:1
END:VEVENT
BEGIN:VEVENT
UID:gcmfp@games.golnetwork.com
LOCATION:Central Tech - Field 3
CREATED:20180608T152649Z
DTSTART:20180713T010000Z
DTEND:20180713T020000Z
DTSTAMP:20260421T052359Z
SUMMARY:Argentina Turner vs. Cleats by Dre
DESCRIPTION:Cleats by Dre vs. Argentina TurnerMore info: #74
X-ALT-DESC;FMTTYPE=text/html:<!DOCTYPE HTML PUBLIC "-//W3C//DTD HTML 3.2//E
	N">\n<HTML>\n<HEAD>\n<TITLE></TITLE>\n</HEAD>\n<BODY>\n<h3>Cleats by Dre vs
	. Argentina Turner</h3>More info: <a href="https://www.golnetwork.com/game/
	v/125333/">#74</a>\n\n</BODY>\n</HTML>
STATUS:CONFIRMED
CLASS:PUBLIC
URL:https://www.golnetwork.com/game/v/125333/
X-MICROSOFT-CDO-BUSYSTATUS:BUSY
X-MICROSOFT-CDO-IMPORTANCE:1
END:VEVENT
BEGIN:VEVENT
UID:gcmfn@games.golnetwork.com
LOCATION:Central Tech - Field 4
CREATED:20180608T152640Z
DTSTART:20180713T010000Z
DTEND:20180713T020000Z
DTSTAMP:20260421T052359Z
SUMMARY:Spin FC vs. Smells Like Team Spirit
DESCRIPTION:Smells Like Team Spirit vs. Spin FCMore info: #75
X-ALT-DESC;FMTTYPE=text/html:<!DOCTYPE HTML PUBLIC "-//W3C//DTD HTML 3.2//E
	N">\n<HTML>\n<HEAD>\n<TITLE></TITLE>\n</HEAD>\n<BODY>\n<h3>Smells Like Team
	 Spirit vs. Spin FC</h3>More info: <a href="https://www.golnetwork.com/game
	/v/125332/">#75</a>\n\n</BODY>\n</HTML>
STATUS:CONFIRMED
CLASS:PUBLIC
URL:https://www.golnetwork.com/game/v/125332/
X-MICROSOFT-CDO-BUSYSTATUS:BUSY
X-MICROSOFT-CDO-IMPORTANCE:1
END:VEVENT
BEGIN:VEVENT
UID:gcmg0@games.golnetwork.com
LOCATION:Central Tech - Field 3
CREATED:20180608T152659Z
DTSTART:20180713T020000Z
DTEND:20180713T030000Z
DTSTAMP:20260421T052359Z
SUMMARY:Fengate FC vs. B Sharps
DESCRIPTION:B Sharps vs. Fengate FCMore info: #78
X-ALT-DESC;FMTTYPE=text/html:<!DOCTYPE HTML PUBLIC "-//W3C//DTD HTML 3.2//E
	N">\n<HTML>\n<HEAD>\n<TITLE></TITLE>\n</HEAD>\n<BODY>\n<h3>B Sharps vs. Fen
	gate FC</h3>More info: <a href="https://www.golnetwork.com/game/v/125334/">
	#78</a>\n\n</BODY>\n</HTML>
STATUS:CONFIRMED
CLASS:PUBLIC
URL:https://www.golnetwork.com/game/v/125334/
X-MICROSOFT-CDO-BUSYSTATUS:BUSY
X-MICROSOFT-CDO-IMPORTANCE:1
END:VEVENT
BEGIN:VEVENT
UID:gcmg2@games.golnetwork.com
LOCATION:Central Tech - Field 3
CREATED:20180608T152719Z
DTSTART:20180719T230000Z
DTEND:20180720T000000Z
DTSTAMP:20260421T052359Z
SUMMARY:Argentina Turner vs. B Sharps
DESCRIPTION:B Sharps vs. Argentina TurnerMore info: #115
X-ALT-DESC;FMTTYPE=text/html:<!DOCTYPE HTML PUBLIC "-//W3C//DTD HTML 3.2//E
	N">\n<HTML>\n<HEAD>\n<TITLE></TITLE>\n</HEAD>\n<BODY>\n<h3>B Sharps vs. Arg
	entina Turner</h3>More info: <a href="https://www.golnetwork.com/game/v/125
	335/">#115</a>\n\n</BODY>\n</HTML>
STATUS:CONFIRMED
CLASS:PUBLIC
URL:https://www.golnetwork.com/game/v/125335/
X-MICROSOFT-CDO-BUSYSTATUS:BUSY
X-MICROSOFT-CDO-IMPORTANCE:1
END:VEVENT
BEGIN:VEVENT
UID:gcmg4@games.golnetwork.com
LOCATION:Central Tech - Field 3
CREATED:20180608T152730Z
DTSTART:20180720T010000Z
DTEND:20180720T020000Z
DTSTAMP:20260421T052359Z
SUMMARY:Spin FC vs. Fengate FC
DESCRIPTION:Fengate FC vs. Spin FCMore info: #120
X-ALT-DESC;FMTTYPE=text/html:<!DOCTYPE HTML PUBLIC "-//W3C//DTD HTML 3.2//E
	N">\n<HTML>\n<HEAD>\n<TITLE></TITLE>\n</HEAD>\n<BODY>\n<h3>Fengate FC vs. S
	pin FC</h3>More info: <a href="https://www.golnetwork.com/game/v/125336/">#
	120</a>\n\n</BODY>\n</HTML>
STATUS:CONFIRMED
CLASS:PUBLIC
URL:https://www.golnetwork.com/game/v/125336/
X-MICROSOFT-CDO-BUSYSTATUS:BUSY
X-MICROSOFT-CDO-IMPORTANCE:1
END:VEVENT
BEGIN:VEVENT
UID:gcmg6@games.golnetwork.com
LOCATION:Central Tech - Field 3
CREATED:20180608T152739Z
DTSTART:20180720T020000Z
DTEND:20180720T030000Z
DTSTAMP:20260421T052359Z
SUMMARY:Smells Like Team Spirit vs. Cleats by Dre
DESCRIPTION:Cleats by Dre vs. Smells Like Team SpiritMore info: #123
X-ALT-DESC;FMTTYPE=text/html:<!DOCTYPE HTML PUBLIC "-//W3C//DTD HTML 3.2//E
	N">\n<HTML>\n<HEAD>\n<TITLE></TITLE>\n</HEAD>\n<BODY>\n<h3>Cleats by Dre vs
	. Smells Like Team Spirit</h3>More info: <a href="https://www.golnetwork.co
	m/game/v/125337/">#123</a>\n\n</BODY>\n</HTML>
STATUS:CONFIRMED
CLASS:PUBLIC
URL:https://www.golnetwork.com/game/v/125337/
X-MICROSOFT-CDO-BUSYSTATUS:BUSY
X-MICROSOFT-CDO-IMPORTANCE:1
END:VEVENT
BEGIN:VEVENT
UID:gcmg8@games.golnetwork.com
LOCATION:Central Tech - Field 3
CREATED:20180608T152752Z
DTSTART:20180726T220000Z
DTEND:20180726T230000Z
DTSTAMP:20260421T052359Z
SUMMARY:Argentina Turner vs. Spin FC
DESCRIPTION:Spin FC vs. Argentina TurnerMore info: #179
X-ALT-DESC;FMTTYPE=text/html:<!DOCTYPE HTML PUBLIC "-//W3C//DTD HTML 3.2//E
	N">\n<HTML>\n<HEAD>\n<TITLE></TITLE>\n</HEAD>\n<BODY>\n<h3>Spin FC vs. Arge
	ntina Turner</h3>More info: <a href="https://www.golnetwork.com/game/v/1253
	38/">#179</a>\n\n</BODY>\n</HTML>
STATUS:CONFIRMED
CLASS:PUBLIC
URL:https://www.golnetwork.com/game/v/125338/
X-MICROSOFT-CDO-BUSYSTATUS:BUSY
X-MICROSOFT-CDO-IMPORTANCE:1
END:VEVENT
BEGIN:VEVENT
UID:gcmga@games.golnetwork.com
LOCATION:Central Tech - Field 3
CREATED:20180608T152801Z
DTSTART:20180726T230000Z
DTEND:20180727T000000Z
DTSTAMP:20260421T052359Z
SUMMARY:Smells Like Team Spirit vs. Fengate FC
DESCRIPTION:Fengate FC vs. Smells Like Team SpiritMore info: #181
X-ALT-DESC;FMTTYPE=text/html:<!DOCTYPE HTML PUBLIC "-//W3C//DTD HTML 3.2//E
	N">\n<HTML>\n<HEAD>\n<TITLE></TITLE>\n</HEAD>\n<BODY>\n<h3>Fengate FC vs. S
	mells Like Team Spirit</h3>More info: <a href="https://www.golnetwork.com/g
	ame/v/125339/">#181</a>\n\n</BODY>\n</HTML>
STATUS:CONFIRMED
CLASS:PUBLIC
URL:https://www.golnetwork.com/game/v/125339/
X-MICROSOFT-CDO-BUSYSTATUS:BUSY
X-MICROSOFT-CDO-IMPORTANCE:1
END:VEVENT
BEGIN:VEVENT
UID:gcmgc@games.golnetwork.com
LOCATION:Central Tech - Field 3
CREATED:20180608T152812Z
DTSTART:20180727T020000Z
DTEND:20180727T030000Z
DTSTAMP:20260421T052359Z
SUMMARY:B Sharps vs. Cleats by Dre
DESCRIPTION:Cleats by Dre vs. B SharpsMore info: #189
X-ALT-DESC;FMTTYPE=text/html:<!DOCTYPE HTML PUBLIC "-//W3C//DTD HTML 3.2//E
	N">\n<HTML>\n<HEAD>\n<TITLE></TITLE>\n</HEAD>\n<BODY>\n<h3>Cleats by Dre vs
	. B Sharps</h3>More info: <a href="https://www.golnetwork.com/game/v/125340
	/">#189</a>\n\n</BODY>\n</HTML>
STATUS:CONFIRMED
CLASS:PUBLIC
URL:https://www.golnetwork.com/game/v/125340/
X-MICROSOFT-CDO-BUSYSTATUS:BUSY
X-MICROSOFT-CDO-IMPORTANCE:1
END:VEVENT
BEGIN:VEVENT
UID:gcmge@games.golnetwork.com
LOCATION:Central Tech - Field 3
CREATED:20180608T152822Z
DTSTART:20180803T020000Z
DTEND:20180803T030000Z
DTSTAMP:20260421T052359Z
SUMMARY:Spin FC vs. Fengate FC
DESCRIPTION:Fengate FC vs. Spin FCMore info: #266
X-ALT-DESC;FMTTYPE=text/html:<!DOCTYPE HTML PUBLIC "-//W3C//DTD HTML 3.2//E
	N">\n<HTML>\n<HEAD>\n<TITLE></TITLE>\n</HEAD>\n<BODY>\n<h3>Fengate FC vs. S
	pin FC</h3>More info: <a href="https://www.golnetwork.com/game/v/125341/">#
	266</a>\n\n</BODY>\n</HTML>
STATUS:CONFIRMED
CLASS:PUBLIC
URL:https://www.golnetwork.com/game/v/125341/
X-MICROSOFT-CDO-BUSYSTATUS:BUSY
X-MICROSOFT-CDO-IMPORTANCE:1
END:VEVENT
BEGIN:VEVENT
UID:gcmgi@games.golnetwork.com
LOCATION:Central Tech - Field 3
CREATED:20180608T152832Z
DTSTART:20180809T220000Z
DTEND:20180809T230000Z
DTSTAMP:20260421T052359Z
SUMMARY:Spin FC vs. B Sharps
DESCRIPTION:B Sharps vs. Spin FCMore info: #316
X-ALT-DESC;FMTTYPE=text/html:<!DOCTYPE HTML PUBLIC "-//W3C//DTD HTML 3.2//E
	N">\n<HTML>\n<HEAD>\n<TITLE></TITLE>\n</HEAD>\n<BODY>\n<h3>B Sharps vs. Spi
	n FC</h3>More info: <a href="https://www.golnetwork.com/game/v/125343/">#31
	6</a>\n\n</BODY>\n</HTML>
STATUS:CONFIRMED
CLASS:PUBLIC
URL:https://www.golnetwork.com/game/v/125343/
X-MICROSOFT-CDO-BUSYSTATUS:BUSY
X-MICROSOFT-CDO-IMPORTANCE:1
END:VEVENT
BEGIN:VEVENT
UID:gcmgg@games.golnetwork.com
LOCATION:Central Tech - Field 3
CREATED:20180608T152827Z
DTSTART:20180810T020000Z
DTEND:20180810T030000Z
DTSTAMP:20260421T052359Z
SUMMARY:Fengate FC vs. Cleats by Dre
DESCRIPTION:Cleats by Dre vs. Fengate FCMore info: #333
X-ALT-DESC;FMTTYPE=text/html:<!DOCTYPE HTML PUBLIC "-//W3C//DTD HTML 3.2//E
	N">\n<HTML>\n<HEAD>\n<TITLE></TITLE>\n</HEAD>\n<BODY>\n<h3>Cleats by Dre vs
	. Fengate FC</h3>More info: <a href="https://www.golnetwork.com/game/v/1253
	42/">#333</a>\n\n</BODY>\n</HTML>
STATUS:CONFIRMED
CLASS:PUBLIC
URL:https://www.golnetwork.com/game/v/125342/
X-MICROSOFT-CDO-BUSYSTATUS:BUSY
X-MICROSOFT-CDO-IMPORTANCE:1
END:VEVENT
END:VCALENDAR
