BEGIN:VCALENDAR
PRODID:-//gdesolutions.com//MV Framework 1.0.0.1607 Calendar//EN
VERSION:2.0
METHOD:PUBLISH
CALSCALE:GREGORIAN
BEGIN:VEVENT
UID:gcqmq@games.golnetwork.com
LOCATION:Central Tech - Field 3
CREATED:20180725T182515Z
DTSTART:20180923T230000Z
DTEND:20180923T235000Z
DTSTAMP:20260424T065144Z
SUMMARY:Expatriados FC vs. Futbol United
DESCRIPTION:Futbol United vs. Expatriados FCMore info: #356
X-ALT-DESC;FMTTYPE=text/html:<!DOCTYPE HTML PUBLIC "-//W3C//DTD HTML 3.2//E
	N">\n<HTML>\n<HEAD>\n<TITLE></TITLE>\n</HEAD>\n<BODY>\n<h3>Futbol United vs
	. Expatriados FC</h3>More info: <a href="https://www.golnetwork.com/game/v/
	126886/">#356</a>\n\n</BODY>\n</HTML>
STATUS:CONFIRMED
CLASS:PUBLIC
URL:https://www.golnetwork.com/game/v/126886/
X-MICROSOFT-CDO-BUSYSTATUS:BUSY
X-MICROSOFT-CDO-IMPORTANCE:1
END:VEVENT
BEGIN:VEVENT
UID:gcqn1@games.golnetwork.com
LOCATION:Central Tech - Field 4
CREATED:20180725T182515Z
DTSTART:20180924T000000Z
DTEND:20180924T005000Z
DTSTAMP:20260424T065144Z
SUMMARY:Balls Deep in Yo Net vs. Real Thicc
DESCRIPTION:Real Thicc vs. Balls Deep in Yo NetMore info: #360
X-ALT-DESC;FMTTYPE=text/html:<!DOCTYPE HTML PUBLIC "-//W3C//DTD HTML 3.2//E
	N">\n<HTML>\n<HEAD>\n<TITLE></TITLE>\n</HEAD>\n<BODY>\n<h3>Real Thicc vs. B
	alls Deep in Yo Net</h3>More info: <a href="https://www.golnetwork.com/game
	/v/126887/">#360</a>\n\n</BODY>\n</HTML>
STATUS:CONFIRMED
CLASS:PUBLIC
URL:https://www.golnetwork.com/game/v/126887/
X-MICROSOFT-CDO-BUSYSTATUS:BUSY
X-MICROSOFT-CDO-IMPORTANCE:1
END:VEVENT
BEGIN:VEVENT
UID:gcqn3@games.golnetwork.com
LOCATION:Central Tech - Field 3
CREATED:20180725T182515Z
DTSTART:20180930T230000Z
DTEND:20180930T235000Z
DTSTAMP:20260424T065144Z
SUMMARY:Real Thicc vs. Futbol United
DESCRIPTION:Futbol United vs. Real ThiccMore info: #397
X-ALT-DESC;FMTTYPE=text/html:<!DOCTYPE HTML PUBLIC "-//W3C//DTD HTML 3.2//E
	N">\n<HTML>\n<HEAD>\n<TITLE></TITLE>\n</HEAD>\n<BODY>\n<h3>Futbol United vs
	. Real Thicc</h3>More info: <a href="https://www.golnetwork.com/game/v/1268
	88/">#397</a>\n\n</BODY>\n</HTML>
STATUS:CONFIRMED
CLASS:PUBLIC
URL:https://www.golnetwork.com/game/v/126888/
X-MICROSOFT-CDO-BUSYSTATUS:BUSY
X-MICROSOFT-CDO-IMPORTANCE:1
END:VEVENT
END:VCALENDAR
