BEGIN:VCALENDAR
PRODID:-//gdesolutions.com//MV Framework 1.0.0.1607 Calendar//EN
VERSION:2.0
METHOD:PUBLISH
CALSCALE:GREGORIAN
BEGIN:VEVENT
UID:gdm05@games.golnetwork.com
LOCATION:Central Tech - Field 3
CREATED:20181029T183815Z
DTSTART:20190108T010000Z
DTEND:20190108T020000Z
DTSTAMP:20260419T143915Z
SUMMARY:OLE vs. The Business
DESCRIPTION:The Business vs. OLEMore info: #736
X-ALT-DESC;FMTTYPE=text/html:<!DOCTYPE HTML PUBLIC "-//W3C//DTD HTML 3.2//E
	N">\n<HTML>\n<HEAD>\n<TITLE></TITLE>\n</HEAD>\n<BODY>\n<h3>The Business vs.
	 OLE</h3>More info: <a href="https://www.golnetwork.com/game/v/134962/">#73
	6</a>\n\n</BODY>\n</HTML>
STATUS:CONFIRMED
CLASS:PUBLIC
URL:https://www.golnetwork.com/game/v/134962/
X-MICROSOFT-CDO-BUSYSTATUS:BUSY
X-MICROSOFT-CDO-IMPORTANCE:1
END:VEVENT
BEGIN:VEVENT
UID:gdm07@games.golnetwork.com
LOCATION:Central Tech - Field 3
CREATED:20181029T183815Z
DTSTART:20190108T020000Z
DTEND:20190108T030000Z
DTSTAMP:20260419T143915Z
SUMMARY:Let's Get Schwifty vs. Kiss My Pass
DESCRIPTION:Kiss My Pass vs. Let's Get SchwiftyMore info: #739
X-ALT-DESC;FMTTYPE=text/html:<!DOCTYPE HTML PUBLIC "-//W3C//DTD HTML 3.2//E
	N">\n<HTML>\n<HEAD>\n<TITLE></TITLE>\n</HEAD>\n<BODY>\n<h3>Kiss My Pass vs.
	 Let's Get Schwifty</h3>More info: <a href="https://www.golnetwork.com/game
	/v/134963/">#739</a>\n\n</BODY>\n</HTML>
STATUS:CONFIRMED
CLASS:PUBLIC
URL:https://www.golnetwork.com/game/v/134963/
X-MICROSOFT-CDO-BUSYSTATUS:BUSY
X-MICROSOFT-CDO-IMPORTANCE:1
END:VEVENT
BEGIN:VEVENT
UID:gdm09@games.golnetwork.com
LOCATION:Central Tech - Field 3
CREATED:20181029T183815Z
DTSTART:20190115T010000Z
DTEND:20190115T020000Z
DTSTAMP:20260419T143915Z
SUMMARY:Kiss My Pass vs. OLE
DESCRIPTION:OLE vs. Kiss My PassMore info: #789
X-ALT-DESC;FMTTYPE=text/html:<!DOCTYPE HTML PUBLIC "-//W3C//DTD HTML 3.2//E
	N">\n<HTML>\n<HEAD>\n<TITLE></TITLE>\n</HEAD>\n<BODY>\n<h3>OLE vs. Kiss My 
	Pass</h3>More info: <a href="https://www.golnetwork.com/game/v/134964/">#78
	9</a>\n\n</BODY>\n</HTML>
STATUS:CONFIRMED
CLASS:PUBLIC
URL:https://www.golnetwork.com/game/v/134964/
X-MICROSOFT-CDO-BUSYSTATUS:BUSY
X-MICROSOFT-CDO-IMPORTANCE:1
END:VEVENT
END:VCALENDAR
